BEGIN:VCALENDAR
VERSION:2.0
PRODID:-//Lewisboro Library - ECPv6.15.20//NONSGML v1.0//EN
CALSCALE:GREGORIAN
METHOD:PUBLISH
X-ORIGINAL-URL:https://lewisborolibrary.org
X-WR-CALDESC:Events for Lewisboro Library
REFRESH-INTERVAL;VALUE=DURATION:PT1H
X-Robots-Tag:noindex
X-PUBLISHED-TTL:PT1H
BEGIN:VTIMEZONE
TZID:America/New_York
BEGIN:DAYLIGHT
TZOFFSETFROM:-0500
TZOFFSETTO:-0400
TZNAME:EDT
DTSTART:20230312T070000
END:DAYLIGHT
BEGIN:STANDARD
TZOFFSETFROM:-0400
TZOFFSETTO:-0500
TZNAME:EST
DTSTART:20231105T060000
END:STANDARD
BEGIN:DAYLIGHT
TZOFFSETFROM:-0500
TZOFFSETTO:-0400
TZNAME:EDT
DTSTART:20240310T070000
END:DAYLIGHT
BEGIN:STANDARD
TZOFFSETFROM:-0400
TZOFFSETTO:-0500
TZNAME:EST
DTSTART:20241103T060000
END:STANDARD
BEGIN:DAYLIGHT
TZOFFSETFROM:-0500
TZOFFSETTO:-0400
TZNAME:EDT
DTSTART:20250309T070000
END:DAYLIGHT
BEGIN:STANDARD
TZOFFSETFROM:-0400
TZOFFSETTO:-0500
TZNAME:EST
DTSTART:20251102T060000
END:STANDARD
END:VTIMEZONE
BEGIN:VEVENT
DTSTART;TZID=America/New_York:20240304T160000
DTEND;TZID=America/New_York:20240304T170000
DTSTAMP:20260420T035312
CREATED:20240221T225707Z
LAST-MODIFIED:20240221T225707Z
UID:25431-1709568000-1709571600@lewisborolibrary.org
SUMMARY:Teen MakerSpace
DESCRIPTION:For Teens in Middle & High School \nTeen MakerSpace this March includes crochet\, repurposed paperback hedgehogs\, and “lucky” painted rocks. Try one\, two\, or all three projects at this fun\, creative\, weekly drop-in program. \nDrop in and join us!
URL:https://lewisborolibrary.org/event/teen-makerspace/2024-03-04/
CATEGORIES:Teen
ATTACH;FMTTYPE=image/jpeg:https://lewisborolibrary.org/wp-content/uploads/2024/02/240304-teen.march_.makerspace-compressed.jpg
END:VEVENT
BEGIN:VEVENT
DTSTART;TZID=America/New_York:20240305T190000
DTEND;TZID=America/New_York:20240305T200000
DTSTAMP:20260420T035312
CREATED:20240111T173932Z
LAST-MODIFIED:20240222T191037Z
UID:24600-1709665200-1709668800@lewisborolibrary.org
SUMMARY:Middle Reads: "SCYTHE"
DESCRIPTION:For Grades 6 – 8. \nThis group for middle school teens meets monthly to discuss books while enjoying refreshments. \nThis month we will be discussing the book SCYTHE\, by Neal Shusterman. Citra and Rowan are two young teens who have been handed a role neither one wants.  SCYTHE is the first novel in a series in which two young teens learn that a perfect world comes only with a heavy price. \nSpace is limited\, Please register below.
URL:https://lewisborolibrary.org/event/middle-reads-scythe/
CATEGORIES:Teen
ATTACH;FMTTYPE=image/jpeg:https://lewisborolibrary.org/wp-content/uploads/2024/02/240305-Middle-Reads-Scythe.jpg
END:VEVENT
BEGIN:VEVENT
DTSTART;TZID=America/New_York:20240315T190000
DTEND;TZID=America/New_York:20240315T203000
DTSTAMP:20260420T035312
CREATED:20240213T230018Z
LAST-MODIFIED:20240314T170549Z
UID:25300-1710529200-1710534600@lewisborolibrary.org
SUMMARY:Teen March Madness Mashup - Postponed to April 2
DESCRIPTION:For Teens in Middle & High School. This program has been postponed to April 2.\n \nIt’s fun and games at the Library again! Come play basketball-inspired Minute-to-Win-It games and engage in some Battle of the Books Brackets by voting for your favorite titles. It’s a slam dunk! \nNote: photographs are often taken at our events to post on social media and our website. Please let the event leader know if you would prefer your teen not be photographed.
URL:https://lewisborolibrary.org/event/teen-march-madness-mashup/
CATEGORIES:Teen
ATTACH;FMTTYPE=image/jpeg:https://lewisborolibrary.org/wp-content/uploads/2024/02/240315-Teen-March-Madness.jpg
END:VEVENT
BEGIN:VEVENT
DTSTART;TZID=America/New_York:20240326T190000
DTEND;TZID=America/New_York:20240326T200000
DTSTAMP:20260420T035312
CREATED:20240220T183706Z
LAST-MODIFIED:20240314T202301Z
UID:25395-1711479600-1711483200@lewisborolibrary.org
SUMMARY:Teen Advisory Group
DESCRIPTION:For Teens in Middle & High School.\n \nEARN COMMUNITY SERVICE HOURS * PLAN AND RUN TEEN EVENTS * GAIN LEADERSHIP SKILLS!\nThe Lewisboro Library Teen Advisory Group (or “TAG”) seeks teens to help come up with fun\, engaging programs for you and your friends all year round. \nNew members are welcome to join this group\, which meets monthly for planning – and snacks! \nHelp us make the Library YOUR favorite gathering space! \nPlease register below.
URL:https://lewisborolibrary.org/event/teen-advisory-group-25/
CATEGORIES:Teen
ATTACH;FMTTYPE=image/jpeg:https://lewisborolibrary.org/wp-content/uploads/2024/03/240326-Tag.jpg
END:VEVENT
BEGIN:VEVENT
DTSTART;TZID=America/New_York:20240401T160000
DTEND;TZID=America/New_York:20240401T170000
DTSTAMP:20260420T035312
CREATED:20240314T170958Z
LAST-MODIFIED:20240401T214105Z
UID:25683-1711987200-1711990800@lewisborolibrary.org
SUMMARY:Teen March Madness Mashup - in April!
DESCRIPTION:This event took place on April 1\, per request of those who had registered for the original April 2 date. \nFor Teens in Middle & High School.\n \nIt’s fun and games at the Library during school recess! Come play basketball-inspired Minute-to-Win-It games and engage in some Battle of the Books Brackets by voting for your favorite titles. It’s a slam dunk! \nSpace is limited\, please register below. \nNote: photographs are often taken at our events to post on social media and our website. Please let the event leader know if you would prefer your teen not be photographed.
URL:https://lewisborolibrary.org/event/teen-march-madness-mashup-in-april/
CATEGORIES:Teen
ATTACH;FMTTYPE=image/jpeg:https://lewisborolibrary.org/wp-content/uploads/2024/02/240315-Teen-March-Madness.jpg
END:VEVENT
BEGIN:VEVENT
DTSTART;TZID=America/New_York:20240401T160000
DTEND;TZID=America/New_York:20240401T170000
DTSTAMP:20260420T035312
CREATED:20240318T025631Z
LAST-MODIFIED:20240320T205044Z
UID:25789-1711987200-1711990800@lewisborolibrary.org
SUMMARY:Teen Solar Eclipse Cookies
DESCRIPTION:For Teens in Middle & High School \nA special Spring Recess program. Teens\, get ready for the upcoming solar eclipse by learning about eclipses and frosting cookies to reflect this fascinating astronomical event! \nSolar eclipse glasses will also be handed out to those who register\, so you can safely watch the solar eclipse on Monday\, April 8. \nSpace is limited\, please register below.
URL:https://lewisborolibrary.org/event/teen-solar-eclipse-cookies/
CATEGORIES:Teen
ATTACH;FMTTYPE=image/jpeg:https://lewisborolibrary.org/wp-content/uploads/2024/03/240401-Teen-Makerspace-Eclipse-Cookies.jpg
END:VEVENT
BEGIN:VEVENT
DTSTART;TZID=America/New_York:20240408T160000
DTEND;TZID=America/New_York:20240408T170000
DTSTAMP:20260420T035312
CREATED:20240318T030103Z
LAST-MODIFIED:20240324T220613Z
UID:25795-1712592000-1712595600@lewisborolibrary.org
SUMMARY:Teen MakerSpace
DESCRIPTION:For Teens in Middle & High School \nApril fun includes eclipse cookies\, poetry art\, crochet and spring sweets confections. Try which projects appeal to you at this fun\, creative\, weekly drop-in program. \nDrop in and join us!
URL:https://lewisborolibrary.org/event/teen-makerspace-2/2024-04-08/
CATEGORIES:Teen
ATTACH;FMTTYPE=image/jpeg:https://lewisborolibrary.org/wp-content/uploads/2024/03/240415-Teen-Makerspace-April.jpg
END:VEVENT
BEGIN:VEVENT
DTSTART;TZID=America/New_York:20240409T190000
DTEND;TZID=America/New_York:20240409T200000
DTSTAMP:20260420T035312
CREATED:20240319T190917Z
LAST-MODIFIED:20240409T155845Z
UID:25842-1712689200-1712692800@lewisborolibrary.org
SUMMARY:Middle Reads: "Small Spaces"
DESCRIPTION:For Grades 6 – 8. \nThis group for middle school teens meets monthly to discuss books while enjoying refreshments. \nThis month we will be discussing the book Small Spaces\, by Katherine Arden. The plot: A middle-school student finds herself immersed in a chain of odd events. A deliciously creepy and spine-tingling adventure! \nSpace is limited. Please register below.
URL:https://lewisborolibrary.org/event/middle-reads-small-spaces/
CATEGORIES:Cancelled,Teen
ATTACH;FMTTYPE=image/jpeg:https://lewisborolibrary.org/wp-content/uploads/2024/03/240409-Middle-Reads-Small-Spaces.jpg
END:VEVENT
BEGIN:VEVENT
DTSTART;TZID=America/New_York:20240411T190000
DTEND;TZID=America/New_York:20240411T200000
DTSTAMP:20260420T035312
CREATED:20240319T194928Z
LAST-MODIFIED:20240329T194509Z
UID:25848-1712862000-1712865600@lewisborolibrary.org
SUMMARY:(Virtual) Teen Job Search Workshop
DESCRIPTION:Via Zoom. For Teens in High School. \nLooking to land a part-time or summer job? \nGet tips on applications\, interviews\, resumes & more in this free virtual workshop led by a professional Westchester Library System Career Coach. \nDiscover where to look for jobs\, what kind of jobs are available for teens\, how to answer questions on the job application\, what to include in a resume and what to share and ask during an interview. \nRegister for the Zoom link HERE.
URL:https://lewisborolibrary.org/event/virtual-teen-job-search-workshop-2/
CATEGORIES:Teen
ATTACH;FMTTYPE=image/jpeg:https://lewisborolibrary.org/wp-content/uploads/2023/02/230316-Teen-Job-Search-compressed1.jpg
END:VEVENT
BEGIN:VEVENT
DTSTART;TZID=America/New_York:20240419T190000
DTEND;TZID=America/New_York:20240419T203000
DTSTAMP:20260420T035312
CREATED:20240319T195347Z
LAST-MODIFIED:20240319T195347Z
UID:25850-1713553200-1713558600@lewisborolibrary.org
SUMMARY:Teen Blackout Poetry
DESCRIPTION:For Teens in Middle & High School \nHave you tried blackout poetry? Be right in step – not only with National Poetry month\, but the release date of Taylor Swift’s new album\, The Tortured Poets Department. \nGive it a try – you may be the next lyrical sensation in the making! \nSpace is limited\, please register below. \n 
URL:https://lewisborolibrary.org/event/teen-blackout-poetry/
CATEGORIES:Teen
ATTACH;FMTTYPE=image/jpeg:https://lewisborolibrary.org/wp-content/uploads/2024/03/240419-Teen-Blackout-Poetry.jpg
END:VEVENT
BEGIN:VEVENT
DTSTART;TZID=America/New_York:20240420T160000
DTEND;TZID=America/New_York:20240420T180000
DTSTAMP:20260420T035312
CREATED:20231219T161305Z
LAST-MODIFIED:20240416T150837Z
UID:24275-1713628800-1713636000@lewisborolibrary.org
SUMMARY:Dungeons & Dragons
DESCRIPTION:For Players in Grades 4 – High School. Group will be split according to age.\n \nDungeons and Dragons is a fantasy role playing game. Players work collaboratively through a series of adventures\, gathering treasure and experience points along the way. \nThis co-ed group meets 1-2 times each month. New and experienced players are welcome. \nWe just added an additional Dungeon Master\, so opened up spots for 5 more players in January. Please contact the Library to ask about available space. \nThanks so much to the Pezone family for running our D & D programs!
URL:https://lewisborolibrary.org/event/dungeons-dragons-9-2024-04-20/2024-04-20/
CATEGORIES:Child,Teen
ATTACH;FMTTYPE=image/jpeg:https://lewisborolibrary.org/wp-content/uploads/2023/08/230923-Dungeons-and-Dragons-compressed.jpg
END:VEVENT
BEGIN:VEVENT
DTSTART;TZID=America/New_York:20240430T190000
DTEND;TZID=America/New_York:20240430T200000
DTSTAMP:20260420T035312
CREATED:20240319T195605Z
LAST-MODIFIED:20240319T195605Z
UID:25853-1714503600-1714507200@lewisborolibrary.org
SUMMARY:Teen Advisory Group
DESCRIPTION:For Teens in Middle & High School.\n \nEARN COMMUNITY SERVICE HOURS * PLAN AND RUN TEEN EVENTS * GAIN LEADERSHIP SKILLS!\nThe Lewisboro Library Teen Advisory Group (or “TAG”) seeks teens to help come up with fun\, engaging programs for you and your friends all year round. \nNew members are welcome to join this group\, which meets monthly for planning – and snacks! \nHelp us make the Library YOUR favorite gathering space! \nPlease register below.
URL:https://lewisborolibrary.org/event/teen-advisory-group-26/
CATEGORIES:Teen
ATTACH;FMTTYPE=image/jpeg:https://lewisborolibrary.org/wp-content/uploads/2024/03/240326-Tag.jpg
END:VEVENT
BEGIN:VEVENT
DTSTART;TZID=America/New_York:20240510T190000
DTEND;TZID=America/New_York:20240510T200000
DTSTAMP:20260420T035312
CREATED:20240429T200727Z
LAST-MODIFIED:20240429T200727Z
UID:26624-1715367600-1715371200@lewisborolibrary.org
SUMMARY:Teen Bracelet Making: for you\, for MOM
DESCRIPTION:For Teens in Middle & High School \nWe’re opening up our vault of bracelet-making supplies! \nMake a bracelet for you\, a friend\, and for MOM\, because Mother’s Day is May 12 ….. Don’t be caught empty-handed! \nAll supplies provided. Please register below.
URL:https://lewisborolibrary.org/event/teen-bracelet-making-for-you-for-mom/
CATEGORIES:Teen
ATTACH;FMTTYPE=image/jpeg:https://lewisborolibrary.org/wp-content/uploads/2024/04/240510-Bracelets.jpg
END:VEVENT
BEGIN:VEVENT
DTSTART;TZID=America/New_York:20240521T163000
DTEND;TZID=America/New_York:20240521T173000
DTSTAMP:20260420T035312
CREATED:20240422T162447Z
LAST-MODIFIED:20240515T155657Z
UID:26449-1716309000-1716312600@lewisborolibrary.org
SUMMARY:Rising 6th Graders Welcome Party!
DESCRIPTION:For students entering grade 6 in September. \nHey kids – you’re in the big leagues now! Rising 6th graders are invited to come check out the teen section of the Lewisboro Library. Hear about teen activities\, enjoy some snacks\, meet our super-fun teen librarian\, play Bingo for giveaways and try a library scavenger hunt! \nPlease register below.
URL:https://lewisborolibrary.org/event/rising-6th-graders-welcome-party/
CATEGORIES:Teen
ATTACH;FMTTYPE=image/jpeg:https://lewisborolibrary.org/wp-content/uploads/2024/05/240521-Rising-6th-Grader-Welcome-Party.jpg
END:VEVENT
BEGIN:VEVENT
DTSTART;TZID=America/New_York:20240521T190000
DTEND;TZID=America/New_York:20240521T200000
DTSTAMP:20260420T035312
CREATED:20240422T162736Z
LAST-MODIFIED:20240422T162736Z
UID:26452-1716318000-1716321600@lewisborolibrary.org
SUMMARY:Teen Advisory Group
DESCRIPTION:Teens in Middle & High School.\n \nEARN COMMUNITY SERVICE HOURS * PLAN AND RUN TEEN EVENTS * GAIN LEADERSHIP SKILLS!\nThe Lewisboro Library Teen Advisory Group (or “TAG”) seeks teens to help come up with fun\, engaging programs for you and your friends all year round. \nNew members are welcome to join this group\, which meets monthly for planning – and snacks! \nHelp us make the Library YOUR favorite gathering space! \nPlease register below.
URL:https://lewisborolibrary.org/event/teen-advisory-group-27/
CATEGORIES:Teen
ATTACH;FMTTYPE=image/jpeg:https://lewisborolibrary.org/wp-content/uploads/2024/03/240326-Tag.jpg
END:VEVENT
BEGIN:VEVENT
DTSTART;TZID=America/New_York:20240525T160000
DTEND;TZID=America/New_York:20240525T170000
DTSTAMP:20260420T035312
CREATED:20231219T161305Z
LAST-MODIFIED:20240416T151110Z
UID:26381-1716652800-1716656400@lewisborolibrary.org
SUMMARY:Dungeons & Dragons End of Year Celebration
DESCRIPTION:For Players in Grades 4 – High School. Group will be split according to age.\n \nAn end of year celebration for our existing Dungeons and Dragons players. \nPlayers interested in joining in September should email the Library. \nThanks so much to the Pezone family for running our D & D programs!
URL:https://lewisborolibrary.org/event/dungeons-dragons-9-2024-04-20-2024-05-25/
CATEGORIES:Child,Teen
ATTACH;FMTTYPE=image/jpeg:https://lewisborolibrary.org/wp-content/uploads/2023/08/230923-Dungeons-and-Dragons-compressed.jpg
END:VEVENT
BEGIN:VEVENT
DTSTART;TZID=America/New_York:20240617T190000
DTEND;TZID=America/New_York:20240617T203000
DTSTAMP:20260420T035312
CREATED:20240521T210948Z
LAST-MODIFIED:20240613T231833Z
UID:26981-1718650800-1718656200@lewisborolibrary.org
SUMMARY:Teen Summer Reading Kickoff: Cupcake Wars!
DESCRIPTION:For Teens/Tweens Entering Grades 6-12 in the fall. \nBring your best design skills to decorate cupcakes in our summer reading theme of Adventure: (camping\, at the beach and road trips). Learn all about the Summer Reading Program and related activities.\n\nPlease register below.
URL:https://lewisborolibrary.org/event/teen-summer-reading-kickoff-cupcake-wars/
CATEGORIES:Teen
ATTACH;FMTTYPE=image/jpeg:https://lewisborolibrary.org/wp-content/uploads/2024/05/240617-Teen-Kickoff-cupcake-wars-compressed.jpg
END:VEVENT
BEGIN:VEVENT
DTSTART;TZID=America/New_York:20240625T190000
DTEND;TZID=America/New_York:20240625T200000
DTSTAMP:20260420T035312
CREATED:20240521T212544Z
LAST-MODIFIED:20240521T212544Z
UID:26984-1719342000-1719345600@lewisborolibrary.org
SUMMARY:College Experience Panel - Get the Inside Scoop!
DESCRIPTION:For Teens in High School\n\nWondering what life holds beyond high school?\n\nMeet JJHS grads who are current college students or recent grads.  Ask real questions; get real answers!\n\nPlease register below.
URL:https://lewisborolibrary.org/event/college-experience-panel-get-the-inside-scoop/
CATEGORIES:Teen
ATTACH;FMTTYPE=image/jpeg:https://lewisborolibrary.org/wp-content/uploads/2024/03/240417-College-Planning.jpg
END:VEVENT
BEGIN:VEVENT
DTSTART;TZID=America/New_York:20240702T190000
DTEND;TZID=America/New_York:20240702T203000
DTSTAMP:20260420T035312
CREATED:20240611T233128Z
LAST-MODIFIED:20240611T233128Z
UID:27204-1719946800-1719952200@lewisborolibrary.org
SUMMARY:Teen Summer Coolers from other Cultures: Indian Lassi
DESCRIPTION:For teens entering grades 6 – 12. \nLearn about the culture of India as we make this super refreshing drink. We’ll also experiment with temporary body markers while learning about the cultural significance of the body art of henna/mehndi. \nSpace is limited\, please register below
URL:https://lewisborolibrary.org/event/teen-summer-coolers-from-other-cultures-indian-lassi/
CATEGORIES:Teen
ATTACH;FMTTYPE=image/jpeg:https://lewisborolibrary.org/wp-content/uploads/2024/06/240702-SUmmer-Coolers-Indian.jpg
END:VEVENT
BEGIN:VEVENT
DTSTART;TZID=America/New_York:20240709T163000
DTEND;TZID=America/New_York:20240709T173000
DTSTAMP:20260420T035312
CREATED:20240611T233740Z
LAST-MODIFIED:20240709T030544Z
UID:27207-1720542600-1720546200@lewisborolibrary.org
SUMMARY:Teen Actors' Studio
DESCRIPTION:For teens entering grades 6 – 12. \nWe’ve got some short\, one-act\, funny skits just waiting to come alive with our local teen talent. \nNot just for drama kids!   Try something new! \nSpace is limited\, please register below.
URL:https://lewisborolibrary.org/event/teen-actors-studio/
CATEGORIES:Teen
ATTACH;FMTTYPE=image/jpeg:https://lewisborolibrary.org/wp-content/uploads/2024/06/240709-Teen-Actors-Studio.jpg
END:VEVENT
BEGIN:VEVENT
DTSTART;TZID=America/New_York:20240719T190000
DTEND;TZID=America/New_York:20240719T203000
DTSTAMP:20260420T035312
CREATED:20240612T024329Z
LAST-MODIFIED:20240712T131649Z
UID:27210-1721415600-1721421000@lewisborolibrary.org
SUMMARY:Karate for Teens: Self-Defense
DESCRIPTION:For teens entering grades 6-12. \nLearn self-defense moves with Sensei Deegan of Kempo Academy in Cross River\, Northern Westchester’s leader in karate and martial arts. \nSpace is limited\, please register below. \nIf registration is full\, please email the Library to be placed on the wait list. We usually get a few cancellations when we send out a reminder two days before the event.
URL:https://lewisborolibrary.org/event/karate-for-teens-self-defense/
CATEGORIES:Teen
ATTACH;FMTTYPE=image/jpeg:https://lewisborolibrary.org/wp-content/uploads/2024/07/240719-Teen-karate.jpg
END:VEVENT
BEGIN:VEVENT
DTSTART;TZID=America/New_York:20240726T190000
DTEND;TZID=America/New_York:20240726T203000
DTSTAMP:20260420T035312
CREATED:20240612T170048Z
LAST-MODIFIED:20240712T131521Z
UID:27221-1722020400-1722025800@lewisborolibrary.org
SUMMARY:Teen Paint Night
DESCRIPTION:For Teens entering grades 6 – 12. \nSpend an evening with your peers painting a beautiful outdoor scene\, under the instruction of local artist/teacher Samantha Kanner. \nSpace is limited.  Please register below. \nIf registration is full\, please email the Library to be placed on the wait list. We usually get a few cancellations when we send out a reminder two days before the event.
URL:https://lewisborolibrary.org/event/teen-paint-night-7/
CATEGORIES:Teen
ATTACH;FMTTYPE=image/jpeg:https://lewisborolibrary.org/wp-content/uploads/2024/06/240726-Teen-Paint-Night.jpg
END:VEVENT
BEGIN:VEVENT
DTSTART;TZID=America/New_York:20240801T160000
DTEND;TZID=America/New_York:20240801T174500
DTSTAMP:20260420T035312
CREATED:20230613T001734Z
LAST-MODIFIED:20240801T150050Z
UID:20774-1722528000-1722534300@lewisborolibrary.org
SUMMARY:Summer D & D
DESCRIPTION:For Grades 5 – 10 \nDungeons and Dragons is a fantasy role playing game. Players work collaboratively through a series of adventures\, gathering treasure and experience points along the way. \nThis new group will meet weekly during August only. \nSpace is limited. Please register below for the 5-week program. \n 
URL:https://lewisborolibrary.org/event/summer-d-d-for-teens/
CATEGORIES:Teen
ATTACH;FMTTYPE=image/jpeg:https://lewisborolibrary.org/wp-content/uploads/2023/06/230712-Summer-D-D-for-Teens-compressed1.jpg
END:VEVENT
BEGIN:VEVENT
DTSTART;TZID=America/New_York:20240806T190000
DTEND;TZID=America/New_York:20240806T200000
DTSTAMP:20260420T035312
CREATED:20240612T173132Z
LAST-MODIFIED:20240805T153734Z
UID:27226-1722970800-1722974400@lewisborolibrary.org
SUMMARY:Boast the Book
DESCRIPTION:For teens entering grades 6 – 12. Unfortunately\, this program is being postponed to a later date.  Stay tuned for details.\n \n        Sit around our indoor campfire\, enjoy snacks and swap thoughts with others on your favorite books and authors. \nBookTok readers\, take note! \nSpace is limited\, please register below.
URL:https://lewisborolibrary.org/event/boast-the-book/
CATEGORIES:Postponed,Teen
ATTACH;FMTTYPE=image/jpeg:https://lewisborolibrary.org/wp-content/uploads/2024/06/240806-Boast-the-Book.jpg
END:VEVENT
BEGIN:VEVENT
DTSTART;TZID=America/New_York:20240808T160000
DTEND;TZID=America/New_York:20240808T174500
DTSTAMP:20260420T035312
CREATED:20230613T001734Z
LAST-MODIFIED:20240731T212419Z
UID:28129-1723132800-1723139100@lewisborolibrary.org
SUMMARY:Summer D & D
DESCRIPTION:For Grades 5 – 10 \nDungeons and Dragons is a fantasy role playing game. Players work collaboratively through a series of adventures\, gathering treasure and experience points along the way. \nThis new group will meet weekly during August only. \nSpace is limited. Please register below for the remaining weeks. \n 
URL:https://lewisborolibrary.org/event/summer-d-d-for-teens-2024-08-08/2024-08-08/
CATEGORIES:Teen
ATTACH;FMTTYPE=image/jpeg:https://lewisborolibrary.org/wp-content/uploads/2023/06/230712-Summer-D-D-for-Teens-compressed1.jpg
END:VEVENT
BEGIN:VEVENT
DTSTART;TZID=America/New_York:20240816T190000
DTEND;TZID=America/New_York:20240816T203000
DTSTAMP:20260420T035312
CREATED:20240612T174714Z
LAST-MODIFIED:20240805T163300Z
UID:27230-1723834800-1723840200@lewisborolibrary.org
SUMMARY:Teen Murder Mystery
DESCRIPTION:For teens entering grades 6 – 12. \nTravel back to an 80’s roller rink and use your smarts to figure out whodunit. \nSpace is limited\, please register below. If registration is full\, please email the Library to go on the wait list.  We usually get cancellations the day before.
URL:https://lewisborolibrary.org/event/teen-murder-mystery/
CATEGORIES:Teen
ATTACH;FMTTYPE=image/jpeg:https://lewisborolibrary.org/wp-content/uploads/2021/06/210803-Creative-Writing-Murder-Mystery-compressed.jpg
END:VEVENT
BEGIN:VEVENT
DTSTART;TZID=America/New_York:20240820T190000
DTEND;TZID=America/New_York:20240820T203000
DTSTAMP:20260420T035312
CREATED:20240612T191156Z
LAST-MODIFIED:20240612T191156Z
UID:27233-1724180400-1724185800@lewisborolibrary.org
SUMMARY:Teen Summer Reading Finale: Slime Time
DESCRIPTION:For teens entering grades 6 – 12\, who participated in the Summer Reading Program. \nCome collect your prizes for your Summer Reading success! We’ll also do some DIY slime. \nPlease register below.
URL:https://lewisborolibrary.org/event/teen-summer-reading-finale-slime-time/
CATEGORIES:Teen
ATTACH;FMTTYPE=image/jpeg:https://lewisborolibrary.org/wp-content/uploads/2024/06/240820-Sumer-Reading-Finale-Slime-Time.jpg
END:VEVENT
BEGIN:VEVENT
DTSTART;TZID=America/New_York:20240924T190000
DTEND;TZID=America/New_York:20240924T200000
DTSTAMP:20260420T035312
CREATED:20240822T174348Z
LAST-MODIFIED:20240822T174348Z
UID:28729-1727204400-1727208000@lewisborolibrary.org
SUMMARY:Teen Advisory Group
DESCRIPTION:Teens in Middle & High School.\n \nEARN COMMUNITY SERVICE HOURS * PLAN AND RUN TEEN EVENTS * GAIN LEADERSHIP SKILLS!\nThe Lewisboro Library Teen Advisory Group (or “TAG”) seeks teens to help come up with fun\, engaging programs for you and your friends all year round. \nNew members are welcome to join this group\, which meets monthly for planning – and snacks! \nHelp us make the Library YOUR favorite gathering space! \nPlease register below.
URL:https://lewisborolibrary.org/event/teen-advisory-group-28/
CATEGORIES:Teen
ATTACH;FMTTYPE=image/jpeg:https://lewisborolibrary.org/wp-content/uploads/2024/03/240326-Tag.jpg
END:VEVENT
BEGIN:VEVENT
DTSTART;TZID=America/New_York:20241005T160000
DTEND;TZID=America/New_York:20241005T180000
DTSTAMP:20260420T035312
CREATED:20240902T211124Z
LAST-MODIFIED:20240902T211304Z
UID:28885-1728144000-1728151200@lewisborolibrary.org
SUMMARY:Dungeons & Dragons: Grades 4 - 12
DESCRIPTION:For Players in Grades 4 – 12. Groups will be formed according to age.\n \nDungeons and Dragons is a fantasy role playing game. Players work collaboratively through a series of adventures\, gathering treasure and experience points along the way. \nThe group will meet five Saturdays this fall. New and experienced players are welcome. \nSpace is limited. Please register below for the fall session. If registration is full\, please contact the Library to ask about available space. \nThanks so much to the Pezone family for organizing our D & D programs!
URL:https://lewisborolibrary.org/event/dungeons-dragons-grades-4-12/
CATEGORIES:Child,Teen
ATTACH;FMTTYPE=image/jpeg:https://lewisborolibrary.org/wp-content/uploads/2023/08/230923-Dungeons-and-Dragons-compressed.jpg
END:VEVENT
BEGIN:VEVENT
DTSTART;TZID=America/New_York:20241007T160000
DTEND;TZID=America/New_York:20241007T170000
DTSTAMP:20260420T035312
CREATED:20240924T201245Z
LAST-MODIFIED:20240926T201845Z
UID:29207-1728316800-1728320400@lewisborolibrary.org
SUMMARY:Repurposed Book Pumpkin
DESCRIPTION:For Teens in Middle & High School \nReduce\, reuse\, recycle and give an old book new life in a crafty way! \nRegistration appreciated\, drop-ins welcome. Please register below.
URL:https://lewisborolibrary.org/event/repurposed-book-pumpkin/
CATEGORIES:Teen
ATTACH;FMTTYPE=image/jpeg:https://lewisborolibrary.org/wp-content/uploads/2024/09/241007-Repurposed-Book-Pumpkin.jpg
END:VEVENT
END:VCALENDAR