BEGIN:VCALENDAR
VERSION:2.0
PRODID:-//Lewisboro Library - ECPv6.15.20//NONSGML v1.0//EN
CALSCALE:GREGORIAN
METHOD:PUBLISH
X-ORIGINAL-URL:https://lewisborolibrary.org
X-WR-CALDESC:Events for Lewisboro Library
REFRESH-INTERVAL;VALUE=DURATION:PT1H
X-Robots-Tag:noindex
X-PUBLISHED-TTL:PT1H
BEGIN:VTIMEZONE
TZID:America/New_York
BEGIN:DAYLIGHT
TZOFFSETFROM:-0500
TZOFFSETTO:-0400
TZNAME:EDT
DTSTART:20200308T070000
END:DAYLIGHT
BEGIN:STANDARD
TZOFFSETFROM:-0400
TZOFFSETTO:-0500
TZNAME:EST
DTSTART:20201101T060000
END:STANDARD
BEGIN:DAYLIGHT
TZOFFSETFROM:-0500
TZOFFSETTO:-0400
TZNAME:EDT
DTSTART:20210314T070000
END:DAYLIGHT
BEGIN:STANDARD
TZOFFSETFROM:-0400
TZOFFSETTO:-0500
TZNAME:EST
DTSTART:20211107T060000
END:STANDARD
BEGIN:DAYLIGHT
TZOFFSETFROM:-0500
TZOFFSETTO:-0400
TZNAME:EDT
DTSTART:20220313T070000
END:DAYLIGHT
BEGIN:STANDARD
TZOFFSETFROM:-0400
TZOFFSETTO:-0500
TZNAME:EST
DTSTART:20221106T060000
END:STANDARD
END:VTIMEZONE
BEGIN:VEVENT
DTSTART;TZID=America/New_York:20210511T190000
DTEND;TZID=America/New_York:20210511T200000
DTSTAMP:20260423T031428
CREATED:20210419T203239Z
LAST-MODIFIED:20210419T203239Z
UID:8703-1620759600-1620763200@lewisborolibrary.org
SUMMARY:(Virtual) Middle Reads
DESCRIPTION:Via Zoom. For teens in grades 6 – 8. \nJoin us for monthly virtual book discussions and socializing! Books are available for pickup at the Library. \nThe book selection for May 11 is The Night Diary\, by Veera Hiranandani.  In this hopeful tale of India’s partition\, a young teen struggles to find a new home in a divided country. Please register below to receive your Zoom link.
URL:https://lewisborolibrary.org/event/virtual-middle-reads-9/
CATEGORIES:Teen
ATTACH;FMTTYPE=image/jpeg:https://lewisborolibrary.org/wp-content/uploads/2021/04/210511-Middle-Read-The-Night-Diary-compressed.jpg
END:VEVENT
BEGIN:VEVENT
DTSTART;TZID=America/New_York:20210512T163000
DTEND;TZID=America/New_York:20210512T173000
DTSTAMP:20260423T031428
CREATED:20210419T210724Z
LAST-MODIFIED:20210510T180314Z
UID:8707-1620837000-1620840600@lewisborolibrary.org
SUMMARY:Bicycle Safety Clinic
DESCRIPTION:For students in grades 5 and up\n\nSpring is here and it is a great time to get outside on your bike – and keep safe while you ride!\n\nBefore doing that\, bring your bike to the outdoor clinic at the Library and learn smart cycling tips from members of the Westchester Cycle Club. They will also demonstrate helmet fitting\, basic bike maintenance\, hand signals\, etc.\nThis program will be rescheduled this summer and will require registration.
URL:https://lewisborolibrary.org/event/bicycle-safety-clinic/
CATEGORIES:Postponed,Teen
ATTACH;FMTTYPE=image/jpeg:https://lewisborolibrary.org/wp-content/uploads/2021/04/210512-Bike-Safety-Clinic-compressed-1.jpg
END:VEVENT
BEGIN:VEVENT
DTSTART;TZID=America/New_York:20210515T140000
DTEND;TZID=America/New_York:20210515T150000
DTSTAMP:20260423T031428
CREATED:20210414T024304Z
LAST-MODIFIED:20210414T024304Z
UID:8616-1621087200-1621090800@lewisborolibrary.org
SUMMARY:Tie-Dye Masks
DESCRIPTION:For teens in middle & high school. \nTie-Dye is back! Create a fun and colorful mask or two with us\, just in time for summer. This program will be outdoors. Masks are required. \nSpace is limited\, please register below.
URL:https://lewisborolibrary.org/event/tie-dye-masks/
CATEGORIES:Teen
ATTACH;FMTTYPE=image/jpeg:https://lewisborolibrary.org/wp-content/uploads/2021/04/210515-Tie-Dye-Masks-compressed.jpg
END:VEVENT
BEGIN:VEVENT
DTSTART;TZID=America/New_York:20210518T160000
DTEND;TZID=America/New_York:20210518T173000
DTSTAMP:20260423T031428
CREATED:20210414T024802Z
LAST-MODIFIED:20210518T161818Z
UID:8621-1621353600-1621359000@lewisborolibrary.org
SUMMARY:Catapult Challenge
DESCRIPTION:For Teens in Middle & High School. \nUsing simple supplies\, we’ll experiment making three different catapult designs and find out which catapult sends our ping pong balls the farthest.  This program will be outdoors. Masks are required. \nSpace is limited\, please register below.
URL:https://lewisborolibrary.org/event/catapult-challenge/
CATEGORIES:Cancelled,Teen
ATTACH;FMTTYPE=image/jpeg:https://lewisborolibrary.org/wp-content/uploads/2021/04/210518-Catapult-Challenge-compressed.jpg
END:VEVENT
BEGIN:VEVENT
DTSTART;TZID=America/New_York:20210519T170000
DTEND;TZID=America/New_York:20210519T180000
DTSTAMP:20260423T031428
CREATED:20210420T155730Z
LAST-MODIFIED:20210519T161523Z
UID:8722-1621443600-1621447200@lewisborolibrary.org
SUMMARY:Teen Yoga on the Lawn
DESCRIPTION:For Teens in Middle & High School. \nJoin Firefly Yoga instructor Ellen for monthly Yoga on the Lawn classes for teens. \nLearn techniques to help de-stress and relax as the school year winds down. Please bring your own yoga mat\, mask and water bottle\, and plan to arrive by 4:45\, so the class can start promptly. \nSpace is limited. Please register below.
URL:https://lewisborolibrary.org/event/teen-yoga-on-the-lawn-3/
CATEGORIES:Postponed,Teen
ATTACH;FMTTYPE=image/jpeg:https://lewisborolibrary.org/wp-content/uploads/2021/04/210519-Yoga-on-the-Lawn-socially-distanced-compressed.jpg
END:VEVENT
BEGIN:VEVENT
DTSTART;TZID=America/New_York:20210525T193000
DTEND;TZID=America/New_York:20210525T203000
DTSTAMP:20260423T031428
CREATED:20210420T182509Z
LAST-MODIFIED:20210420T182509Z
UID:8739-1621971000-1621974600@lewisborolibrary.org
SUMMARY:(Virtual) Teen Advisory Group
DESCRIPTION:Via Zoom. For Teens in Middle & High School. \nThe Lewisboro Library Teen Advisory Group (or “TAG”) helps plan special events for teens and younger children. Creative thinkers are especially needed to help develop engaging programs for our teens during this pandemic. We’re hoping to be able to have in-person meetings soon! \nBeing part of TAG looks great on your college resume. \nTo join TAG\, please contact Jane Rothschild at 875-9004.
URL:https://lewisborolibrary.org/event/virtual-teen-advisory-group-7/
CATEGORIES:Teen
ATTACH;FMTTYPE=image/jpeg:https://lewisborolibrary.org/wp-content/uploads/2019/10/TAG-2.jpg
END:VEVENT
BEGIN:VEVENT
DTSTART;TZID=America/New_York:20210602T183000
DTEND;TZID=America/New_York:20210602T193000
DTSTAMP:20260423T031428
CREATED:20210420T160919Z
LAST-MODIFIED:20210602T144308Z
UID:8732-1622658600-1622662200@lewisborolibrary.org
SUMMARY:Teen Yoga on the Lawn - Cancelled
DESCRIPTION:For Teens in Middle & High School. \nThis class has been cancelled due to low registration. Please contact the Library is you think your teen would be interested in a summer session.
URL:https://lewisborolibrary.org/event/teen-yoga-on-the-lawn-4/
CATEGORIES:Cancelled,Teen
ATTACH;FMTTYPE=image/jpeg:https://lewisborolibrary.org/wp-content/uploads/2021/04/210519-Yoga-on-the-Lawn-socially-distanced-compressed.jpg
END:VEVENT
BEGIN:VEVENT
DTSTART;TZID=America/New_York:20210608T190000
DTEND;TZID=America/New_York:20210608T200000
DTSTAMP:20260423T031428
CREATED:20210519T203227Z
LAST-MODIFIED:20210519T203227Z
UID:9109-1623178800-1623182400@lewisborolibrary.org
SUMMARY:(Virtual) Middle Reads: "Too Bright to See"
DESCRIPTION:Via Zoom. For teens in grades 6 – 8. \nJoin us for monthly virtual book discussions and socializing! Books are available for pickup at the Library. \nThe book selection for June 8 is Too Bright to See\, by Kyle Lukoff. In the summer before middle school\, eleven-year-old Bug’s best friend Moira has decided the two of them need to use the next few months to prepare. For Moira\, this means figuring out the right clothes to wear and learning how to put on makeup. But this isn’t appealing to Bug\, who doesn’t want to spend more time trying to understand how to be a girl. Besides\, there’s something more important to worry about: A ghost is haunting Bug’s eerie old house … and maybe haunting Bug in particular. As Bug begins to untangle the mystery of who this ghost is and what they’re trying to say\, an altogether different truth comes to light – Bug is transgender. \n\nPlease register below to receive your Zoom link.
URL:https://lewisborolibrary.org/event/virtual-middle-reads-too-bright-to-see/
CATEGORIES:Teen
ATTACH;FMTTYPE=image/jpeg:https://lewisborolibrary.org/wp-content/uploads/2021/05/210608-Middle-Reads-Too-Bright-to-See-compressed.jpg
END:VEVENT
BEGIN:VEVENT
DTSTART;TZID=America/New_York:20210616T190000
DTEND;TZID=America/New_York:20210616T200000
DTSTAMP:20260423T031428
CREATED:20210603T035006Z
LAST-MODIFIED:20210603T035006Z
UID:9267-1623870000-1623873600@lewisborolibrary.org
SUMMARY:Teen Summer Reading Kickoff!
DESCRIPTION:For Teens in Middle & High School. Rain date is June 23.\n \nLearn all about our Teen Summer reading program\, make a strawberry parfait on the lawn – and then let loose with some water balloons! \nOutdoors\, socially distanced. Wear a mask when not eating. Bring a towel! \nPlease register below. \n 
URL:https://lewisborolibrary.org/event/teen-summer-reading-kickoff-2/
CATEGORIES:Teen
ATTACH;FMTTYPE=image/jpeg:https://lewisborolibrary.org/wp-content/uploads/2021/06/210616-Teen-Summer-Reading-Kickoff-compressed.jpg
END:VEVENT
BEGIN:VEVENT
DTSTART;VALUE=DATE:20210628
DTEND;VALUE=DATE:20210703
DTSTAMP:20260423T031428
CREATED:20210603T040213Z
LAST-MODIFIED:20210603T182359Z
UID:9272-1624838400-1625270399@lewisborolibrary.org
SUMMARY:Teen Take & Make: Magazine Strip Art
DESCRIPTION:For Teens in Middle & High School. \nCreate a colorful silhouette of an animal of your choice\, using strips of magazine pages to build color\, texture and layers. \nThis is a DIY craft that you can do on your own time. Kits with complete instructions will be available for pick up anytime during the week of June 28-July 2. There are a limited number of kits\, so get yours early that week! \nA great activity to do with friends! \n 
URL:https://lewisborolibrary.org/event/teen-take-make-magazine-strip-art/
CATEGORIES:Teen
ATTACH;FMTTYPE=image/jpeg:https://lewisborolibrary.org/wp-content/uploads/2021/06/210628-Magazine-Strip-Art-compressed.jpg
END:VEVENT
BEGIN:VEVENT
DTSTART;TZID=America/New_York:20210628T163000
DTEND;TZID=America/New_York:20210628T173000
DTSTAMP:20260423T031428
CREATED:20210607T023233Z
LAST-MODIFIED:20210621T181001Z
UID:9342-1624897800-1624901400@lewisborolibrary.org
SUMMARY:DIY Solar Oven S'mores
DESCRIPTION:For Teens in Middle and High School. Rain date is June 29 (or June 30 if needed). \nHarness the energy of the sun to make this delicious snack. It all starts with a cardboard box! \nOutdoors\, socially distanced. Wear a mask when not eating. \nPlease register below\, so we have enough supplies.
URL:https://lewisborolibrary.org/event/diy-solar-oven-smores/
CATEGORIES:Teen
ATTACH;FMTTYPE=image/jpeg:https://lewisborolibrary.org/wp-content/uploads/2021/06/210625-DIY-Solar-Oven-Smorescompressed.jpg
END:VEVENT
BEGIN:VEVENT
DTSTART;TZID=America/New_York:20210629T190000
DTEND;TZID=America/New_York:20210629T200000
DTSTAMP:20260423T031428
CREATED:20210607T215524Z
LAST-MODIFIED:20210623T170917Z
UID:9396-1624993200-1624996800@lewisborolibrary.org
SUMMARY:Teen Advisory Group
DESCRIPTION:For Teens in Middle & High School. (Welcome incoming sixth graders!)\n \nWe’re very excited to announce that we are resuming our monthly meetings in person at the Library! \nThe Lewisboro Library Teen Advisory Group (or “TAG”) seeks teens to come up with fun\, engaging programs for you and your peers. New members and anyone interested welcome. Registration required. Pizza and beverages served. \nPlease register below\, so we know how much pizza to order!
URL:https://lewisborolibrary.org/event/virtual-teen-advisory-group-8/
CATEGORIES:Teen
ATTACH;FMTTYPE=image/jpeg:https://lewisborolibrary.org/wp-content/uploads/2021/06/TAG-2.jpg
END:VEVENT
BEGIN:VEVENT
DTSTART;TZID=America/New_York:20210709T190000
DTEND;TZID=America/New_York:20210709T210000
DTSTAMP:20260423T031428
CREATED:20210623T015257Z
LAST-MODIFIED:20210623T015257Z
UID:9769-1625857200-1625864400@lewisborolibrary.org
SUMMARY:Teen Paint Night
DESCRIPTION:For Teens in Middle & High School \nSpend an evening painting a beautiful sea-themed scene with your peers\, under the instruction of local artist/teacher Samantha Kanner.  \nSpace is limited. Please register below.
URL:https://lewisborolibrary.org/event/teen-paint-night/
CATEGORIES:Teen
ATTACH;FMTTYPE=image/jpeg:https://lewisborolibrary.org/wp-content/uploads/2021/06/210709-Teen-Paint-Night-compressed.jpg
END:VEVENT
BEGIN:VEVENT
DTSTART;TZID=America/New_York:20210712T103000
DTEND;TZID=America/New_York:20210716T170000
DTSTAMP:20260423T031428
CREATED:20210623T020114Z
LAST-MODIFIED:20210623T020114Z
UID:9772-1626085800-1626454800@lewisborolibrary.org
SUMMARY:Teen Take and Make: Mini Stomp Rocket
DESCRIPTION:For Teens in Middle & High School. \nUse a juice pouch and other simple materials to construct this fun STEAM project. Make it on your own\, or with friends. \nThis is a DIY craft that you can do on your own time. Kits with complete instructions will be available for pick up anytime during the week of July 12 – July 16. There are a limited number of kits\, so get yours early! \n 
URL:https://lewisborolibrary.org/event/teen-take-and-make-mini-stomp-rocket/
CATEGORIES:Teen
ATTACH;FMTTYPE=image/jpeg:https://lewisborolibrary.org/wp-content/uploads/2021/06/210712-Mini-Stomp-Rockets-compressed.jpg
END:VEVENT
BEGIN:VEVENT
DTSTART;TZID=America/New_York:20210713T190000
DTEND;TZID=America/New_York:20210713T200000
DTSTAMP:20260423T031428
CREATED:20210623T014614Z
LAST-MODIFIED:20210713T170443Z
UID:9764-1626202800-1626206400@lewisborolibrary.org
SUMMARY:Middle Reads Celebration
DESCRIPTION:Teens in Grades 6 – 8 \nIt’s a relaxed celebration of our 2020-21 season and welcome to incoming sixth graders! \nWe’ll meet in person at the Library\, either outdoors or in\, depending on the weather. Bring a mask in case we meet indoors. \nJoin us for pizza\, beverages\, conversation – and make your pitch for our next season’s reading selections. \nPlease register below so we know how much pizza to order. \n 
URL:https://lewisborolibrary.org/event/middle-reads-celebration/
CATEGORIES:Cancelled,Teen
ATTACH;FMTTYPE=image/jpeg:https://lewisborolibrary.org/wp-content/uploads/2021/06/210713-Middle-Reads-compressed.jpg
END:VEVENT
BEGIN:VEVENT
DTSTART;TZID=America/New_York:20210721T190000
DTEND;TZID=America/New_York:20210721T200000
DTSTAMP:20260423T031428
CREATED:20210623T020829Z
LAST-MODIFIED:20210623T162647Z
UID:9774-1626894000-1626897600@lewisborolibrary.org
SUMMARY:Teen Tie-Dye T-Shirt
DESCRIPTION:For Teens in Middle & High School. \nChoose from some simple patterns to design your own t-shirt. We’ll be outdoors and socially distanced. \nPlease bring a clean white t-shirt and wear a mask. \nSpace is limited. Please register below. Rain date is Monday\, July 26 at 4:30 pm.
URL:https://lewisborolibrary.org/event/teen-tie-dye-t-shirt/
CATEGORIES:Teen
ATTACH;FMTTYPE=image/jpeg:https://lewisborolibrary.org/wp-content/uploads/2021/06/210721-Teen-Tie-Dye-T-Shirt-compressed.jpg
END:VEVENT
BEGIN:VEVENT
DTSTART;TZID=America/New_York:20210728T163000
DTEND;TZID=America/New_York:20210728T173000
DTSTAMP:20260423T031428
CREATED:20210623T021823Z
LAST-MODIFIED:20210623T194837Z
UID:9778-1627489800-1627493400@lewisborolibrary.org
SUMMARY:Teen DIY Toad Hotel
DESCRIPTION:For Teens in Middle & High School. \nDid you know that toads can eat up to 1000 insects a night? That’s nearly 10\,000 for the summer season! \nIf you like to sit outside without being bitten\, invite a toad to stay. We’ll make inviting toad hotels using clay planters. \nOutdoors\, socially distanced. Please wear a mask. \nSpace is limited. Please register below. Rain date is Monday\, August 2.
URL:https://lewisborolibrary.org/event/teen-diy-toad-hotel/
CATEGORIES:Teen
ATTACH;FMTTYPE=image/jpeg:https://lewisborolibrary.org/wp-content/uploads/2021/06/210728-DIY-Toad-Hotel-compressed.jpg
END:VEVENT
BEGIN:VEVENT
DTSTART;TZID=America/New_York:20210803T190000
DTEND;TZID=America/New_York:20210803T200000
DTSTAMP:20260423T031428
CREATED:20210623T195854Z
LAST-MODIFIED:20210623T195854Z
UID:9833-1628017200-1628020800@lewisborolibrary.org
SUMMARY:Teen Creative Writing Murder Mystery
DESCRIPTION:For Teens in Middle & High School. \nWe’ll decide a murder setting together. Then let your imagination dream up your relationship to the victim and your alibi to stump your fellow writers. Use your wits to figure out whodunit! \nSocially distanced inside the Library. Please wear a mask. \nPlease register below.
URL:https://lewisborolibrary.org/event/teen-creative-writing-murder-mystery/
CATEGORIES:Teen
ATTACH;FMTTYPE=image/jpeg:https://lewisborolibrary.org/wp-content/uploads/2021/06/210803-Creative-Writing-Murder-Mystery-compressed.jpg
END:VEVENT
BEGIN:VEVENT
DTSTART;TZID=America/New_York:20210809T103000
DTEND;TZID=America/New_York:20210813T170000
DTSTAMP:20260423T031428
CREATED:20210728T193258Z
LAST-MODIFIED:20210728T193258Z
UID:10374-1628505000-1628874000@lewisborolibrary.org
SUMMARY:Teen Take and Make: Radial Weaving
DESCRIPTION:For Teens in Middle & High School. \nChill out\, be creative\, and make cheerful woven artwork for your room or school locker\, using yarn\, beads and a recycled CD/DVD. \nThis is a DIY craft that you can do on your own time. Kits with complete instructions will be available for pick up anytime during the week of August 9 – August 13. There are a limited number of kits\, so get yours early that week! \nA great activity to do on your own or with friends!
URL:https://lewisborolibrary.org/event/teen-take-and-make-radial-weaving/
CATEGORIES:Teen
ATTACH;FMTTYPE=image/jpeg:https://lewisborolibrary.org/wp-content/uploads/2021/07/210809-Radial-Weaving-compressed.jpg
END:VEVENT
BEGIN:VEVENT
DTSTART;TZID=America/New_York:20210818T190000
DTEND;TZID=America/New_York:20210818T203000
DTSTAMP:20260423T031428
CREATED:20210623T200632Z
LAST-MODIFIED:20210809T155201Z
UID:9836-1629313200-1629318600@lewisborolibrary.org
SUMMARY:Teen Summer Reading Prize Party
DESCRIPTION:For Teens in Middle & High School who Participated in the Library’s Summer Reading Program. \nAttention summer reading participants – It’s time to cash in your summer reading points for prizes! Teens need to finish up their reading logs by August 13\, so that all reading points can be counted up for the raffle prize drawings. \nHave an ice cream sundae and socialize while prizes are drawn. \nOutdoors\, socially distanced. Please bring a mask. \nPlease register below.  Rain date is Wednesday\, August 25. \n 
URL:https://lewisborolibrary.org/event/teen-summer-reading-prize-party/
CATEGORIES:Teen
ATTACH;FMTTYPE=image/jpeg:https://lewisborolibrary.org/wp-content/uploads/2021/06/210818-Teen-Prize-Party-compressed.jpg
END:VEVENT
BEGIN:VEVENT
DTSTART;TZID=America/New_York:20210824T190000
DTEND;TZID=America/New_York:20210824T200000
DTSTAMP:20260423T031428
CREATED:20210818T213739Z
LAST-MODIFIED:20210818T213739Z
UID:10662-1629831600-1629835200@lewisborolibrary.org
SUMMARY:Teen Advisory Group
DESCRIPTION:For Teens in Middle & High School. (Welcome incoming sixth graders!)\n \nThe Lewisboro Library Teen Advisory Group (or “TAG”) seeks teens to come up with fun\, engaging programs for you and your peers. New members and anyone interested welcome. Registration required. Pizza and beverages served. \nPlease register below\, so we know how much pizza to order!
URL:https://lewisborolibrary.org/event/teen-advisory-group/
CATEGORIES:Teen
ATTACH;FMTTYPE=image/jpeg:https://lewisborolibrary.org/wp-content/uploads/2019/10/TAG-2.jpg
END:VEVENT
BEGIN:VEVENT
DTSTART;TZID=America/New_York:20210907T153000
DTEND;TZID=America/New_York:20210907T163000
DTSTAMP:20260423T031428
CREATED:20210826T203455Z
LAST-MODIFIED:20210826T203455Z
UID:10711-1631028600-1631032200@lewisborolibrary.org
SUMMARY:Teen Games on the Lawn
DESCRIPTION:For Teens in Middle & High School \nHey Teens\, let’s meet on the Library front lawn for some last minute fun before school starts. We’ll play beach ball\, hacky sack\, and other team games! \nMasks are required. \nSpace is limited; please register below. In case of bad weather\, rain date is Wednesday September 8.
URL:https://lewisborolibrary.org/event/teen-games-on-the-lawn/
CATEGORIES:Teen
ATTACH;FMTTYPE=image/jpeg:https://lewisborolibrary.org/wp-content/uploads/2021/08/210907-Teen-Games-on-the-Lawn-compressed.jpg
END:VEVENT
BEGIN:VEVENT
DTSTART;TZID=America/New_York:20210911T160000
DTEND;TZID=America/New_York:20210911T180000
DTSTAMP:20260423T031428
CREATED:20210810T182601Z
LAST-MODIFIED:20210810T182601Z
UID:10555-1631376000-1631383200@lewisborolibrary.org
SUMMARY:Teen Dungeons & Dragons
DESCRIPTION:For Teens in Middle & High School \nDungeons and Dragons is a fantasy role playing game. Players work collaboratively through a series of adventures\, gathering treasure and experience points along the way. New players are welcome – so now is a good time to try it\, if you’ve been curious! \nWill be held inside the Library. Masks required. \nSpace is limited; please register below. When you sign up for the first meeting you will automatically be registered for all monthly gatherings this fall. (If you played in the spring and indicated you would play again in the fall\, you do NOT need to re-register). \nWe will be keeping a wait list\, so if the program is full\, please email lewisborolibrary@gmail.com to be placed on the wait list.
URL:https://lewisborolibrary.org/event/teen-dungeons-dragons-2/
CATEGORIES:Teen
ATTACH;FMTTYPE=image/jpeg:https://lewisborolibrary.org/wp-content/uploads/2021/08/210911-Dungeons-Dragons-square.jpg
END:VEVENT
BEGIN:VEVENT
DTSTART;TZID=America/New_York:20210914T190000
DTEND;TZID=America/New_York:20210914T200000
DTSTAMP:20260423T031428
CREATED:20210830T184247Z
LAST-MODIFIED:20210830T184247Z
UID:10760-1631646000-1631649600@lewisborolibrary.org
SUMMARY:Middle Reads
DESCRIPTION:Teens in Grades 6 – 8 \nJoin us for our first meeting this school year. We aim to have a good time each month talking about books; how they made us think\, feel\, change\, act. \nWe’ll meet in person at the Library\, either outdoors or in\, depending on the weather. Bring a mask. \nJoin us for pizza\, beverages\, conversation – and make your pitch for this season’s reading selections. \nPlease register below so we know how much pizza to order.
URL:https://lewisborolibrary.org/event/middle-reads/
CATEGORIES:Teen
ATTACH;FMTTYPE=image/jpeg:https://lewisborolibrary.org/wp-content/uploads/2021/08/210914-Middle-Reads-compressed.jpg
END:VEVENT
BEGIN:VEVENT
DTSTART;TZID=America/New_York:20210920T100000
DTEND;TZID=America/New_York:20210925T160000
DTSTAMP:20260423T031428
CREATED:20210915T212915Z
LAST-MODIFIED:20210915T212915Z
UID:11041-1632132000-1632585600@lewisborolibrary.org
SUMMARY:Teen Take & Make: Sunflower Coloring Pages
DESCRIPTION:For Teens in Middle & High School. \nHold on to that last bit of summer and reduce any back-to-school stress with this sunflower coloring page. \nThis is a DIY activity that you can do on your own time. Coloring pages will be available for pick up anytime during the week of September 20 – 25.
URL:https://lewisborolibrary.org/event/teen-take-make-sunflower-coloring-pages/
CATEGORIES:Teen
ATTACH;FMTTYPE=image/jpeg:https://lewisborolibrary.org/wp-content/uploads/2021/09/210920-Teen-Take-Make-Coloring-Pages-compressed.jpg
END:VEVENT
BEGIN:VEVENT
DTSTART;TZID=America/New_York:20210921T190000
DTEND;TZID=America/New_York:20210921T203000
DTSTAMP:20260423T031428
CREATED:20210901T020115Z
LAST-MODIFIED:20210901T020115Z
UID:10836-1632250800-1632256200@lewisborolibrary.org
SUMMARY:Teen Advisory Group
DESCRIPTION:For Teens in Middle & High School. (Welcome incoming sixth graders!) \nGet in on the action to bring the library alive for you! The Lewisboro Library Teen Advisory Group (or “TAG”) seeks teens to come up with fun\, engaging programs for you and your peers. New members and anyone interested welcome. Registration required. Pizza and beverages served. \nPlease register below\, so we know how much pizza to order!
URL:https://lewisborolibrary.org/event/teen-advisory-group-2/
CATEGORIES:Teen
ATTACH;FMTTYPE=image/jpeg:https://lewisborolibrary.org/wp-content/uploads/2021/08/210921-TAG-compressed.jpg
END:VEVENT
BEGIN:VEVENT
DTSTART;TZID=America/New_York:20211005T190000
DTEND;TZID=America/New_York:20211005T200000
DTSTAMP:20260423T031428
CREATED:20210920T214801Z
LAST-MODIFIED:20210921T005409Z
UID:11166-1633460400-1633464000@lewisborolibrary.org
SUMMARY:Middle Reads: Fuzzy Mud
DESCRIPTION:For teens in grades 6 – 8. \nJoin us for monthly book discussions and socializing! Books are available for pickup at the Library. \nThe book selection for October 5 is Fuzzy Mud\, by Louis Sachar.  This is an imaginative and suspenseful story of the great lengths we’ll go to for friendship and family\, the mishaps and breakthroughs that are made in the name of science\, and the wonders of mud . . . fuzzy mud. \nPlease register below.
URL:https://lewisborolibrary.org/event/middle-reads-fuzzy-mud/
CATEGORIES:Teen
ATTACH;FMTTYPE=image/jpeg:https://lewisborolibrary.org/wp-content/uploads/2021/09/211005-Middle-Reads-Fuzzy-Mud-compressed.jpg
END:VEVENT
BEGIN:VEVENT
DTSTART;TZID=America/New_York:20211009T160000
DTEND;TZID=America/New_York:20211009T180000
DTSTAMP:20260423T031428
CREATED:20210810T182414Z
LAST-MODIFIED:20210810T182844Z
UID:10561-1633795200-1633802400@lewisborolibrary.org
SUMMARY:Teen Dungeons & Dragons
DESCRIPTION:For Teens in Middle & High School \nDungeons and Dragons is a fantasy role playing game. Players work collaboratively through a series of adventures\, gathering treasure and experience points along the way. New players are welcome – so now is a good time to try it\, if you’ve been curious! \nWill be held inside the Library. Masks required. \nSpace is limited; please register for the first meeting on September 11. When you sign up for that first meeting you will automatically be registered for all monthly gatherings this fall. (If you played in the spring and indicated you would play again in the fall\, you do NOT need to re-register). \nWe will be keeping a wait list\, so if the program is full\, please email lewisborolibrary@gmail.com to be placed on the wait list.
URL:https://lewisborolibrary.org/event/teen-dungeons-dragons/
CATEGORIES:Teen
ATTACH;FMTTYPE=image/jpeg:https://lewisborolibrary.org/wp-content/uploads/2021/08/210911-Dungeons-Dragons-square.jpg
END:VEVENT
BEGIN:VEVENT
DTSTART;VALUE=DATE:20211013
DTEND;VALUE=DATE:20211022
DTSTAMP:20260423T031428
CREATED:20211014T030505Z
LAST-MODIFIED:20211014T030505Z
UID:11576-1634083200-1634860799@lewisborolibrary.org
SUMMARY:Teen Take and Make: Paper Lantern Skulls
DESCRIPTION:For Teens in Middle & High School. \nA REALLY simple Halloween decoration. Simply fold\, cut\, insert battery-operated tea light and place in a dark room when no one’s looking – and wait for the scream! 😱 Everything but the scissors included in the kit! \nThis is a DIY craft that you can do on your own time. Kits with complete instructions will be available for pick up anytime between October 13 and October 21. There are a limited number of kits\, so get yours early!
URL:https://lewisborolibrary.org/event/teen-take-and-make-paper-lantern-skulls/
CATEGORIES:Teen
ATTACH;FMTTYPE=image/jpeg:https://lewisborolibrary.org/wp-content/uploads/2021/10/211014-Paper-Lantern-Skulls-compressed.jpg
END:VEVENT
BEGIN:VEVENT
DTSTART;VALUE=DATE:20211013
DTEND;VALUE=DATE:20211022
DTSTAMP:20260423T031428
CREATED:20211014T025431Z
LAST-MODIFIED:20211014T025646Z
UID:11570-1634083200-1634860799@lewisborolibrary.org
SUMMARY:Drop-in Craft: Halloween Glowing Hand
DESCRIPTION:For Teens in Middle & High School. \nSpend some time in the Library making this glowing\, creepy\, Halloween hand. Instructions\, masking tape\, scissors\, straws and glow sticks will be available in the teen section while supplies last. \nGrab a friend and stop by anytime to make this eerie Halloween decoration. \n 
URL:https://lewisborolibrary.org/event/drop-in-craft-halloween-glowing-hand/
CATEGORIES:Teen
ATTACH;FMTTYPE=image/jpeg:https://lewisborolibrary.org/wp-content/uploads/2021/10/211014-Glowing-Halloween-Hand-compressed.jpg
END:VEVENT
END:VCALENDAR