BEGIN:VCALENDAR
VERSION:2.0
PRODID:-//Lewisboro Library - ECPv6.15.20//NONSGML v1.0//EN
CALSCALE:GREGORIAN
METHOD:PUBLISH
X-ORIGINAL-URL:https://lewisborolibrary.org
X-WR-CALDESC:Events for Lewisboro Library
REFRESH-INTERVAL;VALUE=DURATION:PT1H
X-Robots-Tag:noindex
X-PUBLISHED-TTL:PT1H
BEGIN:VTIMEZONE
TZID:America/New_York
BEGIN:DAYLIGHT
TZOFFSETFROM:-0500
TZOFFSETTO:-0400
TZNAME:EDT
DTSTART:20230312T070000
END:DAYLIGHT
BEGIN:STANDARD
TZOFFSETFROM:-0400
TZOFFSETTO:-0500
TZNAME:EST
DTSTART:20231105T060000
END:STANDARD
BEGIN:DAYLIGHT
TZOFFSETFROM:-0500
TZOFFSETTO:-0400
TZNAME:EDT
DTSTART:20240310T070000
END:DAYLIGHT
BEGIN:STANDARD
TZOFFSETFROM:-0400
TZOFFSETTO:-0500
TZNAME:EST
DTSTART:20241103T060000
END:STANDARD
BEGIN:DAYLIGHT
TZOFFSETFROM:-0500
TZOFFSETTO:-0400
TZNAME:EDT
DTSTART:20250309T070000
END:DAYLIGHT
BEGIN:STANDARD
TZOFFSETFROM:-0400
TZOFFSETTO:-0500
TZNAME:EST
DTSTART:20251102T060000
END:STANDARD
END:VTIMEZONE
BEGIN:VEVENT
DTSTART;TZID=America/New_York:20241223T150000
DTEND;TZID=America/New_York:20241223T163000
DTSTAMP:20260421T195609
CREATED:20241114T193813Z
LAST-MODIFIED:20241114T193813Z
UID:29926-1734966000-1734971400@lewisborolibrary.org
SUMMARY:Grinch-Inspired Cookie Decorating
DESCRIPTION:For Teens in Middle & High School \nLet Your Heart Grow Three Sizes w/Us as you relive your childhood!\n\nDecorate holiday cookies and take part in a dramatic reading of the beloved Dr. Seuss classic How the Grinch Stole Christmas.\n\nPlease register below.
URL:https://lewisborolibrary.org/event/grinch-inspired-cookie-decorating/
CATEGORIES:Teen
ATTACH;FMTTYPE=image/jpeg:https://lewisborolibrary.org/wp-content/uploads/2024/11/241223-Grinch-Cookies.jpg
END:VEVENT
END:VCALENDAR