BEGIN:VCALENDAR
VERSION:2.0
PRODID:-//Lewisboro Library - ECPv6.15.20//NONSGML v1.0//EN
CALSCALE:GREGORIAN
METHOD:PUBLISH
X-ORIGINAL-URL:https://lewisborolibrary.org
X-WR-CALDESC:Events for Lewisboro Library
REFRESH-INTERVAL;VALUE=DURATION:PT1H
X-Robots-Tag:noindex
X-PUBLISHED-TTL:PT1H
BEGIN:VTIMEZONE
TZID:America/New_York
BEGIN:DAYLIGHT
TZOFFSETFROM:-0500
TZOFFSETTO:-0400
TZNAME:EDT
DTSTART:20220313T070000
END:DAYLIGHT
BEGIN:STANDARD
TZOFFSETFROM:-0400
TZOFFSETTO:-0500
TZNAME:EST
DTSTART:20221106T060000
END:STANDARD
BEGIN:DAYLIGHT
TZOFFSETFROM:-0500
TZOFFSETTO:-0400
TZNAME:EDT
DTSTART:20230312T070000
END:DAYLIGHT
BEGIN:STANDARD
TZOFFSETFROM:-0400
TZOFFSETTO:-0500
TZNAME:EST
DTSTART:20231105T060000
END:STANDARD
BEGIN:DAYLIGHT
TZOFFSETFROM:-0500
TZOFFSETTO:-0400
TZNAME:EDT
DTSTART:20240310T070000
END:DAYLIGHT
BEGIN:STANDARD
TZOFFSETFROM:-0400
TZOFFSETTO:-0500
TZNAME:EST
DTSTART:20241103T060000
END:STANDARD
END:VTIMEZONE
BEGIN:VEVENT
DTSTART;TZID=America/New_York:20231117T190000
DTEND;TZID=America/New_York:20231117T200000
DTSTAMP:20260420T151325
CREATED:20231024T214159Z
LAST-MODIFIED:20231116T200935Z
UID:23161-1700247600-1700251200@lewisborolibrary.org
SUMMARY:Hunger Games Night
DESCRIPTION:For Teens in Middle & High School \nA night for teen fans of The Hunger Games trilogy by Suzanne Collins and in celebration of The Ballad of Songbirds and Snakes movie premiere.  Test your survival skills with:\n\n– Hunger Games trivia\n– Knot tying challenge\n– Nerf Bow & Arrow target practice\n       and make a Hunger Games badge\n\n\nSpace is limited\, please register below.\n\n\nNote: photographs are often taken at our events to post on social media and our website. Please let the event leader know if you would prefer your teen not be photographed.
URL:https://lewisborolibrary.org/event/hunger-games-night/
CATEGORIES:Teen
ATTACH;FMTTYPE=image/jpeg:https://lewisborolibrary.org/wp-content/uploads/2023/10/231117-Hunger-Games-Night-compressed.jpg
END:VEVENT
END:VCALENDAR