BEGIN:VCALENDAR
VERSION:2.0
PRODID:-//Lewisboro Library - ECPv6.15.20//NONSGML v1.0//EN
CALSCALE:GREGORIAN
METHOD:PUBLISH
X-ORIGINAL-URL:https://lewisborolibrary.org
X-WR-CALDESC:Events for Lewisboro Library
REFRESH-INTERVAL;VALUE=DURATION:PT1H
X-Robots-Tag:noindex
X-PUBLISHED-TTL:PT1H
BEGIN:VTIMEZONE
TZID:America/New_York
BEGIN:DAYLIGHT
TZOFFSETFROM:-0500
TZOFFSETTO:-0400
TZNAME:EDT
DTSTART:20220313T070000
END:DAYLIGHT
BEGIN:STANDARD
TZOFFSETFROM:-0400
TZOFFSETTO:-0500
TZNAME:EST
DTSTART:20221106T060000
END:STANDARD
BEGIN:DAYLIGHT
TZOFFSETFROM:-0500
TZOFFSETTO:-0400
TZNAME:EDT
DTSTART:20230312T070000
END:DAYLIGHT
BEGIN:STANDARD
TZOFFSETFROM:-0400
TZOFFSETTO:-0500
TZNAME:EST
DTSTART:20231105T060000
END:STANDARD
BEGIN:DAYLIGHT
TZOFFSETFROM:-0500
TZOFFSETTO:-0400
TZNAME:EDT
DTSTART:20240310T070000
END:DAYLIGHT
BEGIN:STANDARD
TZOFFSETFROM:-0400
TZOFFSETTO:-0500
TZNAME:EST
DTSTART:20241103T060000
END:STANDARD
END:VTIMEZONE
BEGIN:VEVENT
DTSTART;TZID=America/New_York:20230418T190000
DTEND;TZID=America/New_York:20230418T200000
DTSTAMP:20260424T121205
CREATED:20230320T202140Z
LAST-MODIFIED:20230320T202140Z
UID:19353-1681844400-1681848000@lewisborolibrary.org
SUMMARY:Middle Reads: "Two Degrees"
DESCRIPTION:For teens in grades 6 – 8. \nJoin us for monthly book discussions\, ice cream and socializing! Books are available for pickup at the Library. \nThe book selection for April is Two Degrees\, by best-selling author Alan Gratz. \nFire. Ice. Flood. Three climate disasters and four teens fighting for their lives. Gratz shines a light on our increasingly urgent climate crisis while spinning an action-packed story that will keep readers hooked — and inspire them to take action. \nPlease register below.
URL:https://lewisborolibrary.org/event/middle-reads-two-degrees/
CATEGORIES:Teen
ATTACH;FMTTYPE=image/jpeg:https://lewisborolibrary.org/wp-content/uploads/2023/03/230418-Middle-Reads-Two-Degrees.jpg
END:VEVENT
END:VCALENDAR