BEGIN:VCALENDAR
VERSION:2.0
PRODID:-//Lewisboro Library - ECPv6.15.20//NONSGML v1.0//EN
CALSCALE:GREGORIAN
METHOD:PUBLISH
X-ORIGINAL-URL:https://lewisborolibrary.org
X-WR-CALDESC:Events for Lewisboro Library
REFRESH-INTERVAL;VALUE=DURATION:PT1H
X-Robots-Tag:noindex
X-PUBLISHED-TTL:PT1H
BEGIN:VTIMEZONE
TZID:America/New_York
BEGIN:DAYLIGHT
TZOFFSETFROM:-0500
TZOFFSETTO:-0400
TZNAME:EDT
DTSTART:20200308T070000
END:DAYLIGHT
BEGIN:STANDARD
TZOFFSETFROM:-0400
TZOFFSETTO:-0500
TZNAME:EST
DTSTART:20201101T060000
END:STANDARD
BEGIN:DAYLIGHT
TZOFFSETFROM:-0500
TZOFFSETTO:-0400
TZNAME:EDT
DTSTART:20210314T070000
END:DAYLIGHT
BEGIN:STANDARD
TZOFFSETFROM:-0400
TZOFFSETTO:-0500
TZNAME:EST
DTSTART:20211107T060000
END:STANDARD
BEGIN:DAYLIGHT
TZOFFSETFROM:-0500
TZOFFSETTO:-0400
TZNAME:EDT
DTSTART:20220313T070000
END:DAYLIGHT
BEGIN:STANDARD
TZOFFSETFROM:-0400
TZOFFSETTO:-0500
TZNAME:EST
DTSTART:20221106T060000
END:STANDARD
END:VTIMEZONE
BEGIN:VEVENT
DTSTART;TZID=America/New_York:20210329T190000
DTEND;TZID=America/New_York:20210329T200000
DTSTAMP:20260422T202000
CREATED:20210310T222146Z
LAST-MODIFIED:20210311T025211Z
UID:7963-1617044400-1617048000@lewisborolibrary.org
SUMMARY:(Virtual) Can the US Constitution keep pace with 21st-century America?
DESCRIPTION:Via Zoom. For Teens\, but Adults Welcome. \nThe Lewisboro Library is partnering with the IDEA (inclusion diversity equity) committee of the Town of Bedford and all the public libraries in the Katonah-Lewisboro and Bedford school districts to offer this special program during the school spring break. Participants must watch the designated episodes of the PBS series “Constitution USA” and then participate in the 2 discussions centered around them. The Zoom sessions will also be divided up into a teen group and an adult group. High school students can earn 10 hours of community service credit for participating in the discussions designed to enhance civic education\, while taking a virtual “road trip” across the country. \nParticipants will view episodes of the PBS docuseries with Peter Sagal titled “Constitution USA” online at their own pace\, then join in the two Zoom session discussions. \nSESSION ONE – Monday\, March 29 @ 7-8pm  \nEpisode One: “A More Perfect Union” & Episode Two: “It’s a Free Country” \nSESSION TWO – Thursday\, April 1 @ 7-8pm \nEpisode Three: “Created Equal” & Episode Four: “Built to Last?” \nRegistration is FREE but required for participation. Click HERE to register. \n 
URL:https://lewisborolibrary.org/event/virtual-can-the-us-constitution-keep-pace-with-21st-century-america/
CATEGORIES:Adult,Teen
ATTACH;FMTTYPE=image/jpeg:https://lewisborolibrary.org/wp-content/uploads/2021/03/210329-Constitution-compressed.jpg
END:VEVENT
END:VCALENDAR