BEGIN:VCALENDAR
VERSION:2.0
PRODID:-//Lewisboro Library - ECPv6.15.20//NONSGML v1.0//EN
CALSCALE:GREGORIAN
METHOD:PUBLISH
X-ORIGINAL-URL:https://lewisborolibrary.org
X-WR-CALDESC:Events for Lewisboro Library
REFRESH-INTERVAL;VALUE=DURATION:PT1H
X-Robots-Tag:noindex
X-PUBLISHED-TTL:PT1H
BEGIN:VTIMEZONE
TZID:America/New_York
BEGIN:DAYLIGHT
TZOFFSETFROM:-0500
TZOFFSETTO:-0400
TZNAME:EDT
DTSTART:20240310T070000
END:DAYLIGHT
BEGIN:STANDARD
TZOFFSETFROM:-0400
TZOFFSETTO:-0500
TZNAME:EST
DTSTART:20241103T060000
END:STANDARD
BEGIN:DAYLIGHT
TZOFFSETFROM:-0500
TZOFFSETTO:-0400
TZNAME:EDT
DTSTART:20250309T070000
END:DAYLIGHT
BEGIN:STANDARD
TZOFFSETFROM:-0400
TZOFFSETTO:-0500
TZNAME:EST
DTSTART:20251102T060000
END:STANDARD
BEGIN:DAYLIGHT
TZOFFSETFROM:-0500
TZOFFSETTO:-0400
TZNAME:EDT
DTSTART:20260308T070000
END:DAYLIGHT
BEGIN:STANDARD
TZOFFSETFROM:-0400
TZOFFSETTO:-0500
TZNAME:EST
DTSTART:20261101T060000
END:STANDARD
END:VTIMEZONE
BEGIN:VEVENT
DTSTART;TZID=America/New_York:20251103T160000
DTEND;TZID=America/New_York:20251103T180000
DTSTAMP:20260420T155715
CREATED:20250918T001807Z
LAST-MODIFIED:20251023T200611Z
UID:35325-1762185600-1762192800@lewisborolibrary.org
SUMMARY:Teen Dungeons & Dragons
DESCRIPTION:For Grades 6 – 12 \nDungeons & Dragons is back! If you’ve wanted to learn how to play\, the Library just started a new D & D campaign on October 6.  The group will meet every other week on Monday afternoon at 4 pm. Beginners are welcome. \nMaster the Multiverse in Turn of Fortunes Wheel – Come and explore the realm where all roads meet and coexist! The city of Sigil and The Outlands are a tapestry on which you and your character experience an adventure like no other! In this realm that connects all realms\, you awaken to find yourself here after completing your latest escapade to find these strangers among you. How will you manage in the City of Doors? Let’s find out. \nYou can still join! Please register below. \n 
URL:https://lewisborolibrary.org/event/teen-dungeons-dragons-9-2025-10-20-2025-11-03/2025-11-03/
CATEGORIES:Teen
ATTACH;FMTTYPE=image/jpeg:https://lewisborolibrary.org/wp-content/uploads/2025/09/251006-D-and-D.jpg
END:VEVENT
BEGIN:VEVENT
DTSTART;TZID=America/New_York:20251104T160000
DTEND;TZID=America/New_York:20251104T170000
DTSTAMP:20260420T155715
CREATED:20251015T173803Z
LAST-MODIFIED:20251016T211210Z
UID:35934-1762272000-1762275600@lewisborolibrary.org
SUMMARY:Candy Sushi
DESCRIPTION:For Teens in Grades 6 – 12 \nSushi? Made of Candy? \nCome get creative in this unique program that uses candy and other treats to make beautiful “sushi” rolls. Tasty AND fun! \nPlease register below.
URL:https://lewisborolibrary.org/event/candy-sushi/
CATEGORIES:Teen
ATTACH;FMTTYPE=image/jpeg:https://lewisborolibrary.org/wp-content/uploads/2025/10/251104-Candy-Sushi-cropped.jpg
END:VEVENT
BEGIN:VEVENT
DTSTART;TZID=America/New_York:20251110T170000
DTEND;TZID=America/New_York:20251110T193000
DTSTAMP:20260420T155715
CREATED:20251017T150536Z
LAST-MODIFIED:20251110T182612Z
UID:35982-1762794000-1762803000@lewisborolibrary.org
SUMMARY:"Wicked" Sing-Along
DESCRIPTION:For Teens in Grades 6 – 12 \nTo celebrate the upcoming release of “Wicked: For Good\,” we’re having a movie screening/sing-along of the first movie! \nCome sing along and enjoy “Wicked” treats! Bonus – there’s no school the next day! \nPlease register below.
URL:https://lewisborolibrary.org/event/wicked-sing-along/
CATEGORIES:Postponed,Teen
ATTACH;FMTTYPE=image/jpeg:https://lewisborolibrary.org/wp-content/uploads/2025/10/251110-Wicked-Singalong-cropped.jpg
END:VEVENT
BEGIN:VEVENT
DTSTART;TZID=America/New_York:20251117T160000
DTEND;TZID=America/New_York:20251117T180000
DTSTAMP:20260420T155715
CREATED:20250918T001807Z
LAST-MODIFIED:20251106T203138Z
UID:35326-1763395200-1763402400@lewisborolibrary.org
SUMMARY:Teen Dungeons & Dragons
DESCRIPTION:For Grades 6 – 12 \nDungeons & Dragons is back! If you’ve wanted to learn how to play\, the Library just started a new D & D campaign on October 6.  The group will meet every other week on Monday afternoon at 4 pm. Beginners are welcome. \nMaster the Multiverse in Turn of Fortunes Wheel – Come and explore the realm where all roads meet and coexist! The city of Sigil and The Outlands are a tapestry on which you and your character experience an adventure like no other! In this realm that connects all realms\, you awaken to find yourself here after completing your latest escapade to find these strangers among you. How will you manage in the City of Doors? Let’s find out. \nYou can still join! Please register below. \n 
URL:https://lewisborolibrary.org/event/teen-dungeons-dragons-9-2025-10-20-2025-11-03-2025-11-17/
CATEGORIES:Teen
ATTACH;FMTTYPE=image/jpeg:https://lewisborolibrary.org/wp-content/uploads/2025/09/251006-D-and-D.jpg
END:VEVENT
BEGIN:VEVENT
DTSTART;TZID=America/New_York:20251119T170000
DTEND;TZID=America/New_York:20251119T180000
DTSTAMP:20260420T155715
CREATED:20251022T213709Z
LAST-MODIFIED:20251022T213709Z
UID:36091-1763571600-1763575200@lewisborolibrary.org
SUMMARY:Cocoa Club
DESCRIPTION:For Teens in Grades 6 – 12 \nIt’s cozy reading together! \nBring your own blanket\, a pillow and a book to read. We’ll enjoy a variety of hot cocoa flavors as we snuggle up with our favorite books. \nNo registration required.
URL:https://lewisborolibrary.org/event/cocoa-club/
CATEGORIES:Teen
ATTACH;FMTTYPE=image/jpeg:https://lewisborolibrary.org/wp-content/uploads/2025/10/251119-Cocoa-Club.jpg
END:VEVENT
END:VCALENDAR