BEGIN:VCALENDAR
VERSION:2.0
PRODID:-//Lewisboro Library - ECPv6.15.20//NONSGML v1.0//EN
CALSCALE:GREGORIAN
METHOD:PUBLISH
X-WR-CALNAME:Lewisboro Library
X-ORIGINAL-URL:https://lewisborolibrary.org
X-WR-CALDESC:Events for Lewisboro Library
REFRESH-INTERVAL;VALUE=DURATION:PT1H
X-Robots-Tag:noindex
X-PUBLISHED-TTL:PT1H
BEGIN:VTIMEZONE
TZID:America/New_York
BEGIN:DAYLIGHT
TZOFFSETFROM:-0500
TZOFFSETTO:-0400
TZNAME:EDT
DTSTART:20230312T070000
END:DAYLIGHT
BEGIN:STANDARD
TZOFFSETFROM:-0400
TZOFFSETTO:-0500
TZNAME:EST
DTSTART:20231105T060000
END:STANDARD
BEGIN:DAYLIGHT
TZOFFSETFROM:-0500
TZOFFSETTO:-0400
TZNAME:EDT
DTSTART:20240310T070000
END:DAYLIGHT
BEGIN:STANDARD
TZOFFSETFROM:-0400
TZOFFSETTO:-0500
TZNAME:EST
DTSTART:20241103T060000
END:STANDARD
BEGIN:DAYLIGHT
TZOFFSETFROM:-0500
TZOFFSETTO:-0400
TZNAME:EDT
DTSTART:20250309T070000
END:DAYLIGHT
BEGIN:STANDARD
TZOFFSETFROM:-0400
TZOFFSETTO:-0500
TZNAME:EST
DTSTART:20251102T060000
END:STANDARD
END:VTIMEZONE
BEGIN:VEVENT
DTSTART;TZID=America/New_York:20241105T103000
DTEND;TZID=America/New_York:20241105T123000
DTSTAMP:20260423T044830
CREATED:20241017T170218Z
LAST-MODIFIED:20241017T170314Z
UID:29520-1730802600-1730809800@lewisborolibrary.org
SUMMARY:Teen Hike & Survival Skills Instruction
DESCRIPTION:For Teens in Middle & High School \nNo school due to Election Day – so join other teens for a hike and to learn survival skills and primitive tool making with Eric Stone of the Rewilding School! \nThe Teen Survival Skills program is interactive\, hands-on and designed to teach young adults essential survival techniques such as starting a fire and tool making. Teens will gain the confidence and knowledge to handle outdoor challenges safely and effectively. Participants will hike from Michigan Road through the Ward Pound Ridge Reservation trails to learn about safety and fundamental hiking skills before stopping to work on fire making skills on site. We’ll hike from 10:30 to 12/12:30 and then end with pizza lunch. \nAppropriate layers\, sturdy shoes\, water\, and a snack as needed\, are recommended for this program. We will continue the program in light rain. In the case of heavy rain or other inclement weather\, we will move the program indoors to the Lewisboro Library conference room and adjust the program accordingly. \n\n\nThis hike is co-sponsored by the Lewisboro Land Trust. All hikers must download and fill out this waiver – Lewisboro Land Trust Release-Hold Harmless Agreement  – to bring with you that day. Copies will also be available at the start of the hike. \nSpace is limited.  Please register below so we have your email in case we need to change location. \nMeet and pick up are at the Michigan Road parking lot in Ward Pound Ridge Reservation\, which is located at Reservation Rd.\, Pound Ridge\, NY 10576. The entrance is off of Route 121/Old Post Rd. just south of Route 35. Entrance to the park will be FREE. After entering\, take the first right onto Michigan Rd.\, follow it all the way to the parking lot at the end. Signs will be placed to help you find it. Click HERE to learn more about Ward Pound Ridge Reservation. \nNote: photographs are often taken at our events to post on social media and our website. Please let the event leader know if you would prefer your teen not be photographed.
URL:https://lewisborolibrary.org/event/teen-hike-survival-skills-instruction/
CATEGORIES:Teen
ATTACH;FMTTYPE=image/jpeg:https://lewisborolibrary.org/wp-content/uploads/2024/10/241105-Teen-Survival-Hike.jpg
END:VEVENT
BEGIN:VEVENT
DTSTART;TZID=America/New_York:20241109T160000
DTEND;TZID=America/New_York:20241109T180000
DTSTAMP:20260423T044830
CREATED:20240902T211124Z
LAST-MODIFIED:20241106T162557Z
UID:28888-1731168000-1731175200@lewisborolibrary.org
SUMMARY:Dungeons & Dragons: Grades 4 - 12
DESCRIPTION:For Players in Grades 4 – 12. Groups will be formed according to age.\n \nDungeons and Dragons is a fantasy role playing game. Players work collaboratively through a series of adventures\, gathering treasure and experience points along the way. \nThe group will meet five Saturdays this fall. New and experienced players are welcome. \nSpace is limited. Registration was taken before the first session on October 5. If registration is full\, please contact the Library to ask about available space. \nThanks so much to the Pezone family for organizing our D & D programs!
URL:https://lewisborolibrary.org/event/dungeons-dragons-grades-4-12-2024-10-19-2024-11-09/
CATEGORIES:Cancelled,Child,Teen
ATTACH;FMTTYPE=image/jpeg:https://lewisborolibrary.org/wp-content/uploads/2023/08/230923-Dungeons-and-Dragons-compressed.jpg
END:VEVENT
BEGIN:VEVENT
DTSTART;TZID=America/New_York:20241118T153000
DTEND;TZID=America/New_York:20241118T173000
DTSTAMP:20260423T044830
CREATED:20241024T151811Z
LAST-MODIFIED:20241024T151811Z
UID:29600-1731943800-1731951000@lewisborolibrary.org
SUMMARY:Turkey Time Break-in Bag
DESCRIPTION:For Teens in Middle and High School \nTeens are invited to drop in this week to try and solve the Turkey Time challenge. Solve a few puzzles to unlock the clues and collect a Thanksgiving Treat! \nNo registration required.
URL:https://lewisborolibrary.org/event/turkey-time-break-in-bag/2024-11-18/
CATEGORIES:Teen
ATTACH;FMTTYPE=image/jpeg:https://lewisborolibrary.org/wp-content/uploads/2024/10/241119-Turkey-Time-Break-In-Bag.jpg
END:VEVENT
BEGIN:VEVENT
DTSTART;TZID=America/New_York:20241118T160000
DTEND;TZID=America/New_York:20241118T173000
DTSTAMP:20260423T044830
CREATED:20241023T213742Z
LAST-MODIFIED:20241023T215316Z
UID:29590-1731945600-1731951000@lewisborolibrary.org
SUMMARY:Stem Fun with Physics: Newton's Cradle
DESCRIPTION:For Teens in Middle & High School \nNewton’s Cradle is a classic physics demonstration frequently seen as a desk decoration. This demonstration uses four or more suspended balls to demonstrate conservation of energy and conservation of momentum in a fairly elastic collision. \nDrop in and make one of your own! Registration is appreciated\, but not required.
URL:https://lewisborolibrary.org/event/stem-fun-with-physics-newtons-cradle/
CATEGORIES:Teen
ATTACH;FMTTYPE=image/jpeg:https://lewisborolibrary.org/wp-content/uploads/2024/10/241118-Newtons-Cradle.jpg
END:VEVENT
BEGIN:VEVENT
DTSTART;TZID=America/New_York:20241126T190000
DTEND;TZID=America/New_York:20241126T200000
DTSTAMP:20260423T044830
CREATED:20241023T214215Z
LAST-MODIFIED:20241126T224137Z
UID:29592-1732647600-1732651200@lewisborolibrary.org
SUMMARY:Teen Advisory Group
DESCRIPTION:Teens in Middle & High School.\n \nEARN COMMUNITY SERVICE HOURS * PLAN AND RUN TEEN EVENTS * GAIN LEADERSHIP SKILLS!\nThe Lewisboro Library Teen Advisory Group (or “TAG”) seeks teens to help come up with fun\, engaging programs for you and your friends all year round. \nNew members are welcome to join this group\, which meets monthly for planning – and snacks! \nHelp us make the Library YOUR favorite gathering space! \nPlease register below.
URL:https://lewisborolibrary.org/event/teen-advisory-group-30/
CATEGORIES:Cancelled,Teen
ATTACH;FMTTYPE=image/jpeg:https://lewisborolibrary.org/wp-content/uploads/2024/03/240326-Tag.jpg
END:VEVENT
END:VCALENDAR