BEGIN:VCALENDAR
VERSION:2.0
PRODID:-//Lewisboro Library - ECPv6.15.18//NONSGML v1.0//EN
CALSCALE:GREGORIAN
METHOD:PUBLISH
X-WR-CALNAME:Lewisboro Library
X-ORIGINAL-URL:https://lewisborolibrary.org
X-WR-CALDESC:Events for Lewisboro Library
REFRESH-INTERVAL;VALUE=DURATION:PT1H
X-Robots-Tag:noindex
X-PUBLISHED-TTL:PT1H
BEGIN:VTIMEZONE
TZID:America/New_York
BEGIN:DAYLIGHT
TZOFFSETFROM:-0500
TZOFFSETTO:-0400
TZNAME:EDT
DTSTART:20230312T070000
END:DAYLIGHT
BEGIN:STANDARD
TZOFFSETFROM:-0400
TZOFFSETTO:-0500
TZNAME:EST
DTSTART:20231105T060000
END:STANDARD
BEGIN:DAYLIGHT
TZOFFSETFROM:-0500
TZOFFSETTO:-0400
TZNAME:EDT
DTSTART:20240310T070000
END:DAYLIGHT
BEGIN:STANDARD
TZOFFSETFROM:-0400
TZOFFSETTO:-0500
TZNAME:EST
DTSTART:20241103T060000
END:STANDARD
BEGIN:DAYLIGHT
TZOFFSETFROM:-0500
TZOFFSETTO:-0400
TZNAME:EDT
DTSTART:20250309T070000
END:DAYLIGHT
BEGIN:STANDARD
TZOFFSETFROM:-0400
TZOFFSETTO:-0500
TZNAME:EST
DTSTART:20251102T060000
END:STANDARD
END:VTIMEZONE
BEGIN:VEVENT
DTSTART;TZID=America/New_York:20240202T190000
DTEND;TZID=America/New_York:20240202T210000
DTSTAMP:20260419T150043
CREATED:20240117T223704Z
LAST-MODIFIED:20240202T141019Z
UID:24708-1706900400-1706907600@lewisborolibrary.org
SUMMARY:Taylor Swift Friendship Bracelet Night
DESCRIPTION:For Teens in Middle & High School \nAre you ready for it?\n\n\nMake friendship bracelets\, sing along with her music (karaoke)\, and watch the Dare to Dream documentary.\nSpace is limited\, please register below. If registration is full\, you can call the Library to ask if any spaces have opened up – (914) 875-9004.\n\n\nNote: photographs are often taken at our events to post on social media and our website. Please let the event leader know if you would prefer your teen not be photographed.
URL:https://lewisborolibrary.org/event/taylor-swift-friendship-bracelet-night/
CATEGORIES:Teen
ATTACH;FMTTYPE=image/jpeg:https://lewisborolibrary.org/wp-content/uploads/2024/01/240209-Taylor-Swift-Friendship-Bracelets.jpg
END:VEVENT
BEGIN:VEVENT
DTSTART;TZID=America/New_York:20240206T190000
DTEND;TZID=America/New_York:20240206T200000
DTSTAMP:20260419T150043
CREATED:20231214T192022Z
LAST-MODIFIED:20240116T173614Z
UID:23943-1707246000-1707249600@lewisborolibrary.org
SUMMARY:Middle Reads: Lifeboat 12 (Postponed from January)
DESCRIPTION:For Grades 6 – 8. \nThis group for middle school teens meets monthly to discuss books while enjoying refreshments. \nThis month we will be discussing the book Lifeboat 12\, by Susan Hood. This poignant novel in verse is based on true events that tell the story of a boy’s harrowing experience on a lifeboat after surviving a torpedo attack during World War II. \nSpace is limited\, Please register below.
URL:https://lewisborolibrary.org/event/middle-reads-lifeboat-12/
CATEGORIES:Teen
ATTACH;FMTTYPE=image/jpeg:https://lewisborolibrary.org/wp-content/uploads/2023/12/240109-Middle-Reads-Lifeboat.jpg
END:VEVENT
BEGIN:VEVENT
DTSTART;TZID=America/New_York:20240210T160000
DTEND;TZID=America/New_York:20240210T180000
DTSTAMP:20260419T150043
CREATED:20231219T161305Z
LAST-MODIFIED:20240123T164328Z
UID:24271-1707580800-1707588000@lewisborolibrary.org
SUMMARY:Dungeons & Dragons
DESCRIPTION:For Players in Grades 4 – High School. Group will be split according to age.\n \nDungeons and Dragons is a fantasy role playing game. Players work collaboratively through a series of adventures\, gathering treasure and experience points along the way. \nThis co-ed group meets 1-2 times each month. New and experienced players are welcome. \nWe just added an additional Dungeon Master\, so opened up spots for 2 more players. Please register below. \nThanks so much to the Pezone family for running our D & D programs!
URL:https://lewisborolibrary.org/event/dungeons-dragons-9/
CATEGORIES:Child,Teen
ATTACH;FMTTYPE=image/jpeg:https://lewisborolibrary.org/wp-content/uploads/2023/08/230923-Dungeons-and-Dragons-compressed.jpg
END:VEVENT
BEGIN:VEVENT
DTSTART;TZID=America/New_York:20240213T190000
DTEND;TZID=America/New_York:20240213T200000
DTSTAMP:20260419T150043
CREATED:20240105T052805Z
LAST-MODIFIED:20240108T003756Z
UID:24502-1707850800-1707854400@lewisborolibrary.org
SUMMARY:(Virtual) Navigating College Admissions Successfully in 2024
DESCRIPTION:Via Zoom. For Juniors\, Sophomores & Freshmen with their Parents\n \nWe are offering this Zoom presentation to help families understand how the lingering effects from the pandemic have changed the college admissions landscape and how it affects Juniors\, Sophomores and Freshmen. \nThis program covers current college admissions trends\, the importance of researching and visiting colleges to find schools that can be a good fit for your child\, a timeline and other action steps that can be taken to make this second half of the school year productive and help reduce the stress around the college admissions process. The presentation is hosted by Ron Feuchs and Jackie Tepper of Stand Out for College. \nPlease register for the Zoom link HERE. If you can’t make this date\, the program will also be offered on March 20.
URL:https://lewisborolibrary.org/event/virtual-navigating-college-admissions-successfully-in-2024/
CATEGORIES:Adult,Teen
ATTACH;FMTTYPE=image/jpeg:https://lewisborolibrary.org/wp-content/uploads/2024/01/240213-College-Admissions.jpg
END:VEVENT
BEGIN:VEVENT
DTSTART;TZID=America/New_York:20240220T153000
DTEND;TZID=America/New_York:20240220T173000
DTSTAMP:20260419T150043
CREATED:20240130T212241Z
LAST-MODIFIED:20240214T195249Z
UID:24977-1708443000-1708450200@lewisborolibrary.org
SUMMARY:Teen Winter Break Paint Program
DESCRIPTION:For Teens in Middle & High School \nBy popular demand\, we’ve added another teen paint program. Take advantage of the day off from school and join others in being led in our painting by fellow teen Kayla Magier. \nSpace is limited\, please register below. If registration is full\, please email the Library to be placed on the wait list. \nNote: photographs are often taken at our events to post on social media and our website. Please let the event leader know if you would prefer your teen not be photographed. \n 
URL:https://lewisborolibrary.org/event/school-holiday-paint-party/
CATEGORIES:Teen
ATTACH;FMTTYPE=image/jpeg:https://lewisborolibrary.org/wp-content/uploads/2024/01/240220-Teen-Paint-Break.jpg
END:VEVENT
BEGIN:VEVENT
DTSTART;TZID=America/New_York:20240227T190000
DTEND;TZID=America/New_York:20240227T200000
DTSTAMP:20260419T150043
CREATED:20240111T175516Z
LAST-MODIFIED:20240111T175516Z
UID:24603-1709060400-1709064000@lewisborolibrary.org
SUMMARY:Teen Advisory Group
DESCRIPTION:For Teens in Middle & High School.\n \nEARN COMMUNITY SERVICE HOURS * PLAN AND RUN TEEN EVENTS * GAIN LEADERSHIP SKILLS!\nThe Lewisboro Library Teen Advisory Group (or “TAG”) seeks teens to help come up with fun\, engaging programs for you and your friends all year round. \nNew members are welcome to join this group\, which meets monthly for planning – and snacks! \nHelp us make the Library YOUR favorite gathering space! \nPlease register below.
URL:https://lewisborolibrary.org/event/teen-advisory-group-24/
CATEGORIES:Teen
ATTACH;FMTTYPE=image/jpeg:https://lewisborolibrary.org/wp-content/uploads/2023/03/TAG-compressed.jpg
END:VEVENT
END:VCALENDAR