BEGIN:VCALENDAR
VERSION:2.0
PRODID:-//Lewisboro Library - ECPv6.15.18//NONSGML v1.0//EN
CALSCALE:GREGORIAN
METHOD:PUBLISH
X-WR-CALNAME:Lewisboro Library
X-ORIGINAL-URL:https://lewisborolibrary.org
X-WR-CALDESC:Events for Lewisboro Library
REFRESH-INTERVAL;VALUE=DURATION:PT1H
X-Robots-Tag:noindex
X-PUBLISHED-TTL:PT1H
BEGIN:VTIMEZONE
TZID:America/New_York
BEGIN:DAYLIGHT
TZOFFSETFROM:-0500
TZOFFSETTO:-0400
TZNAME:EDT
DTSTART:20230312T070000
END:DAYLIGHT
BEGIN:STANDARD
TZOFFSETFROM:-0400
TZOFFSETTO:-0500
TZNAME:EST
DTSTART:20231105T060000
END:STANDARD
BEGIN:DAYLIGHT
TZOFFSETFROM:-0500
TZOFFSETTO:-0400
TZNAME:EDT
DTSTART:20240310T070000
END:DAYLIGHT
BEGIN:STANDARD
TZOFFSETFROM:-0400
TZOFFSETTO:-0500
TZNAME:EST
DTSTART:20241103T060000
END:STANDARD
BEGIN:DAYLIGHT
TZOFFSETFROM:-0500
TZOFFSETTO:-0400
TZNAME:EDT
DTSTART:20250309T070000
END:DAYLIGHT
BEGIN:STANDARD
TZOFFSETFROM:-0400
TZOFFSETTO:-0500
TZNAME:EST
DTSTART:20251102T060000
END:STANDARD
END:VTIMEZONE
BEGIN:VEVENT
DTSTART;TZID=America/New_York:20240108T160000
DTEND;TZID=America/New_York:20240108T170000
DTSTAMP:20260419T201407
CREATED:20231004T200903Z
LAST-MODIFIED:20240103T205057Z
UID:24425-1704729600-1704733200@lewisborolibrary.org
SUMMARY:Teen Makerspace: Crochet
DESCRIPTION:For Teens in Middle & High School \nIn this program\,  you will learn basic crochet stitches\, and then move on to a project of your choice.  Half the fun is the crochet\, the other half\, the fun we have together! \nAll materials supplied. \n 
URL:https://lewisborolibrary.org/event/teen-makerspace-crochet-3-2024-01-08/
CATEGORIES:Teen
ATTACH;FMTTYPE=image/jpeg:https://lewisborolibrary.org/wp-content/uploads/2023/10/240108-teen-crochet.jpg
END:VEVENT
BEGIN:VEVENT
DTSTART;TZID=America/New_York:20240119T190000
DTEND;TZID=America/New_York:20240119T203000
DTSTAMP:20260419T201407
CREATED:20231218T205658Z
LAST-MODIFIED:20231218T205733Z
UID:24210-1705690800-1705696200@lewisborolibrary.org
SUMMARY:Teen Paint Night
DESCRIPTION:For Teens in Middle & High School \nCome solo or with your squad and join others in a fun paint night to beat the winter doldrums.\nSpace is limited\, please register below.\n\n\nNote: photographs are often taken at our events to post on social media and our website. Please let the event leader know if you would prefer your teen not be photographed.
URL:https://lewisborolibrary.org/event/teen-paint-night-6/
CATEGORIES:Teen
ATTACH;FMTTYPE=image/jpeg:https://lewisborolibrary.org/wp-content/uploads/2023/12/240119-Teen-Paint-Night-compressed.jpg
END:VEVENT
BEGIN:VEVENT
DTSTART;TZID=America/New_York:20240120T160000
DTEND;TZID=America/New_York:20240120T180000
DTSTAMP:20260419T201407
CREATED:20231219T155843Z
LAST-MODIFIED:20231219T155843Z
UID:24267-1705766400-1705773600@lewisborolibrary.org
SUMMARY:Dungeons & Dragons
DESCRIPTION:For Players in Grades 4 – High School. Group will be split according to age.\n \nDungeons and Dragons is a fantasy role playing game. Players work collaboratively through a series of adventures\, gathering treasure and experience points along the way. \nThis co-ed group meets 1-2 times each month. New and experienced players are welcome. \nWe just added an additional Dungeon Master\, so are taking on 5 additional players beginning in January. Please register below. (If registration is full\, please contact the Library to ask about available space.) \nThanks so much to the Pezone family for running our D & D programs!
URL:https://lewisborolibrary.org/event/dungeons-dragons-6/
CATEGORIES:Child,Teen
ATTACH;FMTTYPE=image/jpeg:https://lewisborolibrary.org/wp-content/uploads/2023/08/230923-Dungeons-and-Dragons-compressed.jpg
END:VEVENT
BEGIN:VEVENT
DTSTART;TZID=America/New_York:20240123T190000
DTEND;TZID=America/New_York:20240123T200000
DTSTAMP:20260419T201407
CREATED:20231218T210001Z
LAST-MODIFIED:20231218T210001Z
UID:24214-1706036400-1706040000@lewisborolibrary.org
SUMMARY:Teen Advisory Group
DESCRIPTION:For Teens in Middle & High School.\n \nEARN COMMUNITY SERVICE HOURS * PLAN AND RUN TEEN EVENTS * GAIN LEADERSHIP SKILLS!\nThe Lewisboro Library Teen Advisory Group (or “TAG”) seeks teens to help come up with fun\, engaging programs for you and your friends all year round. \nNew members are welcome to join this group\, which meets monthly for planning – and snacks! \nHelp us make the Library YOUR favorite gathering space! \nPlease register below.
URL:https://lewisborolibrary.org/event/teen-advisory-group-23/
CATEGORIES:Teen
ATTACH;FMTTYPE=image/jpeg:https://lewisborolibrary.org/wp-content/uploads/2023/03/TAG-compressed.jpg
END:VEVENT
END:VCALENDAR