BEGIN:VCALENDAR
VERSION:2.0
PRODID:-//Lewisboro Library - ECPv6.15.20//NONSGML v1.0//EN
CALSCALE:GREGORIAN
METHOD:PUBLISH
X-ORIGINAL-URL:https://lewisborolibrary.org
X-WR-CALDESC:Events for Lewisboro Library
REFRESH-INTERVAL;VALUE=DURATION:PT1H
X-Robots-Tag:noindex
X-PUBLISHED-TTL:PT1H
BEGIN:VTIMEZONE
TZID:America/New_York
BEGIN:DAYLIGHT
TZOFFSETFROM:-0500
TZOFFSETTO:-0400
TZNAME:EDT
DTSTART:20220313T070000
END:DAYLIGHT
BEGIN:STANDARD
TZOFFSETFROM:-0400
TZOFFSETTO:-0500
TZNAME:EST
DTSTART:20221106T060000
END:STANDARD
BEGIN:DAYLIGHT
TZOFFSETFROM:-0500
TZOFFSETTO:-0400
TZNAME:EDT
DTSTART:20230312T070000
END:DAYLIGHT
BEGIN:STANDARD
TZOFFSETFROM:-0400
TZOFFSETTO:-0500
TZNAME:EST
DTSTART:20231105T060000
END:STANDARD
BEGIN:DAYLIGHT
TZOFFSETFROM:-0500
TZOFFSETTO:-0400
TZNAME:EDT
DTSTART:20240310T070000
END:DAYLIGHT
BEGIN:STANDARD
TZOFFSETFROM:-0400
TZOFFSETTO:-0500
TZNAME:EST
DTSTART:20241103T060000
END:STANDARD
END:VTIMEZONE
BEGIN:VEVENT
DTSTART;TZID=America/New_York:20231004T160000
DTEND;TZID=America/New_York:20231004T170000
DTSTAMP:20260420T174518
CREATED:20230920T032433Z
LAST-MODIFIED:20230920T032433Z
UID:22460-1696435200-1696438800@lewisborolibrary.org
SUMMARY:Teen Makerspace: Crochet
DESCRIPTION:For Teens in Middle & High School \nIn this series\, you will learn basic crochet stitches\, and then how to make these adorable sea creatures! \nAll materials supplied. Space is limited\, so please register for October below.
URL:https://lewisborolibrary.org/event/teen-makerspace-crochet-2/
CATEGORIES:Teen
ATTACH;FMTTYPE=image/jpeg:https://lewisborolibrary.org/wp-content/uploads/2023/08/230816-Teen-Crochet-compressed.jpg
END:VEVENT
BEGIN:VEVENT
DTSTART;TZID=America/New_York:20231010T190000
DTEND;TZID=America/New_York:20231010T200000
DTSTAMP:20260420T174518
CREATED:20230917T180921Z
LAST-MODIFIED:20231003T171321Z
UID:22427-1696964400-1696968000@lewisborolibrary.org
SUMMARY:Middle Reads: Choose "Witch" Book to Read?
DESCRIPTION:For Grades 6 – 8. \nYou Choose! Read one (or more) of the following titles: The Witch of Blackbird Pond by Elizabeth George Speare\, The Witches: The Absolutely True Tale of Disaster in Salem\,  by Rosalyn Schanzer\, or Wicked Girls: a novel of the Salem Witch Trials by Stephanie Hemphill.  We’ll compare titles\, have some refreshments\, and discuss this frightful time in history. \nSpace is limited\, Please register below. \nNote: photographs are often taken at our events to post on social media and our website. Please let the event leader know if you would prefer your child not be photographed.
URL:https://lewisborolibrary.org/event/middle-reads-choose-witch-book-to-read/
CATEGORIES:Teen
ATTACH;FMTTYPE=image/jpeg:https://lewisborolibrary.org/wp-content/uploads/2023/09/231019-Middle-Reads-Witches-compressed.jpg
END:VEVENT
BEGIN:VEVENT
DTSTART;TZID=America/New_York:20231011T160000
DTEND;TZID=America/New_York:20231011T170000
DTSTAMP:20260420T174518
CREATED:20230920T032433Z
LAST-MODIFIED:20230920T032724Z
UID:22463-1697040000-1697043600@lewisborolibrary.org
SUMMARY:Teen Makerspace: Crochet
DESCRIPTION:For Teens in Middle & High School \nIn this series\, you will learn basic crochet stitches\, and then how to make these adorable sea creatures! \nAll materials supplied.
URL:https://lewisborolibrary.org/event/teen-makerspace-crochet-2-2023-10-11/
CATEGORIES:Teen
ATTACH;FMTTYPE=image/jpeg:https://lewisborolibrary.org/wp-content/uploads/2023/08/230816-Teen-Crochet-compressed.jpg
END:VEVENT
BEGIN:VEVENT
DTSTART;TZID=America/New_York:20231014T160000
DTEND;TZID=America/New_York:20231014T180000
DTSTAMP:20260420T174518
CREATED:20230829T235703Z
LAST-MODIFIED:20230927T203549Z
UID:22175-1697299200-1697306400@lewisborolibrary.org
SUMMARY:Dungeons & Dragons
DESCRIPTION:For Players in Grades 4 – High School. Group will be split according to age.\n \nDungeons and Dragons is a fantasy role playing game. Players work collaboratively through a series of adventures\, gathering treasure and experience points along the way. \nThe group meets monthly. New and experienced players are welcome. \nSpace is limited. Play began in September. If interested in joining\, please contact the Library to ask about available space. \nThanks so much to the Pezone family for running our D & D programs!
URL:https://lewisborolibrary.org/event/dungeons-dragons-5/
CATEGORIES:Teen
ATTACH;FMTTYPE=image/jpeg:https://lewisborolibrary.org/wp-content/uploads/2023/08/230923-Dungeons-and-Dragons-compressed.jpg
END:VEVENT
BEGIN:VEVENT
DTSTART;TZID=America/New_York:20231016T160000
DTEND;TZID=America/New_York:20231016T170000
DTSTAMP:20260420T174518
CREATED:20230920T032433Z
LAST-MODIFIED:20231004T200214Z
UID:22464-1697472000-1697475600@lewisborolibrary.org
SUMMARY:Teen Makerspace: Crochet
DESCRIPTION:For Teens in Middle & High School \nIn this series\, you will learn basic crochet stitches\, and then how to make these adorable sea creatures! \nAll materials supplied.
URL:https://lewisborolibrary.org/event/teen-makerspace-crochet-2-2023-10-18/2023-10-16/
CATEGORIES:Teen
ATTACH;FMTTYPE=image/jpeg:https://lewisborolibrary.org/wp-content/uploads/2023/08/230816-Teen-Crochet-compressed.jpg
END:VEVENT
BEGIN:VEVENT
DTSTART;TZID=America/New_York:20231023T160000
DTEND;TZID=America/New_York:20231023T170000
DTSTAMP:20260420T174518
CREATED:20230920T032433Z
LAST-MODIFIED:20231004T200433Z
UID:22465-1698076800-1698080400@lewisborolibrary.org
SUMMARY:Teen Makerspace: Crochet
DESCRIPTION:For Teens in Middle & High School \nIn this series\, you will learn basic crochet stitches\, and then how to make these adorable sea creatures! \nAll materials supplied.
URL:https://lewisborolibrary.org/event/teen-makerspace-crochet-2-2023-10-18-2023-10-25/
CATEGORIES:Teen
ATTACH;FMTTYPE=image/jpeg:https://lewisborolibrary.org/wp-content/uploads/2023/08/230816-Teen-Crochet-compressed.jpg
END:VEVENT
BEGIN:VEVENT
DTSTART;TZID=America/New_York:20231024T190000
DTEND;TZID=America/New_York:20231024T200000
DTSTAMP:20260420T174518
CREATED:20230918T215307Z
LAST-MODIFIED:20231017T125723Z
UID:22435-1698174000-1698177600@lewisborolibrary.org
SUMMARY:Teen Advisory Group
DESCRIPTION:For Teens in Middle & High School.\n \nEARN COMMUNITY SERVICE HOURS * PLAN AND RUN TEEN EVENTS * GAIN LEADERSHIP SKILLS!\nThe Lewisboro Library Teen Advisory Group (or “TAG”) seeks teens to help come up with fun\, engaging programs for you and your friends all year round. \nNew members are welcome.  Ice cream is served. \nHelp us make the Library YOUR favorite gathering space! \nPlease register below.
URL:https://lewisborolibrary.org/event/teen-advisory-group-21/
CATEGORIES:Teen
ATTACH;FMTTYPE=image/jpeg:https://lewisborolibrary.org/wp-content/uploads/2023/03/TAG-compressed.jpg
END:VEVENT
BEGIN:VEVENT
DTSTART;TZID=America/New_York:20231030T160000
DTEND;TZID=America/New_York:20231030T170000
DTSTAMP:20260420T174518
CREATED:20231004T200903Z
LAST-MODIFIED:20240103T164232Z
UID:22709-1698681600-1698685200@lewisborolibrary.org
SUMMARY:Teen Makerspace: Crochet
DESCRIPTION:For Teens in Middle & High School \nIn this series\, you will learn basic crochet stitches\, and then how to make these adorable sea creatures! \nAll materials supplied.
URL:https://lewisborolibrary.org/event/teen-makerspace-crochet-3/2023-10-30/
CATEGORIES:Teen
ATTACH;FMTTYPE=image/jpeg:https://lewisborolibrary.org/wp-content/uploads/2023/08/230816-Teen-Crochet-compressed.jpg
END:VEVENT
END:VCALENDAR