BEGIN:VCALENDAR
VERSION:2.0
PRODID:-//Lewisboro Library - ECPv6.15.20//NONSGML v1.0//EN
CALSCALE:GREGORIAN
METHOD:PUBLISH
X-WR-CALNAME:Lewisboro Library
X-ORIGINAL-URL:https://lewisborolibrary.org
X-WR-CALDESC:Events for Lewisboro Library
REFRESH-INTERVAL;VALUE=DURATION:PT1H
X-Robots-Tag:noindex
X-PUBLISHED-TTL:PT1H
BEGIN:VTIMEZONE
TZID:America/New_York
BEGIN:DAYLIGHT
TZOFFSETFROM:-0500
TZOFFSETTO:-0400
TZNAME:EDT
DTSTART:20220313T070000
END:DAYLIGHT
BEGIN:STANDARD
TZOFFSETFROM:-0400
TZOFFSETTO:-0500
TZNAME:EST
DTSTART:20221106T060000
END:STANDARD
BEGIN:DAYLIGHT
TZOFFSETFROM:-0500
TZOFFSETTO:-0400
TZNAME:EDT
DTSTART:20230312T070000
END:DAYLIGHT
BEGIN:STANDARD
TZOFFSETFROM:-0400
TZOFFSETTO:-0500
TZNAME:EST
DTSTART:20231105T060000
END:STANDARD
BEGIN:DAYLIGHT
TZOFFSETFROM:-0500
TZOFFSETTO:-0400
TZNAME:EDT
DTSTART:20240310T070000
END:DAYLIGHT
BEGIN:STANDARD
TZOFFSETFROM:-0400
TZOFFSETTO:-0500
TZNAME:EST
DTSTART:20241103T060000
END:STANDARD
END:VTIMEZONE
BEGIN:VEVENT
DTSTART;TZID=America/New_York:20230804T190000
DTEND;TZID=America/New_York:20230804T203000
DTSTAMP:20260420T225613
CREATED:20230609T183908Z
LAST-MODIFIED:20230803T153723Z
UID:20702-1691175600-1691181000@lewisborolibrary.org
SUMMARY:Murder Mystery - Las Vegas
DESCRIPTION:For Teens in Middle & High School \nSort through the clues\, read the statements and face the suspect line-up. \nWhat happens in Vegas …. comes to Lewisboro. \nSpace is limited\, please register below.
URL:https://lewisborolibrary.org/event/murder-mystery-las-vegas/
CATEGORIES:Teen
ATTACH;FMTTYPE=image/jpeg:https://lewisborolibrary.org/wp-content/uploads/2023/06/230804-Murder-Mystery-Las-Vegas.jpg
END:VEVENT
BEGIN:VEVENT
DTSTART;TZID=America/New_York:20230808T190000
DTEND;TZID=America/New_York:20230808T203000
DTSTAMP:20260420T225613
CREATED:20230609T180435Z
LAST-MODIFIED:20230609T180435Z
UID:20690-1691521200-1691526600@lewisborolibrary.org
SUMMARY:Cool for the Summer: Mexican Aquas Frescas & Horchata
DESCRIPTION:For Teens in Middle & High School \nTake in some cool culture! Try your hand at making these refreshing summer drinks from this warm-weather country. Browse the latest YA titles by Mexican authors\, and craft a papel picado. \n \nSpace is limited\, please register below. \n 
URL:https://lewisborolibrary.org/event/cool-for-the-summer-mexican-aquas-frescas-horchata/
CATEGORIES:Teen
ATTACH;FMTTYPE=image/jpeg:https://lewisborolibrary.org/wp-content/uploads/2023/06/230808-Cool-for-the-SUmmer-Frescas-compressed.jpg
END:VEVENT
BEGIN:VEVENT
DTSTART;TZID=America/New_York:20230816T160000
DTEND;TZID=America/New_York:20230816T170000
DTSTAMP:20260420T225613
CREATED:20230803T183504Z
LAST-MODIFIED:20230809T152543Z
UID:21796-1692201600-1692205200@lewisborolibrary.org
SUMMARY:Teen Makerspace: Crochet
DESCRIPTION:For Teens in Middle & High School \nIn this series\, you will learn basic crochet stitches\, and then how to make these adorable sea creatures! \nAll materials supplied. Space is limited\, so please register below. (You only need to register for the first session.) \n 
URL:https://lewisborolibrary.org/event/teen-makerspace-crochet/2023-08-16/
CATEGORIES:Teen
ATTACH;FMTTYPE=image/jpeg:https://lewisborolibrary.org/wp-content/uploads/2023/08/230816-Teen-Crochet-compressed.jpg
END:VEVENT
BEGIN:VEVENT
DTSTART;TZID=America/New_York:20230818T190000
DTEND;TZID=America/New_York:20230818T203000
DTSTAMP:20260420T225613
CREATED:20230609T184445Z
LAST-MODIFIED:20230609T184445Z
UID:20705-1692385200-1692390600@lewisborolibrary.org
SUMMARY:Crackers & Cheez Whiz Construction
DESCRIPTION:For Teens in Middle & High School. \nUse your STEM engineering skills to build different structures out of humanity’s greatest building materials: canned cheese\, crackers and pretzels! \nStart easy with a doghouse\, and then progress on to bridges and the Leaning Tower of Pisa! \nSpace is limited\, please register below.
URL:https://lewisborolibrary.org/event/crackers-cheez-whiz-construction/
CATEGORIES:Teen
ATTACH;FMTTYPE=image/jpeg:https://lewisborolibrary.org/wp-content/uploads/2023/06/230718-Crackers-Cheez-Whiz-COnstruction-compressed.jpg
END:VEVENT
BEGIN:VEVENT
DTSTART;TZID=America/New_York:20230822T190000
DTEND;TZID=America/New_York:20230822T203000
DTSTAMP:20260420T225613
CREATED:20230609T184947Z
LAST-MODIFIED:20230810T204404Z
UID:20708-1692730800-1692736200@lewisborolibrary.org
SUMMARY:Teen Summer Reading Prize Party
DESCRIPTION:For Teens in Middle & High School \nThis is a celebration for those who participated in the Summer Reading Program. Enjoy ice cream\, get prizes and play outdoor games. Rain date is August 23. \nSpace is limited\, please register below.
URL:https://lewisborolibrary.org/event/teen-summer-reading-prize-party-3/
CATEGORIES:Teen
ATTACH;FMTTYPE=image/jpeg:https://lewisborolibrary.org/wp-content/uploads/2023/06/230822-Teen-SUmmer-Reading-Prize-Party-compressed.jpg
END:VEVENT
END:VCALENDAR