BEGIN:VCALENDAR
VERSION:2.0
PRODID:-//Lewisboro Library - ECPv6.15.20//NONSGML v1.0//EN
CALSCALE:GREGORIAN
METHOD:PUBLISH
X-ORIGINAL-URL:https://lewisborolibrary.org
X-WR-CALDESC:Events for Lewisboro Library
REFRESH-INTERVAL;VALUE=DURATION:PT1H
X-Robots-Tag:noindex
X-PUBLISHED-TTL:PT1H
BEGIN:VTIMEZONE
TZID:America/New_York
BEGIN:DAYLIGHT
TZOFFSETFROM:-0500
TZOFFSETTO:-0400
TZNAME:EDT
DTSTART:20220313T070000
END:DAYLIGHT
BEGIN:STANDARD
TZOFFSETFROM:-0400
TZOFFSETTO:-0500
TZNAME:EST
DTSTART:20221106T060000
END:STANDARD
BEGIN:DAYLIGHT
TZOFFSETFROM:-0500
TZOFFSETTO:-0400
TZNAME:EDT
DTSTART:20230312T070000
END:DAYLIGHT
BEGIN:STANDARD
TZOFFSETFROM:-0400
TZOFFSETTO:-0500
TZNAME:EST
DTSTART:20231105T060000
END:STANDARD
BEGIN:DAYLIGHT
TZOFFSETFROM:-0500
TZOFFSETTO:-0400
TZNAME:EDT
DTSTART:20240310T070000
END:DAYLIGHT
BEGIN:STANDARD
TZOFFSETFROM:-0400
TZOFFSETTO:-0500
TZNAME:EST
DTSTART:20241103T060000
END:STANDARD
END:VTIMEZONE
BEGIN:VEVENT
DTSTART;TZID=America/New_York:20230707T190000
DTEND;TZID=America/New_York:20230707T203000
DTSTAMP:20260421T001536
CREATED:20230609T175910Z
LAST-MODIFIED:20230609T175910Z
UID:20687-1688756400-1688761800@lewisborolibrary.org
SUMMARY:Cool for the Summer: Moroccan Mint Limonana
DESCRIPTION:For Teens in Middle & High School \nTake in some cool culture! Make this refreshing middle-eastern mint lemonade with fresh ingredients\, and then paint a Moroccan tile. Browse some great YA titles that take place in this intriguing part of the world. \n \nSpace is limited\, please register below. \n 
URL:https://lewisborolibrary.org/event/cool-for-the-summer-moroccan-mint-limonana/
CATEGORIES:Teen
ATTACH;FMTTYPE=image/jpeg:https://lewisborolibrary.org/wp-content/uploads/2023/06/230707-Limonana-compressed.jpg
END:VEVENT
BEGIN:VEVENT
DTSTART;TZID=America/New_York:20230711T190000
DTEND;TZID=America/New_York:20230711T203000
DTSTAMP:20260421T001536
CREATED:20230609T182056Z
LAST-MODIFIED:20230705T215224Z
UID:20693-1689102000-1689107400@lewisborolibrary.org
SUMMARY:Teen Minute to Win It
DESCRIPTION:For Teens in Middle & High School \nBring your squad and find out who can hold the record in a number of hilarious challenges\, like who can eat Fruit by the Foot fastest – with no hands! \nSpace is limited\, please register below.
URL:https://lewisborolibrary.org/event/teen-minute-to-win-it/
CATEGORIES:Teen
ATTACH;FMTTYPE=image/jpeg:https://lewisborolibrary.org/wp-content/uploads/2023/06/230711-Minute-to-Win-It.jpg
END:VEVENT
BEGIN:VEVENT
DTSTART;TZID=America/New_York:20230721T190000
DTEND;TZID=America/New_York:20230721T203000
DTSTAMP:20260421T001536
CREATED:20230609T182848Z
LAST-MODIFIED:20230719T201133Z
UID:20696-1689966000-1689971400@lewisborolibrary.org
SUMMARY:Teen Paint Night
DESCRIPTION:For Teens in Middle & High School. \nEnjoy an evening with friends creating your unique take on this whimsical painting. \nSpace is limited\, please register below.
URL:https://lewisborolibrary.org/event/teen-paint-night-5/
CATEGORIES:Teen
ATTACH;FMTTYPE=image/jpeg:https://lewisborolibrary.org/wp-content/uploads/2023/06/230721-Teen-Paint-Night-compressed.jpg
END:VEVENT
BEGIN:VEVENT
DTSTART;TZID=America/New_York:20230725T190000
DTEND;TZID=America/New_York:20230725T203000
DTSTAMP:20260421T001536
CREATED:20230609T183408Z
LAST-MODIFIED:20230705T215415Z
UID:20699-1690311600-1690317000@lewisborolibrary.org
SUMMARY:Teen Board Game Night
DESCRIPTION:For Teens in Middle & High School \nWhat’s your game – Exploding Kittens\, What do You Meme\, Pictionary\, Trivial Pursuit or Telestrations? Bring your friends or come solo and join a game. Refreshments served. \nSpace is limited\, please register below.
URL:https://lewisborolibrary.org/event/teen-board-game-night/
CATEGORIES:Teen
ATTACH;FMTTYPE=image/jpeg:https://lewisborolibrary.org/wp-content/uploads/2023/06/230725-Board-Game-Night-compressed.jpg
END:VEVENT
END:VCALENDAR