BEGIN:VCALENDAR
VERSION:2.0
PRODID:-//Lewisboro Library - ECPv6.15.20//NONSGML v1.0//EN
CALSCALE:GREGORIAN
METHOD:PUBLISH
X-ORIGINAL-URL:https://lewisborolibrary.org
X-WR-CALDESC:Events for Lewisboro Library
REFRESH-INTERVAL;VALUE=DURATION:PT1H
X-Robots-Tag:noindex
X-PUBLISHED-TTL:PT1H
BEGIN:VTIMEZONE
TZID:America/New_York
BEGIN:DAYLIGHT
TZOFFSETFROM:-0500
TZOFFSETTO:-0400
TZNAME:EDT
DTSTART:20220313T070000
END:DAYLIGHT
BEGIN:STANDARD
TZOFFSETFROM:-0400
TZOFFSETTO:-0500
TZNAME:EST
DTSTART:20221106T060000
END:STANDARD
BEGIN:DAYLIGHT
TZOFFSETFROM:-0500
TZOFFSETTO:-0400
TZNAME:EDT
DTSTART:20230312T070000
END:DAYLIGHT
BEGIN:STANDARD
TZOFFSETFROM:-0400
TZOFFSETTO:-0500
TZNAME:EST
DTSTART:20231105T060000
END:STANDARD
BEGIN:DAYLIGHT
TZOFFSETFROM:-0500
TZOFFSETTO:-0400
TZNAME:EDT
DTSTART:20240310T070000
END:DAYLIGHT
BEGIN:STANDARD
TZOFFSETFROM:-0400
TZOFFSETTO:-0500
TZNAME:EST
DTSTART:20241103T060000
END:STANDARD
END:VTIMEZONE
BEGIN:VEVENT
DTSTART;TZID=America/New_York:20230510T160000
DTEND;TZID=America/New_York:20230510T170000
DTSTAMP:20260423T134940
CREATED:20230422T201502Z
LAST-MODIFIED:20230427T182917Z
UID:19794-1683734400-1683738000@lewisborolibrary.org
SUMMARY:Teen Game: Exploding Kittens
DESCRIPTION:For Teens in Middle & High School \nBetray your friends. Try not to explode. \nExploding Kittens is a highly-strategic\, life-or-death game of chance. Players draw cards until somebody draws an Exploding Kitten\, at which point they explode and are out of the game. To avoid exploding\, they can defuse the kitten with a laser pointer or catnip sandwich OR use powerful action cards to move or avoid the Exploding Kitten. \nSpace is limited. Please register below.
URL:https://lewisborolibrary.org/event/teen-game-exploding-kittens/
CATEGORIES:Teen
ATTACH;FMTTYPE=image/jpeg:https://lewisborolibrary.org/wp-content/uploads/2023/04/230510-Exploding-Kittens-compressed.jpg
END:VEVENT
BEGIN:VEVENT
DTSTART;TZID=America/New_York:20230516T190000
DTEND;TZID=America/New_York:20230516T200000
DTSTAMP:20260423T134940
CREATED:20230422T201924Z
LAST-MODIFIED:20230422T201924Z
UID:19798-1684263600-1684267200@lewisborolibrary.org
SUMMARY:Teen Advisory Group
DESCRIPTION:For Teens in Middle & High School. \nEARN COMMUNITY SERVICE HOURS * PLAN AND RUN TEEN EVENTS * GAIN LEADERSHIP SKILLS!\nThe Lewisboro Library Teen Advisory Group (or “TAG”) seeks teens to help come up with fun\, engaging programs for you and your friends all year round. \nNew members are welcome.  Ice cream is served. \nHelp us make the Library YOUR favorite gathering space! \nPlease register below.
URL:https://lewisborolibrary.org/event/teen-advisory-group-19/
CATEGORIES:Teen
ATTACH;FMTTYPE=image/jpeg:https://lewisborolibrary.org/wp-content/uploads/2023/03/TAG-compressed.jpg
END:VEVENT
END:VCALENDAR