BEGIN:VCALENDAR
VERSION:2.0
PRODID:-//Lewisboro Library - ECPv6.15.20//NONSGML v1.0//EN
CALSCALE:GREGORIAN
METHOD:PUBLISH
X-ORIGINAL-URL:https://lewisborolibrary.org
X-WR-CALDESC:Events for Lewisboro Library
REFRESH-INTERVAL;VALUE=DURATION:PT1H
X-Robots-Tag:noindex
X-PUBLISHED-TTL:PT1H
BEGIN:VTIMEZONE
TZID:America/New_York
BEGIN:DAYLIGHT
TZOFFSETFROM:-0500
TZOFFSETTO:-0400
TZNAME:EDT
DTSTART:20220313T070000
END:DAYLIGHT
BEGIN:STANDARD
TZOFFSETFROM:-0400
TZOFFSETTO:-0500
TZNAME:EST
DTSTART:20221106T060000
END:STANDARD
BEGIN:DAYLIGHT
TZOFFSETFROM:-0500
TZOFFSETTO:-0400
TZNAME:EDT
DTSTART:20230312T070000
END:DAYLIGHT
BEGIN:STANDARD
TZOFFSETFROM:-0400
TZOFFSETTO:-0500
TZNAME:EST
DTSTART:20231105T060000
END:STANDARD
BEGIN:DAYLIGHT
TZOFFSETFROM:-0500
TZOFFSETTO:-0400
TZNAME:EDT
DTSTART:20240310T070000
END:DAYLIGHT
BEGIN:STANDARD
TZOFFSETFROM:-0400
TZOFFSETTO:-0500
TZNAME:EST
DTSTART:20241103T060000
END:STANDARD
END:VTIMEZONE
BEGIN:VEVENT
DTSTART;TZID=America/New_York:20230301T190000
DTEND;TZID=America/New_York:20230301T200000
DTSTAMP:20260424T191859
CREATED:20230117T210902Z
LAST-MODIFIED:20230228T135640Z
UID:18361-1677697200-1677700800@lewisborolibrary.org
SUMMARY:Teen Advisory Group - Rescheduled
DESCRIPTION:Due to the winter storm\, the Teen Advisory Group will meet on Wednesday\, March 1.\n  \nFor Teens in Middle & High School. \nEARN COMMUNITY SERVICE HOURS * PLAN AND RUN TEEN EVENTS * GAIN LEADERSHIP SKILLS\n  \nThe Lewisboro Library Teen Advisory Group (or “TAG”) seeks teens to help come up with fun\, engaging programs for you and your friends all year round. \nNew members are welcome.  Ice cream is served. \nHelp us make the Library YOUR favorite gathering space! \nPlease register below.
URL:https://lewisborolibrary.org/event/teen-advisory-group-16/
CATEGORIES:Teen
ATTACH;FMTTYPE=image/jpeg:https://lewisborolibrary.org/wp-content/uploads/2021/08/210921-TAG-compressed.jpg
END:VEVENT
BEGIN:VEVENT
DTSTART;TZID=America/New_York:20230310T190000
DTEND;TZID=America/New_York:20230310T203000
DTSTAMP:20260424T191859
CREATED:20230215T230732Z
LAST-MODIFIED:20230309T181603Z
UID:18757-1678474800-1678480200@lewisborolibrary.org
SUMMARY:Teen Paint Night
DESCRIPTION:For Teens in Middle & High School\n \nSpend an evening with your peers painting a colorful sun\, under the instruction of talented teen artist Isabella Ferrajina. \nSpace is limited.  Please register below.
URL:https://lewisborolibrary.org/event/teen-paint-night-4/
CATEGORIES:Teen
ATTACH;FMTTYPE=image/jpeg:https://lewisborolibrary.org/wp-content/uploads/2023/02/230310-Teen-Paint-Night-compressed1.jpg
END:VEVENT
BEGIN:VEVENT
DTSTART;TZID=America/New_York:20230315T190000
DTEND;TZID=America/New_York:20230315T200000
DTSTAMP:20260424T191859
CREATED:20230215T175140Z
LAST-MODIFIED:20230314T162422Z
UID:18737-1678906800-1678910400@lewisborolibrary.org
SUMMARY:Middle Reads: "The Body in the Woods" (postponed from March 14)
DESCRIPTION:For teens in grades 6 – 8. \nJoin us for monthly book discussions\, ice cream and socializing! Books are available for pickup at the Library. \nThe book selection for March is The Body in the Woods\, by April Henry. When teens Alexis\, Nick and Ruby join Portland County Sheriff’s Search and Rescue\, they are teamed up to search for a autistic man lost in the woods. What they find instead is a dead body. In a friendship that will be forged in danger\, fear and courage\, the three team up to find the girl’s killer―before he can strike one of their own. \nPlease register below.
URL:https://lewisborolibrary.org/event/middle-reads-the-body-in-the-woods/
CATEGORIES:Teen
ATTACH;FMTTYPE=image/jpeg:https://lewisborolibrary.org/wp-content/uploads/2023/02/230307-Middle-Reads-The-BOdy-in-the-Woods-compressed.jpg
END:VEVENT
BEGIN:VEVENT
DTSTART;TZID=America/New_York:20230316T190000
DTEND;TZID=America/New_York:20230316T200000
DTSTAMP:20260424T191859
CREATED:20230215T181448Z
LAST-MODIFIED:20230215T181448Z
UID:18740-1678993200-1678996800@lewisborolibrary.org
SUMMARY:(Virtual) Teen Job Search Workshop
DESCRIPTION:For Teens in High School. \nLooking to land a part-time or summer job? \nGet tips on applications\, interviews\, resumes & more in this free virtual workshop led by a professional WLS Career Coach. \nDiscover where to look for jobs\, what kind of jobs are available for teens\, how to answer questions on the job application\, what to include in a resume and what to share and ask during an interview. \nRegister for the Zoom link HERE.
URL:https://lewisborolibrary.org/event/virtual-teen-job-search-workshop/
CATEGORIES:Teen
ATTACH;FMTTYPE=image/jpeg:https://lewisborolibrary.org/wp-content/uploads/2023/02/230316-Teen-Job-Search-compressed1.jpg
END:VEVENT
BEGIN:VEVENT
DTSTART;TZID=America/New_York:20230328T190000
DTEND;TZID=America/New_York:20230328T200000
DTSTAMP:20260424T191859
CREATED:20230222T164625Z
LAST-MODIFIED:20230303T003829Z
UID:18814-1680030000-1680033600@lewisborolibrary.org
SUMMARY:Teen Advisory Group
DESCRIPTION:For Teens in Middle & High School. \nEARN COMMUNITY SERVICE HOURS * PLAN AND RUN TEEN EVENTS * GAIN LEADERSHIP SKILLS!\nThe Lewisboro Library Teen Advisory Group (or “TAG”) seeks teens to help come up with fun\, engaging programs for you and your friends all year round. \nNew members are welcome.  Ice cream is served. \nHelp us make the Library YOUR favorite gathering space! \nPlease register below.
URL:https://lewisborolibrary.org/event/teen-advisory-group-17/
CATEGORIES:Teen
ATTACH;FMTTYPE=image/jpeg:https://lewisborolibrary.org/wp-content/uploads/2023/03/TAG-compressed.jpg
END:VEVENT
END:VCALENDAR