BEGIN:VCALENDAR
VERSION:2.0
PRODID:-//Lewisboro Library - ECPv6.15.20//NONSGML v1.0//EN
CALSCALE:GREGORIAN
METHOD:PUBLISH
X-ORIGINAL-URL:https://lewisborolibrary.org
X-WR-CALDESC:Events for Lewisboro Library
REFRESH-INTERVAL;VALUE=DURATION:PT1H
X-Robots-Tag:noindex
X-PUBLISHED-TTL:PT1H
BEGIN:VTIMEZONE
TZID:America/New_York
BEGIN:DAYLIGHT
TZOFFSETFROM:-0500
TZOFFSETTO:-0400
TZNAME:EDT
DTSTART:20210314T070000
END:DAYLIGHT
BEGIN:STANDARD
TZOFFSETFROM:-0400
TZOFFSETTO:-0500
TZNAME:EST
DTSTART:20211107T060000
END:STANDARD
BEGIN:DAYLIGHT
TZOFFSETFROM:-0500
TZOFFSETTO:-0400
TZNAME:EDT
DTSTART:20220313T070000
END:DAYLIGHT
BEGIN:STANDARD
TZOFFSETFROM:-0400
TZOFFSETTO:-0500
TZNAME:EST
DTSTART:20221106T060000
END:STANDARD
BEGIN:DAYLIGHT
TZOFFSETFROM:-0500
TZOFFSETTO:-0400
TZNAME:EDT
DTSTART:20230312T070000
END:DAYLIGHT
BEGIN:STANDARD
TZOFFSETFROM:-0400
TZOFFSETTO:-0500
TZNAME:EST
DTSTART:20231105T060000
END:STANDARD
END:VTIMEZONE
BEGIN:VEVENT
DTSTART;TZID=America/New_York:20221008T160000
DTEND;TZID=America/New_York:20221008T160000
DTSTAMP:20260425T075040
CREATED:20220810T202148Z
LAST-MODIFIED:20221219T191546Z
UID:15619-1665244800-1665244800@lewisborolibrary.org
SUMMARY:Teen Dungeons & Dragons
DESCRIPTION:For Teens in Middle & High School \nDungeons and Dragons is a fantasy role playing game. Players work collaboratively through a series of adventures\, gathering treasure and experience points along the way. \nThe group meets monthly. New and experienced players are welcome. \nSpace is limited. Registration took place in September. Please contact the Library to ask about about available space. \nThanks so much to the Pezone family for running our D & D programs!
URL:https://lewisborolibrary.org/event/teen-dungeons-dragons-8-2022-10-08/2022-10-08/
CATEGORIES:Teen
ATTACH;FMTTYPE=image/jpeg:https://lewisborolibrary.org/wp-content/uploads/2022/08/220910-Teen-Dungeons-Dragons-compressed1.jpg
END:VEVENT
BEGIN:VEVENT
DTSTART;TZID=America/New_York:20221011T190000
DTEND;TZID=America/New_York:20221011T200000
DTSTAMP:20260425T075040
CREATED:20220919T194825Z
LAST-MODIFIED:20220919T194825Z
UID:16322-1665514800-1665518400@lewisborolibrary.org
SUMMARY:Middle Reads: "Vanishing Act - Mystery at the U.S. Open"
DESCRIPTION:For teens in grades 6 – 8. \nJoin us for monthly book discussions\, ice cream and socializing! Books are available for pickup at the Library. \nThe book selection for October 11 is Vanishing Act: Mystery at the U.S. Open\, by John Feinstein. When teen sportswriters Stevie Thomas and Susan Carol Anderson score press passes to the U.S. Open\, they are unexpectedly caught up in the mysterious disappearance of Russian tennis phenom Nadia Symanova. \nPlease register below.
URL:https://lewisborolibrary.org/event/middle-reads-vanishing-act-mystery-at-the-u-s-open/
CATEGORIES:Teen
ATTACH;FMTTYPE=image/jpeg:https://lewisborolibrary.org/wp-content/uploads/2022/09/221011-Middle-Reads-Vanishing-Act-compressed.jpg
END:VEVENT
BEGIN:VEVENT
DTSTART;TZID=America/New_York:20221012T190000
DTEND;TZID=America/New_York:20221012T200000
DTSTAMP:20260425T075040
CREATED:20220920T195155Z
LAST-MODIFIED:20220920T195155Z
UID:16334-1665601200-1665604800@lewisborolibrary.org
SUMMARY:(Virtual) Navigating College Admissions Successfully
DESCRIPTION:Via Zoom. For Teens & Parents.\n \nWe are offering this Zoom presentation to help families understand how COVID-19 has changed the college admissions landscape and how it will affect Juniors\, Sophomores and Freshmen. \nThe recent college admissions cycle was the most competitive to date. With most colleges continuing their test-optional policies as well as increasing their virtual outreach to high school students\, many schools had record numbers of applicants. Record high numbers of applications result in record low acceptance rates which is what most popular colleges and universities experienced this past admissions cycle. \nWe will discuss current college admissions trends\, the importance of researching and visiting colleges to find schools that can be a good fit for your child\, a timeline and other action steps that can be taken to make this school year productive and help reduce the stress around the college admissions process. \nWe’ll examine the holistic admissions review process\, what admissions officers consider important when they review applicants\, and how students can position themselves to develop a compelling narrative to increase their chances for admission. \nWe will also discuss the importance of community service\, how it can provide an opportunity for personal growth and a way to showcase a student’s character. Admissions officers place great emphasis on a student’s character and how the student has been able to give back and help others. This program is recommended for parents and their high school teens. \nThe presentation will be led by Ron Feuchs and Jackie Tepper\, partners at Stand Out For College\, LLC. \nPlease register HERE. \nIf you are unable to participate that night\, seminars will also take place October 25 and November 16.
URL:https://lewisborolibrary.org/event/virtual-navigating-college-admissions-successfully/
CATEGORIES:Adult,Teen
ATTACH;FMTTYPE=image/jpeg:https://lewisborolibrary.org/wp-content/uploads/2022/09/221012-Navigating-college-admissions-compressed.jpg
END:VEVENT
BEGIN:VEVENT
DTSTART;TZID=America/New_York:20221021T190000
DTEND;TZID=America/New_York:20221021T203000
DTSTAMP:20260425T075040
CREATED:20220922T192449Z
LAST-MODIFIED:20221012T180549Z
UID:16354-1666378800-1666384200@lewisborolibrary.org
SUMMARY:Stranger Things Night
DESCRIPTION:For Teens in Middle & High School. \nThe ultimate night for fans of TV’s “Stranger Things.” We’ll have Trivia\, Bingo\, Music\, USS Butterscotch Ice Cream Bar & more! \nSpace is limited\, so please register below. If the event is full\, you can send an email to lewisborolibrary@gmail.com to be placed on the wait list.
URL:https://lewisborolibrary.org/event/stranger-things-night/
CATEGORIES:Teen
ATTACH;FMTTYPE=image/jpeg:https://lewisborolibrary.org/wp-content/uploads/2022/09/221021-Stranger-Things-Night-compressed-1.jpg
END:VEVENT
BEGIN:VEVENT
DTSTART;TZID=America/New_York:20221025T190000
DTEND;TZID=America/New_York:20221025T203000
DTSTAMP:20260425T075040
CREATED:20220927T031850Z
LAST-MODIFIED:20220927T031850Z
UID:16476-1666724400-1666729800@lewisborolibrary.org
SUMMARY:Teen Advisory Group
DESCRIPTION:For Teens in Middle & High School.\n \nThe Lewisboro Library Teen Advisory Group (or “TAG”) seeks teens to come up with fun\, engaging programs for you and your peers for the school year. New members welcome.  Ice cream served. \nPlease register below.
URL:https://lewisborolibrary.org/event/teen-advisory-group-12/
CATEGORIES:Teen
ATTACH;FMTTYPE=image/jpeg:https://lewisborolibrary.org/wp-content/uploads/2021/08/210921-TAG-compressed.jpg
END:VEVENT
END:VCALENDAR