BEGIN:VCALENDAR
VERSION:2.0
PRODID:-//Lewisboro Library - ECPv6.15.20//NONSGML v1.0//EN
CALSCALE:GREGORIAN
METHOD:PUBLISH
X-WR-CALNAME:Lewisboro Library
X-ORIGINAL-URL:https://lewisborolibrary.org
X-WR-CALDESC:Events for Lewisboro Library
REFRESH-INTERVAL;VALUE=DURATION:PT1H
X-Robots-Tag:noindex
X-PUBLISHED-TTL:PT1H
BEGIN:VTIMEZONE
TZID:America/New_York
BEGIN:DAYLIGHT
TZOFFSETFROM:-0500
TZOFFSETTO:-0400
TZNAME:EDT
DTSTART:20210314T070000
END:DAYLIGHT
BEGIN:STANDARD
TZOFFSETFROM:-0400
TZOFFSETTO:-0500
TZNAME:EST
DTSTART:20211107T060000
END:STANDARD
BEGIN:DAYLIGHT
TZOFFSETFROM:-0500
TZOFFSETTO:-0400
TZNAME:EDT
DTSTART:20220313T070000
END:DAYLIGHT
BEGIN:STANDARD
TZOFFSETFROM:-0400
TZOFFSETTO:-0500
TZNAME:EST
DTSTART:20221106T060000
END:STANDARD
BEGIN:DAYLIGHT
TZOFFSETFROM:-0500
TZOFFSETTO:-0400
TZNAME:EDT
DTSTART:20230312T070000
END:DAYLIGHT
BEGIN:STANDARD
TZOFFSETFROM:-0400
TZOFFSETTO:-0500
TZNAME:EST
DTSTART:20231105T060000
END:STANDARD
END:VTIMEZONE
BEGIN:VEVENT
DTSTART;TZID=America/New_York:20220910T160000
DTEND;TZID=America/New_York:20220910T160000
DTSTAMP:20260421T045038
CREATED:20220810T202148Z
LAST-MODIFIED:20220909T151146Z
UID:15616-1662825600-1662825600@lewisborolibrary.org
SUMMARY:Teen Dungeons & Dragons
DESCRIPTION:For Teens in Middle & High School \nDungeons and Dragons is a fantasy role playing game. Players work collaboratively through a series of adventures\, gathering treasure and experience points along the way. \nThe group meets monthly. New and experienced players are welcome. \nSpace is limited. Please register below for the school year (returning players must register also.) \nThanks so much to the Pezone family for running our D & D programs!
URL:https://lewisborolibrary.org/event/teen-dungeons-dragons-8/
CATEGORIES:Teen
ATTACH;FMTTYPE=image/jpeg:https://lewisborolibrary.org/wp-content/uploads/2022/08/220910-Teen-Dungeons-Dragons-compressed1.jpg
END:VEVENT
BEGIN:VEVENT
DTSTART;TZID=America/New_York:20220913T190000
DTEND;TZID=America/New_York:20220913T200000
DTSTAMP:20260421T045038
CREATED:20220823T205802Z
LAST-MODIFIED:20220823T205802Z
UID:15813-1663095600-1663099200@lewisborolibrary.org
SUMMARY:Middle Reads Kickoff
DESCRIPTION:For Teens in Grades 6 – 8\n \nNo book discussion tonight – we’ll just have ice cream\, talk about what we read this summer and choose a book to read and discuss in October. Come check us out! \nPlease register below.
URL:https://lewisborolibrary.org/event/middle-reads-kickoff/
CATEGORIES:Teen
ATTACH;FMTTYPE=image/jpeg:https://lewisborolibrary.org/wp-content/uploads/2022/05/220607-Middle-Reads-compressed.jpg
END:VEVENT
BEGIN:VEVENT
DTSTART;TZID=America/New_York:20220920T190000
DTEND;TZID=America/New_York:20220920T200000
DTSTAMP:20260421T045038
CREATED:20220823T210319Z
LAST-MODIFIED:20220823T210319Z
UID:15816-1663700400-1663704000@lewisborolibrary.org
SUMMARY:Teen Advisory Group
DESCRIPTION:For Teens in Middle & High School.\n \nThe Lewisboro Library Teen Advisory Group (or “TAG”) seeks teens to come up with fun\, engaging programs for you and your peers for the school year. New members welcome.  Ice cream served. \nPlease register below.
URL:https://lewisborolibrary.org/event/teen-advisory-group-11/
CATEGORIES:Teen
ATTACH;FMTTYPE=image/jpeg:https://lewisborolibrary.org/wp-content/uploads/2021/08/210921-TAG-compressed.jpg
END:VEVENT
BEGIN:VEVENT
DTSTART;TZID=America/New_York:20220927T160000
DTEND;TZID=America/New_York:20220927T170000
DTSTAMP:20260421T045038
CREATED:20220823T205146Z
LAST-MODIFIED:20220823T205231Z
UID:15809-1664294400-1664298000@lewisborolibrary.org
SUMMARY:Teen Craft: Pompom Garland
DESCRIPTION:For Teens in Middle & High School. \nMake a cute pompom garland to dress up your room\, or maybe your locker. All materials provided. \nPlease register below.
URL:https://lewisborolibrary.org/event/teen-craft-pompom-garland/
CATEGORIES:Teen
ATTACH;FMTTYPE=image/jpeg:https://lewisborolibrary.org/wp-content/uploads/2022/08/220927-Pom-Pom-Garland-compressed.jpg
END:VEVENT
END:VCALENDAR