BEGIN:VCALENDAR
VERSION:2.0
PRODID:-//Lewisboro Library - ECPv6.15.20//NONSGML v1.0//EN
CALSCALE:GREGORIAN
METHOD:PUBLISH
X-WR-CALNAME:Lewisboro Library
X-ORIGINAL-URL:https://lewisborolibrary.org
X-WR-CALDESC:Events for Lewisboro Library
REFRESH-INTERVAL;VALUE=DURATION:PT1H
X-Robots-Tag:noindex
X-PUBLISHED-TTL:PT1H
BEGIN:VTIMEZONE
TZID:America/New_York
BEGIN:DAYLIGHT
TZOFFSETFROM:-0500
TZOFFSETTO:-0400
TZNAME:EDT
DTSTART:20210314T070000
END:DAYLIGHT
BEGIN:STANDARD
TZOFFSETFROM:-0400
TZOFFSETTO:-0500
TZNAME:EST
DTSTART:20211107T060000
END:STANDARD
BEGIN:DAYLIGHT
TZOFFSETFROM:-0500
TZOFFSETTO:-0400
TZNAME:EDT
DTSTART:20220313T070000
END:DAYLIGHT
BEGIN:STANDARD
TZOFFSETFROM:-0400
TZOFFSETTO:-0500
TZNAME:EST
DTSTART:20221106T060000
END:STANDARD
BEGIN:DAYLIGHT
TZOFFSETFROM:-0500
TZOFFSETTO:-0400
TZNAME:EDT
DTSTART:20230312T070000
END:DAYLIGHT
BEGIN:STANDARD
TZOFFSETFROM:-0400
TZOFFSETTO:-0500
TZNAME:EST
DTSTART:20231105T060000
END:STANDARD
END:VTIMEZONE
BEGIN:VEVENT
DTSTART;TZID=America/New_York:20220104T190000
DTEND;TZID=America/New_York:20220104T200000
DTSTAMP:20260422T042646
CREATED:20211214T220643Z
LAST-MODIFIED:20211230T162228Z
UID:12388-1641322800-1641326400@lewisborolibrary.org
SUMMARY:Teen Yoga
DESCRIPTION:This event has been postponed until we can all gather together safely inside! \nFor Teens in Middle and High School \nThe return of our Teen Yoga Class with instructor Ellen Bonheim of Firefly Yoga. Ellen will provide teens with techniques to help them de-stress and relax during the school year. \nBring a mask\, yoga mat and water. \nSpace is limited\, please register below.
URL:https://lewisborolibrary.org/event/teen-yoga-2/
CATEGORIES:Postponed,Teen
ATTACH;FMTTYPE=image/jpeg:https://lewisborolibrary.org/wp-content/uploads/2021/12/220104-Teen-Yoga-compressed-1.jpg
END:VEVENT
BEGIN:VEVENT
DTSTART;TZID=America/New_York:20220111T190000
DTEND;TZID=America/New_York:20220111T200000
DTSTAMP:20260422T042646
CREATED:20211214T222118Z
LAST-MODIFIED:20220110T200445Z
UID:12392-1641927600-1641931200@lewisborolibrary.org
SUMMARY:(Virtual) Middle Reads: Miles Morales Spider-Man
DESCRIPTION:For teens in grades 6 – 8. This month’s meeting is now virtual via Zoom.\n \nJoin us for monthly book discussions and socializing! Books are available for pickup at the Library. \nThe book selection for January 11 is the Marvel YA novel Miles Morales: Spider-Man\, by Jason Reynolds. Miles Morales is just your average teenager. Dinner every Sunday with his parents\, chilling out playing old-school video games with his best friend\, Ganke. He’s even got a scholarship spot at the prestigious Brooklyn Visions Academy. Oh yeah\, and he’s Spider-Man. \nIf you have not already registered – you can access the zoom meeting HERE
URL:https://lewisborolibrary.org/event/middle-reads-miles-morales-spider-man/
CATEGORIES:Teen
ATTACH;FMTTYPE=image/jpeg:https://lewisborolibrary.org/wp-content/uploads/2021/12/220111-Middle-Reads-Miles-Morales-Spider-Man-compressed.jpg
END:VEVENT
BEGIN:VEVENT
DTSTART;TZID=America/New_York:20220124T100000
DTEND;TZID=America/New_York:20220129T170000
DTSTAMP:20260422T042646
CREATED:20211229T171644Z
LAST-MODIFIED:20211229T171644Z
UID:12603-1643018400-1643475600@lewisborolibrary.org
SUMMARY:Teen Take & Make: Hedgehog Craft
DESCRIPTION:For Teens in Middle & High School. \nDon’t be caught unprepared for National Hedgehog Day (February 2)!  Make these cute critters from recycled books. All materials except glue included. Pick one up in the vestibule and make it here or at home. \nThis is a DIY craft that you can do on your own time. Kits with complete instructions will be available for pick up anytime during the week of January 24 – 29. There are a limited number of kits\, so get yours early that week!
URL:https://lewisborolibrary.org/event/teen-take-make-hedgehog-craft/
CATEGORIES:Teen
ATTACH;FMTTYPE=image/jpeg:https://lewisborolibrary.org/wp-content/uploads/2021/12/220124-Take-and-Make-Hedgehog-compressed.jpg
END:VEVENT
BEGIN:VEVENT
DTSTART;TZID=America/New_York:20220125T190000
DTEND;TZID=America/New_York:20220125T200000
DTSTAMP:20260422T042646
CREATED:20211214T224722Z
LAST-MODIFIED:20220112T175431Z
UID:12396-1643137200-1643140800@lewisborolibrary.org
SUMMARY:(Virtual) Teen Advisory Group
DESCRIPTION:For Teens in Middle & High School. The Group Will Meet Via Zoom for January.\n \nThe Lewisboro Library Teen Advisory Group (or “TAG”) seeks teens to come up with fun\, engaging programs for you and your peers. Let’s think about Winter Fun! \nA great way to socialize and earn community service hours. \nPlease register below for your Zoom link.
URL:https://lewisborolibrary.org/event/teen-advisory-group-6/
CATEGORIES:Teen
ATTACH;FMTTYPE=image/jpeg:https://lewisborolibrary.org/wp-content/uploads/2021/08/210921-TAG-compressed.jpg
END:VEVENT
END:VCALENDAR