BEGIN:VCALENDAR
VERSION:2.0
PRODID:-//Lewisboro Library - ECPv6.15.20//NONSGML v1.0//EN
CALSCALE:GREGORIAN
METHOD:PUBLISH
X-WR-CALNAME:Lewisboro Library
X-ORIGINAL-URL:https://lewisborolibrary.org
X-WR-CALDESC:Events for Lewisboro Library
REFRESH-INTERVAL;VALUE=DURATION:PT1H
X-Robots-Tag:noindex
X-PUBLISHED-TTL:PT1H
BEGIN:VTIMEZONE
TZID:America/New_York
BEGIN:DAYLIGHT
TZOFFSETFROM:-0500
TZOFFSETTO:-0400
TZNAME:EDT
DTSTART:20200308T070000
END:DAYLIGHT
BEGIN:STANDARD
TZOFFSETFROM:-0400
TZOFFSETTO:-0500
TZNAME:EST
DTSTART:20201101T060000
END:STANDARD
BEGIN:DAYLIGHT
TZOFFSETFROM:-0500
TZOFFSETTO:-0400
TZNAME:EDT
DTSTART:20210314T070000
END:DAYLIGHT
BEGIN:STANDARD
TZOFFSETFROM:-0400
TZOFFSETTO:-0500
TZNAME:EST
DTSTART:20211107T060000
END:STANDARD
BEGIN:DAYLIGHT
TZOFFSETFROM:-0500
TZOFFSETTO:-0400
TZNAME:EDT
DTSTART:20220313T070000
END:DAYLIGHT
BEGIN:STANDARD
TZOFFSETFROM:-0400
TZOFFSETTO:-0500
TZNAME:EST
DTSTART:20221106T060000
END:STANDARD
END:VTIMEZONE
BEGIN:VEVENT
DTSTART;TZID=America/New_York:20210602T183000
DTEND;TZID=America/New_York:20210602T193000
DTSTAMP:20260422T051722
CREATED:20210420T160919Z
LAST-MODIFIED:20210602T144308Z
UID:8732-1622658600-1622662200@lewisborolibrary.org
SUMMARY:Teen Yoga on the Lawn - Cancelled
DESCRIPTION:For Teens in Middle & High School. \nThis class has been cancelled due to low registration. Please contact the Library is you think your teen would be interested in a summer session.
URL:https://lewisborolibrary.org/event/teen-yoga-on-the-lawn-4/
CATEGORIES:Cancelled,Teen
ATTACH;FMTTYPE=image/jpeg:https://lewisborolibrary.org/wp-content/uploads/2021/04/210519-Yoga-on-the-Lawn-socially-distanced-compressed.jpg
END:VEVENT
BEGIN:VEVENT
DTSTART;TZID=America/New_York:20210608T190000
DTEND;TZID=America/New_York:20210608T200000
DTSTAMP:20260422T051722
CREATED:20210519T203227Z
LAST-MODIFIED:20210519T203227Z
UID:9109-1623178800-1623182400@lewisborolibrary.org
SUMMARY:(Virtual) Middle Reads: "Too Bright to See"
DESCRIPTION:Via Zoom. For teens in grades 6 – 8. \nJoin us for monthly virtual book discussions and socializing! Books are available for pickup at the Library. \nThe book selection for June 8 is Too Bright to See\, by Kyle Lukoff. In the summer before middle school\, eleven-year-old Bug’s best friend Moira has decided the two of them need to use the next few months to prepare. For Moira\, this means figuring out the right clothes to wear and learning how to put on makeup. But this isn’t appealing to Bug\, who doesn’t want to spend more time trying to understand how to be a girl. Besides\, there’s something more important to worry about: A ghost is haunting Bug’s eerie old house … and maybe haunting Bug in particular. As Bug begins to untangle the mystery of who this ghost is and what they’re trying to say\, an altogether different truth comes to light – Bug is transgender. \n\nPlease register below to receive your Zoom link.
URL:https://lewisborolibrary.org/event/virtual-middle-reads-too-bright-to-see/
CATEGORIES:Teen
ATTACH;FMTTYPE=image/jpeg:https://lewisborolibrary.org/wp-content/uploads/2021/05/210608-Middle-Reads-Too-Bright-to-See-compressed.jpg
END:VEVENT
BEGIN:VEVENT
DTSTART;TZID=America/New_York:20210616T190000
DTEND;TZID=America/New_York:20210616T200000
DTSTAMP:20260422T051722
CREATED:20210603T035006Z
LAST-MODIFIED:20210603T035006Z
UID:9267-1623870000-1623873600@lewisborolibrary.org
SUMMARY:Teen Summer Reading Kickoff!
DESCRIPTION:For Teens in Middle & High School. Rain date is June 23.\n \nLearn all about our Teen Summer reading program\, make a strawberry parfait on the lawn – and then let loose with some water balloons! \nOutdoors\, socially distanced. Wear a mask when not eating. Bring a towel! \nPlease register below. \n 
URL:https://lewisborolibrary.org/event/teen-summer-reading-kickoff-2/
CATEGORIES:Teen
ATTACH;FMTTYPE=image/jpeg:https://lewisborolibrary.org/wp-content/uploads/2021/06/210616-Teen-Summer-Reading-Kickoff-compressed.jpg
END:VEVENT
BEGIN:VEVENT
DTSTART;VALUE=DATE:20210628
DTEND;VALUE=DATE:20210703
DTSTAMP:20260422T051722
CREATED:20210603T040213Z
LAST-MODIFIED:20210603T182359Z
UID:9272-1624838400-1625270399@lewisborolibrary.org
SUMMARY:Teen Take & Make: Magazine Strip Art
DESCRIPTION:For Teens in Middle & High School. \nCreate a colorful silhouette of an animal of your choice\, using strips of magazine pages to build color\, texture and layers. \nThis is a DIY craft that you can do on your own time. Kits with complete instructions will be available for pick up anytime during the week of June 28-July 2. There are a limited number of kits\, so get yours early that week! \nA great activity to do with friends! \n 
URL:https://lewisborolibrary.org/event/teen-take-make-magazine-strip-art/
CATEGORIES:Teen
ATTACH;FMTTYPE=image/jpeg:https://lewisborolibrary.org/wp-content/uploads/2021/06/210628-Magazine-Strip-Art-compressed.jpg
END:VEVENT
BEGIN:VEVENT
DTSTART;TZID=America/New_York:20210628T163000
DTEND;TZID=America/New_York:20210628T173000
DTSTAMP:20260422T051722
CREATED:20210607T023233Z
LAST-MODIFIED:20210621T181001Z
UID:9342-1624897800-1624901400@lewisborolibrary.org
SUMMARY:DIY Solar Oven S'mores
DESCRIPTION:For Teens in Middle and High School. Rain date is June 29 (or June 30 if needed). \nHarness the energy of the sun to make this delicious snack. It all starts with a cardboard box! \nOutdoors\, socially distanced. Wear a mask when not eating. \nPlease register below\, so we have enough supplies.
URL:https://lewisborolibrary.org/event/diy-solar-oven-smores/
CATEGORIES:Teen
ATTACH;FMTTYPE=image/jpeg:https://lewisborolibrary.org/wp-content/uploads/2021/06/210625-DIY-Solar-Oven-Smorescompressed.jpg
END:VEVENT
BEGIN:VEVENT
DTSTART;TZID=America/New_York:20210629T190000
DTEND;TZID=America/New_York:20210629T200000
DTSTAMP:20260422T051722
CREATED:20210607T215524Z
LAST-MODIFIED:20210623T170917Z
UID:9396-1624993200-1624996800@lewisborolibrary.org
SUMMARY:Teen Advisory Group
DESCRIPTION:For Teens in Middle & High School. (Welcome incoming sixth graders!)\n \nWe’re very excited to announce that we are resuming our monthly meetings in person at the Library! \nThe Lewisboro Library Teen Advisory Group (or “TAG”) seeks teens to come up with fun\, engaging programs for you and your peers. New members and anyone interested welcome. Registration required. Pizza and beverages served. \nPlease register below\, so we know how much pizza to order!
URL:https://lewisborolibrary.org/event/virtual-teen-advisory-group-8/
CATEGORIES:Teen
ATTACH;FMTTYPE=image/jpeg:https://lewisborolibrary.org/wp-content/uploads/2021/06/TAG-2.jpg
END:VEVENT
END:VCALENDAR