BEGIN:VCALENDAR
VERSION:2.0
PRODID:-//Lewisboro Library - ECPv6.15.20//NONSGML v1.0//EN
CALSCALE:GREGORIAN
METHOD:PUBLISH
X-ORIGINAL-URL:https://lewisborolibrary.org
X-WR-CALDESC:Events for Lewisboro Library
REFRESH-INTERVAL;VALUE=DURATION:PT1H
X-Robots-Tag:noindex
X-PUBLISHED-TTL:PT1H
BEGIN:VTIMEZONE
TZID:America/New_York
BEGIN:DAYLIGHT
TZOFFSETFROM:-0500
TZOFFSETTO:-0400
TZNAME:EDT
DTSTART:20200308T070000
END:DAYLIGHT
BEGIN:STANDARD
TZOFFSETFROM:-0400
TZOFFSETTO:-0500
TZNAME:EST
DTSTART:20201101T060000
END:STANDARD
BEGIN:DAYLIGHT
TZOFFSETFROM:-0500
TZOFFSETTO:-0400
TZNAME:EDT
DTSTART:20210314T070000
END:DAYLIGHT
BEGIN:STANDARD
TZOFFSETFROM:-0400
TZOFFSETTO:-0500
TZNAME:EST
DTSTART:20211107T060000
END:STANDARD
BEGIN:DAYLIGHT
TZOFFSETFROM:-0500
TZOFFSETTO:-0400
TZNAME:EDT
DTSTART:20220313T070000
END:DAYLIGHT
BEGIN:STANDARD
TZOFFSETFROM:-0400
TZOFFSETTO:-0500
TZNAME:EST
DTSTART:20221106T060000
END:STANDARD
END:VTIMEZONE
BEGIN:VEVENT
DTSTART;TZID=America/New_York:20210406T190000
DTEND;TZID=America/New_York:20210406T200000
DTSTAMP:20260423T062732
CREATED:20210317T190247Z
LAST-MODIFIED:20210317T190536Z
UID:8182-1617735600-1617739200@lewisborolibrary.org
SUMMARY:(Virtual) Middle Reads
DESCRIPTION:Via Zoom. For teens in grades 6 – 8. \nJoin us for monthly virtual book discussions and socializing! Books are available for pickup at the Library. \nThe book selection for April 6 is Look Both Ways: A Tale Told in Ten Blocks\, by Jason Reynolds.  The book\, which was recently named a National Book Award finalist\, looks at 10 different journeys home\, each characterized by a different block on the way home from school. \nPlease register below to receive your Zoom link the day before.
URL:https://lewisborolibrary.org/event/virtual-middle-reads-8/
CATEGORIES:Teen
ATTACH;FMTTYPE=image/jpeg:https://lewisborolibrary.org/wp-content/uploads/2021/03/210406-Middle-Reads-Look-Both-Ways-compressed.jpg
END:VEVENT
BEGIN:VEVENT
DTSTART;TZID=America/New_York:20210410T140000
DTEND;TZID=America/New_York:20210410T160000
DTSTAMP:20260423T062732
CREATED:20210322T183729Z
LAST-MODIFIED:20210407T190535Z
UID:8228-1618063200-1618070400@lewisborolibrary.org
SUMMARY:(Virtual) Teen Harry Potter Trivia
DESCRIPTION:Via Zoom. For teens in middle & high school. \nLove the Potterverse? Test your knowledge of the seven books and play Kahoot trivia online with other readers from Croton and Lewisboro! Casual and serious Potterheads are all welcome. All you need is a phone or computer. Prizes are gift certificates to local ice cream shops! \nRegistration has closed for this program.
URL:https://lewisborolibrary.org/event/virtual-harry-potter-trivia/
CATEGORIES:Teen
ATTACH;FMTTYPE=image/jpeg:https://lewisborolibrary.org/wp-content/uploads/2021/03/210410-Harry-Potter-Trivia-compressed.jpg
END:VEVENT
BEGIN:VEVENT
DTSTART;TZID=America/New_York:20210427T193000
DTEND;TZID=America/New_York:20210427T203000
DTSTAMP:20260423T062732
CREATED:20210407T201524Z
LAST-MODIFIED:20210407T201524Z
UID:8568-1619551800-1619555400@lewisborolibrary.org
SUMMARY:(Virtual) Teen Advisory Group
DESCRIPTION:Via Zoom. For Teens in Middle & High School. \nThe Lewisboro Library Teen Advisory Group (or “TAG”) helps plan special events for teens and younger children. Creative thinkers are especially needed to help develop engaging programs for our teens during this pandemic. We’re hoping to be able to have in-person meetings soon! \nBeing part of TAG looks great on your college resume. \nTo join TAG\, please contact Jane Rothschild at 875-9004.
URL:https://lewisborolibrary.org/event/virtual-teen-advisory-group-6/
CATEGORIES:Teen
ATTACH;FMTTYPE=image/jpeg:https://lewisborolibrary.org/wp-content/uploads/2019/10/TAG-2.jpg
END:VEVENT
END:VCALENDAR