BEGIN:VCALENDAR
VERSION:2.0
PRODID:-//Lewisboro Library - ECPv6.15.20//NONSGML v1.0//EN
CALSCALE:GREGORIAN
METHOD:PUBLISH
X-WR-CALNAME:Lewisboro Library
X-ORIGINAL-URL:https://lewisborolibrary.org
X-WR-CALDESC:Events for Lewisboro Library
REFRESH-INTERVAL;VALUE=DURATION:PT1H
X-Robots-Tag:noindex
X-PUBLISHED-TTL:PT1H
BEGIN:VTIMEZONE
TZID:America/New_York
BEGIN:DAYLIGHT
TZOFFSETFROM:-0500
TZOFFSETTO:-0400
TZNAME:EDT
DTSTART:20200308T070000
END:DAYLIGHT
BEGIN:STANDARD
TZOFFSETFROM:-0400
TZOFFSETTO:-0500
TZNAME:EST
DTSTART:20201101T060000
END:STANDARD
BEGIN:DAYLIGHT
TZOFFSETFROM:-0500
TZOFFSETTO:-0400
TZNAME:EDT
DTSTART:20210314T070000
END:DAYLIGHT
BEGIN:STANDARD
TZOFFSETFROM:-0400
TZOFFSETTO:-0500
TZNAME:EST
DTSTART:20211107T060000
END:STANDARD
BEGIN:DAYLIGHT
TZOFFSETFROM:-0500
TZOFFSETTO:-0400
TZNAME:EDT
DTSTART:20220313T070000
END:DAYLIGHT
BEGIN:STANDARD
TZOFFSETFROM:-0400
TZOFFSETTO:-0500
TZNAME:EST
DTSTART:20221106T060000
END:STANDARD
END:VTIMEZONE
BEGIN:VEVENT
DTSTART;TZID=America/New_York:20210309T190000
DTEND;TZID=America/New_York:20210309T200000
DTSTAMP:20260423T024635
CREATED:20210218T183212Z
LAST-MODIFIED:20210218T194647Z
UID:7666-1615316400-1615320000@lewisborolibrary.org
SUMMARY:(Virtual) Middle Reads
DESCRIPTION:Via Zoom.  For teens in grades 6 – 8. \nJoin us for monthly virtual book discussions and socializing! Books will be available for pickup at the Library. \nThe book selection for March 9 is The Whiz Mob and the Grenadine Kid\, by Colin Meloy. This original\, humorous\, and fast-paced novel is about a band of child pickpockets. \nPlease register below to receive your Zoom link the day before.
URL:https://lewisborolibrary.org/event/virtual-middle-reads-7/
CATEGORIES:Teen
ATTACH;FMTTYPE=image/jpeg:https://lewisborolibrary.org/wp-content/uploads/2021/02/210309-Middle-Reads-Whiz-Mob-compressed.jpg
END:VEVENT
BEGIN:VEVENT
DTSTART;TZID=America/New_York:20210315T170000
DTEND;TZID=America/New_York:20210315T173000
DTSTAMP:20260423T024635
CREATED:20210223T204552Z
LAST-MODIFIED:20210223T204552Z
UID:7721-1615827600-1615829400@lewisborolibrary.org
SUMMARY:(Virtual) Teen Grab-n-Go Craft: St Patrick's Day Cupcake
DESCRIPTION:Via Facebook\, Instagram & YouTube. \n\nHey teens\, find the pot o’ Gold at the end of your rainbow!  Pick up a Teen Grab-n-Go kit and decorate a St. Patrick’s Pot o’ Gold cupcake.  Enjoy the creative process\, show off your handiwork – and then eat that delicious cupcake! All you need is a spatula or knife to spread the frosting.\n\n\nKits can be picked up in the Curbside Vestibule March 15 – 17. Get your kit\, then tune into Jane’s instructional video.\n\nGrab-n-Go kits are limited – don’t miss out!
URL:https://lewisborolibrary.org/event/virtual-teen-grab-n-go-craft-st-patricks-day-cupcake/
CATEGORIES:Teen
ATTACH;FMTTYPE=image/jpeg:https://lewisborolibrary.org/wp-content/uploads/2021/02/210315-Grab-n-Go-ST.-Patricks-Cupcake-compressed.jpg
END:VEVENT
BEGIN:VEVENT
DTSTART;TZID=America/New_York:20210315T190000
DTEND;TZID=America/New_York:20210315T200000
DTSTAMP:20260423T024635
CREATED:20210113T180142Z
LAST-MODIFIED:20210211T184958Z
UID:7225-1615834800-1615838400@lewisborolibrary.org
SUMMARY:(Virtual) Navigating College Admissions During Covid-19
DESCRIPTION:Via Zoom. \nWe are offering this Zoom presentation to help families understand how COVID-19 is changing the college admissions landscape and how it will affect Freshmen\, Sophomores\, and Juniors. \nThe college admissions process is undergoing significant and lasting changes as many colleges and universities have gone test optional for this current admissions cycle and will evaluate their standardized testing policies going forward. With the opportunity for visiting colleges curtailed\, we’ll discuss how students can engage with colleges virtually to help them develop a preliminary list of colleges to consider visiting when campuses are fully open. \nWe will discuss the holistic review process and focus on the greater consideration admissions officers will give to extracurricular activities as they will have fewer data points to rely on due to the disruptions from COVID-19. Learn how admissions officers are handling the current situation and how students can position themselves to develop a compelling narrative to increase their chances for admission. \nWe will also discuss the importance of community service\, how it can provide an opportunity for personal growth and an opportunity to showcase a student’s character. Admissions officers\, especially due to the effects from the pandemic\, are placing a great emphasis on a student’s character and how the student has been able to give back and help others during these challenging times. \nThe presentation will be led by Ron Feuchs and Jackie Tepper\, partners at Stand Out For College\, LLC. \nPlease RSVP to ron@standoutforcollege.com.  You will receive a private invitation with a Zoom link in reply. There is no charge for this event.
URL:https://lewisborolibrary.org/event/virtual-navigating-college-admissions-during-covid-19/
CATEGORIES:Adult,Teen
ATTACH;FMTTYPE=image/jpeg:https://lewisborolibrary.org/wp-content/uploads/2021/01/210211-Conducting-Your-College-Search-in-the-Time-of-Covid-compressed.jpg
END:VEVENT
BEGIN:VEVENT
DTSTART;TZID=America/New_York:20210316T193000
DTEND;TZID=America/New_York:20210316T203000
DTSTAMP:20260423T024635
CREATED:20210308T201524Z
LAST-MODIFIED:20210308T201524Z
UID:7898-1615923000-1615926600@lewisborolibrary.org
SUMMARY:(Virtual) Teen Advisory Group
DESCRIPTION:Via Zoom. For Teens in Middle & High School. \nThe Lewisboro Library Teen Advisory Group (or “TAG”) helps plan special events for teens and younger children. Creative thinkers are especially needed to help develop engaging programs for our teens during this pandemic. \nBeing part of TAG looks great on your college resume. \nTo join TAG\, please contact Jane Rothschild at 875-9004.
URL:https://lewisborolibrary.org/event/virtual-teen-advisory-group-5/
CATEGORIES:Teen
ATTACH;FMTTYPE=image/jpeg:https://lewisborolibrary.org/wp-content/uploads/2019/10/TAG-2.jpg
END:VEVENT
BEGIN:VEVENT
DTSTART;TZID=America/New_York:20210329T190000
DTEND;TZID=America/New_York:20210329T200000
DTSTAMP:20260423T024635
CREATED:20210310T222146Z
LAST-MODIFIED:20210311T025211Z
UID:7963-1617044400-1617048000@lewisborolibrary.org
SUMMARY:(Virtual) Can the US Constitution keep pace with 21st-century America?
DESCRIPTION:Via Zoom. For Teens\, but Adults Welcome. \nThe Lewisboro Library is partnering with the IDEA (inclusion diversity equity) committee of the Town of Bedford and all the public libraries in the Katonah-Lewisboro and Bedford school districts to offer this special program during the school spring break. Participants must watch the designated episodes of the PBS series “Constitution USA” and then participate in the 2 discussions centered around them. The Zoom sessions will also be divided up into a teen group and an adult group. High school students can earn 10 hours of community service credit for participating in the discussions designed to enhance civic education\, while taking a virtual “road trip” across the country. \nParticipants will view episodes of the PBS docuseries with Peter Sagal titled “Constitution USA” online at their own pace\, then join in the two Zoom session discussions. \nSESSION ONE – Monday\, March 29 @ 7-8pm  \nEpisode One: “A More Perfect Union” & Episode Two: “It’s a Free Country” \nSESSION TWO – Thursday\, April 1 @ 7-8pm \nEpisode Three: “Created Equal” & Episode Four: “Built to Last?” \nRegistration is FREE but required for participation. Click HERE to register. \n 
URL:https://lewisborolibrary.org/event/virtual-can-the-us-constitution-keep-pace-with-21st-century-america/
CATEGORIES:Adult,Teen
ATTACH;FMTTYPE=image/jpeg:https://lewisborolibrary.org/wp-content/uploads/2021/03/210329-Constitution-compressed.jpg
END:VEVENT
BEGIN:VEVENT
DTSTART;TZID=America/New_York:20210330T140000
DTEND;TZID=America/New_York:20210330T160000
DTSTAMP:20260423T024635
CREATED:20210301T202203Z
LAST-MODIFIED:20210329T144437Z
UID:7811-1617112800-1617120000@lewisborolibrary.org
SUMMARY:Spring Break Lewisboro: Teens on the Lawn - Postponed to March 30!
DESCRIPTION:Hey Teens\, let’s meet on the Library front lawn to play beach ball\, hacky sack\, and other simple spring games!\n\nMasks are required. Hand sanitizer will be available.\n\nIn case of bad weather\, rain date is Wednesday March 31.\n\nSpace is limited; please register below.\n\n Photo credit: Jannes Glas on Unsplash
URL:https://lewisborolibrary.org/event/spring-break-lewisboro-teens-on-the-lawn/
CATEGORIES:Teen
ATTACH;FMTTYPE=image/jpeg:https://lewisborolibrary.org/wp-content/uploads/2021/03/210329-Teens-on-the-Lawn-compressed.jpg
END:VEVENT
END:VCALENDAR