BEGIN:VCALENDAR
VERSION:2.0
PRODID:-//Lewisboro Library - ECPv6.15.20//NONSGML v1.0//EN
CALSCALE:GREGORIAN
METHOD:PUBLISH
X-WR-CALNAME:Lewisboro Library
X-ORIGINAL-URL:https://lewisborolibrary.org
X-WR-CALDESC:Events for Lewisboro Library
REFRESH-INTERVAL;VALUE=DURATION:PT1H
X-Robots-Tag:noindex
X-PUBLISHED-TTL:PT1H
BEGIN:VTIMEZONE
TZID:America/New_York
BEGIN:DAYLIGHT
TZOFFSETFROM:-0500
TZOFFSETTO:-0400
TZNAME:EDT
DTSTART:20200308T070000
END:DAYLIGHT
BEGIN:STANDARD
TZOFFSETFROM:-0400
TZOFFSETTO:-0500
TZNAME:EST
DTSTART:20201101T060000
END:STANDARD
BEGIN:DAYLIGHT
TZOFFSETFROM:-0500
TZOFFSETTO:-0400
TZNAME:EDT
DTSTART:20210314T070000
END:DAYLIGHT
BEGIN:STANDARD
TZOFFSETFROM:-0400
TZOFFSETTO:-0500
TZNAME:EST
DTSTART:20211107T060000
END:STANDARD
BEGIN:DAYLIGHT
TZOFFSETFROM:-0500
TZOFFSETTO:-0400
TZNAME:EDT
DTSTART:20220313T070000
END:DAYLIGHT
BEGIN:STANDARD
TZOFFSETFROM:-0400
TZOFFSETTO:-0500
TZNAME:EST
DTSTART:20221106T060000
END:STANDARD
END:VTIMEZONE
BEGIN:VEVENT
DTSTART;TZID=America/New_York:20210203T170000
DTEND;TZID=America/New_York:20210203T173000
DTSTAMP:20260424T044609
CREATED:20210126T170817Z
LAST-MODIFIED:20210128T174157Z
UID:7382-1612371600-1612373400@lewisborolibrary.org
SUMMARY:(Virtual) Grab-n-Go Paper Fortune Cookie Valentines
DESCRIPTION:Via Facebook & Instagram. \nTeen Librarian Jane Rothschild is offering Grab-n-Go craft kits for teens. This first one has the materials to make cute paper fortune cookies for friends and family.\n\nKits can be picked up in the Curbside Vestibule. Get your kit\, then tune into Jane’s instructional video on February 3 (or watch at your leisure). What a great way to use your creativity\, relax\, and spread some good vibes on Valentine’s Day!\n\nGrab-n-Go craft Kits are limited – get yours today!\n  \n 
URL:https://lewisborolibrary.org/event/virtual-grab-n-go-paper-fortune-cookie-valentine/
CATEGORIES:Teen
ATTACH;FMTTYPE=image/jpeg:https://lewisborolibrary.org/wp-content/uploads/2021/01/210203-Grab-n-Go-Valentines-Paper-Fortune-Cookie-compresssed.jpg
END:VEVENT
BEGIN:VEVENT
DTSTART;TZID=America/New_York:20210206T160000
DTEND;TZID=America/New_York:20210206T180000
DTSTAMP:20260424T044609
CREATED:20210127T205221Z
LAST-MODIFIED:20210127T215847Z
UID:7398-1612627200-1612634400@lewisborolibrary.org
SUMMARY:(Virtual) Dungeons & Dragons: High School Group
DESCRIPTION:For High School Students. \nOur popular Dungeons & Dragons group has some spaces available for new and experienced High School players! Due to Covid-19\, the group currently meets virtually one Saturday per month from 4 – 6 pm.  Come join heroes in their quests for treasure\, battles and daring rescues! If you are interested in joining\, please contact Connie Pezone at cjpawp@msn.com. \nThe Middle School Dungeons & Dragons group is full; please call 875-9004 to be placed on the waiting list.
URL:https://lewisborolibrary.org/event/virtual-dungeons-dragons-high-school-group/
CATEGORIES:Teen
ATTACH;FMTTYPE=image/jpeg:https://lewisborolibrary.org/wp-content/uploads/2021/01/210206-D-D-compressed.jpg
END:VEVENT
BEGIN:VEVENT
DTSTART;TZID=America/New_York:20210209T190000
DTEND;TZID=America/New_York:20210209T200000
DTSTAMP:20260424T044609
CREATED:20210119T230524Z
LAST-MODIFIED:20210119T230524Z
UID:7329-1612897200-1612900800@lewisborolibrary.org
SUMMARY:(Virtual) Middle Reads!
DESCRIPTION:Via Zoom.  For teens in grades 6 – 8. \nJoin us for monthly virtual book discussions and socializing! Books will be available for pickup at the Library. \nThe book selection for February 9 is When You Reach Me\, by Rebecca Stead. A twelve-year-old New York City girl tries to make sense of a series of mysterious notes received from an anonymous source that seems to defy the laws of time. \nPlease register below to receive your Zoom link the day before.
URL:https://lewisborolibrary.org/event/virtual-middle-reads-6/
CATEGORIES:Teen
ATTACH;FMTTYPE=image/jpeg:https://lewisborolibrary.org/wp-content/uploads/2021/01/210209-Middle-Reads-WHen-You-Reach-Me-compressed.jpg
END:VEVENT
BEGIN:VEVENT
DTSTART;TZID=America/New_York:20210211T190000
DTEND;TZID=America/New_York:20210211T200000
DTSTAMP:20260424T044609
CREATED:20210111T233034Z
LAST-MODIFIED:20210128T172105Z
UID:7199-1613070000-1613073600@lewisborolibrary.org
SUMMARY:(Virtual) Conducting Your College Search in the Time of Covid
DESCRIPTION:Via Zoom.  For Adults & Teens. \nIn regular times\, navigating the college search process is daunting enough. In a time when visiting is not possible compounds the conundrum. Alan Sheptin of Sheptin Tutoring Group\, a Professional Member of the Independent Educational Consultants Association and a Certified Education Planner will show you how to navigate the web for information\, connect with students and faculty and make the experience more personalized for you and your student.\n\nEvery person who attends the webinar will be eligible for a free 15-minute private session with Mr. Sheptin.\n\nPlease register below to receive your Zoom link.
URL:https://lewisborolibrary.org/event/virtual-conducting-your-college-search-in-the-time-of-covid/
CATEGORIES:Adult,Teen
ATTACH;FMTTYPE=image/jpeg:https://lewisborolibrary.org/wp-content/uploads/2021/01/210211-Conducting-College-Search-compressed.jpg
END:VEVENT
BEGIN:VEVENT
DTSTART;TZID=America/New_York:20210217T170000
DTEND;TZID=America/New_York:20210217T173000
DTSTAMP:20260424T044609
CREATED:20210203T201304Z
LAST-MODIFIED:20210211T183411Z
UID:7528-1613581200-1613583000@lewisborolibrary.org
SUMMARY:(Virtual) Grab-n-Go Mug Cake
DESCRIPTION:Via Facebook\, Instagram & YouTube. \nTeen Librarian Jane Rothschild is offering Grab-n-Go craft kits for teens. This one has the fixings for a delicious chocolate cake for one\, made in the microwave. All you need is a mug\, spoon\, whisk and mixing bowl.\n\nKits can be picked up in the Curbside Vestibule a week before the program airs. Get your kit\, then tune into Jane’s instructional video on February 17 (or watch at your leisure). There are some extra goodies in the kit for those who want to experiment with add-ins!\n\nGrab-n-Go craft kits are limited – don’t miss out!
URL:https://lewisborolibrary.org/event/virtual-grab-n-go-mug-cake/
CATEGORIES:Teen
ATTACH;FMTTYPE=image/jpeg:https://lewisborolibrary.org/wp-content/uploads/2021/02/210217-Microwave-Mug-Cake-Square-compressed.jpg
END:VEVENT
BEGIN:VEVENT
DTSTART;TZID=America/New_York:20210220T140000
DTEND;TZID=America/New_York:20210220T150000
DTSTAMP:20260424T044609
CREATED:20210216T221206Z
LAST-MODIFIED:20210219T174350Z
UID:7637-1613829600-1613833200@lewisborolibrary.org
SUMMARY:Nighttime Snow Aliens!
DESCRIPTION:When life gives you snow….. make Snow Aliens! \nJoin Teen Librarian Jayne Rothschild in making Snow Aliens on the Library lawn this Saturday between 2 – 3:00 pm.  Open to all – be it families or teens with friends. \nMeet in the afternoon dressed in cozy outdoor gear to create your Snow Alien and insert glow stick eyes. Return at dark to see the group of Aliens shine! (What a sight for passing cars that evening!) \nSpace is limited\, please register below.
URL:https://lewisborolibrary.org/event/nighttime-snow-aliens/
CATEGORIES:Adult,Child,Teen
ATTACH;FMTTYPE=image/jpeg:https://lewisborolibrary.org/wp-content/uploads/2021/02/210220-Nighttime-Snow-Aliens-compressed.jpg
END:VEVENT
END:VCALENDAR