BEGIN:VCALENDAR
VERSION:2.0
PRODID:-//Lewisboro Library - ECPv6.15.20//NONSGML v1.0//EN
CALSCALE:GREGORIAN
METHOD:PUBLISH
X-ORIGINAL-URL:https://lewisborolibrary.org
X-WR-CALDESC:Events for Lewisboro Library
REFRESH-INTERVAL;VALUE=DURATION:PT1H
X-Robots-Tag:noindex
X-PUBLISHED-TTL:PT1H
BEGIN:VTIMEZONE
TZID:America/New_York
BEGIN:DAYLIGHT
TZOFFSETFROM:-0500
TZOFFSETTO:-0400
TZNAME:EDT
DTSTART:20220313T070000
END:DAYLIGHT
BEGIN:STANDARD
TZOFFSETFROM:-0400
TZOFFSETTO:-0500
TZNAME:EST
DTSTART:20221106T060000
END:STANDARD
BEGIN:DAYLIGHT
TZOFFSETFROM:-0500
TZOFFSETTO:-0400
TZNAME:EDT
DTSTART:20230312T070000
END:DAYLIGHT
BEGIN:STANDARD
TZOFFSETFROM:-0400
TZOFFSETTO:-0500
TZNAME:EST
DTSTART:20231105T060000
END:STANDARD
BEGIN:DAYLIGHT
TZOFFSETFROM:-0500
TZOFFSETTO:-0400
TZNAME:EDT
DTSTART:20240310T070000
END:DAYLIGHT
BEGIN:STANDARD
TZOFFSETFROM:-0400
TZOFFSETTO:-0500
TZNAME:EST
DTSTART:20241103T060000
END:STANDARD
END:VTIMEZONE
BEGIN:VEVENT
DTSTART;TZID=America/New_York:20231114T103000
DTEND;TZID=America/New_York:20231114T110000
DTSTAMP:20260420T115638
CREATED:20231022T222856Z
LAST-MODIFIED:20231022T222940Z
UID:23073-1699957800-1699959600@lewisborolibrary.org
SUMMARY:Family Storytime
DESCRIPTION:All ages. \nJoin Miss Marie in the children’s room for stories\, music and more. \nPlease register below\, so we have your info in case we need to cancel.
URL:https://lewisborolibrary.org/event/family-storytime-29/
CATEGORIES:Child
ATTACH;FMTTYPE=image/jpeg:https://lewisborolibrary.org/wp-content/uploads/2022/04/220503-Outdoor-Family-Storytime-compressed.jpg
END:VEVENT
BEGIN:VEVENT
DTSTART;TZID=America/New_York:20231115T113000
DTEND;TZID=America/New_York:20231115T123000
DTSTAMP:20260420T115638
CREATED:20231021T231952Z
LAST-MODIFIED:20231021T231952Z
UID:23048-1700047800-1700051400@lewisborolibrary.org
SUMMARY:MakerSpace Wednesdays: Scarecrow Baggies
DESCRIPTION:For ages 2 – 6. \nCome work on crafts\, technology and more in the MakerSpace Corner of the Children’s Room. This month we are making crafts with a seasonal theme. \nSpace is limited.  Please register your child below. \nNote: photographs are often taken at our events to post on social media and our website. Please let the event leader know if you would prefer your child not be photographed.
URL:https://lewisborolibrary.org/event/makerspace-wednesdays-scarecrow-baggies/
CATEGORIES:Child
ATTACH;FMTTYPE=image/jpeg:https://lewisborolibrary.org/wp-content/uploads/2023/10/231115-Scarecrow-Baggies-compressed.jpg
END:VEVENT
BEGIN:VEVENT
DTSTART;TZID=America/New_York:20231116T103000
DTEND;TZID=America/New_York:20231116T110000
DTSTAMP:20260420T115638
CREATED:20231022T223525Z
LAST-MODIFIED:20231026T115214Z
UID:23089-1700130600-1700132400@lewisborolibrary.org
SUMMARY:Family Storytime
DESCRIPTION:All ages. \nJoin Miss Marie in the children’s room for stories\, music and more. \nPlease register below\, so we have your info in case we need to cancel.
URL:https://lewisborolibrary.org/event/family-storytime-30-2023-11-16/
CATEGORIES:Child
ATTACH;FMTTYPE=image/jpeg:https://lewisborolibrary.org/wp-content/uploads/2022/04/220503-Outdoor-Family-Storytime-compressed.jpg
END:VEVENT
BEGIN:VEVENT
DTSTART;TZID=America/New_York:20231117T133000
DTEND;TZID=America/New_York:20231117T140000
DTSTAMP:20260420T115638
CREATED:20231022T223525Z
LAST-MODIFIED:20231022T224002Z
UID:23090-1700227800-1700229600@lewisborolibrary.org
SUMMARY:Family Storytime
DESCRIPTION:All ages. \nJoin Miss Marie in the children’s room for stories\, music and more. \nPlease register below\, so we have your info in case we need to cancel.
URL:https://lewisborolibrary.org/event/family-storytime-30-2023-11-17/
CATEGORIES:Child
ATTACH;FMTTYPE=image/jpeg:https://lewisborolibrary.org/wp-content/uploads/2022/04/220503-Outdoor-Family-Storytime-compressed.jpg
END:VEVENT
BEGIN:VEVENT
DTSTART;TZID=America/New_York:20231118T103000
DTEND;TZID=America/New_York:20231118T113000
DTSTAMP:20260420T115638
CREATED:20231024T215137Z
LAST-MODIFIED:20231024T215200Z
UID:23168-1700303400-1700307000@lewisborolibrary.org
SUMMARY:Turkey Scavenger Hunt!
DESCRIPTION:For grades K – 5 \nGet ready for Thanksgiving with a Turkey Scavenger Hunt! Each child will be given a turkey with no feathers\, and will have to search throughout the stacks for different color feathers to complete their turkey. \nSpace is limited\, please register below. \nNote: photographs are often taken at our events to post on social media and our website. Please let the event leader know if you would prefer your child not be photographed.
URL:https://lewisborolibrary.org/event/turkey-scavenger-hunt/
CATEGORIES:Child
ATTACH;FMTTYPE=image/jpeg:https://lewisborolibrary.org/wp-content/uploads/2023/10/231118-Turkey-Scavenger-Hunt-compressed.jpg
END:VEVENT
BEGIN:VEVENT
DTSTART;TZID=America/New_York:20231120T190000
DTEND;TZID=America/New_York:20231120T193000
DTSTAMP:20260420T115638
CREATED:20231022T231339Z
LAST-MODIFIED:20231022T231339Z
UID:23108-1700506800-1700508600@lewisborolibrary.org
SUMMARY:Pajama Storytime
DESCRIPTION:All Ages \nPut on your jammies and come join Ms. Marie for seasonal bedtime stories. \nSpace is limited\, please register below. \nNote: photographs are often taken at our events to post on social media and our website. Please let the event leader know if you would prefer your child not be photographed.
URL:https://lewisborolibrary.org/event/pajama-storytime-3/
CATEGORIES:Child
ATTACH;FMTTYPE=image/jpeg:https://lewisborolibrary.org/wp-content/uploads/2023/06/230711-Pajama-Storytime.jpg
END:VEVENT
BEGIN:VEVENT
DTSTART;TZID=America/New_York:20231121T103000
DTEND;TZID=America/New_York:20231121T110000
DTSTAMP:20260420T115638
CREATED:20231022T222856Z
LAST-MODIFIED:20231022T223055Z
UID:23075-1700562600-1700564400@lewisborolibrary.org
SUMMARY:Family Storytime
DESCRIPTION:All ages. \nJoin Miss Marie in the children’s room for stories\, music and more. \nPlease register below\, so we have your info in case we need to cancel.
URL:https://lewisborolibrary.org/event/family-storytime-29-2023-11-21/
CATEGORIES:Child
ATTACH;FMTTYPE=image/jpeg:https://lewisborolibrary.org/wp-content/uploads/2022/04/220503-Outdoor-Family-Storytime-compressed.jpg
END:VEVENT
BEGIN:VEVENT
DTSTART;TZID=America/New_York:20231122T113000
DTEND;TZID=America/New_York:20231122T123000
DTSTAMP:20260420T115638
CREATED:20231021T232214Z
LAST-MODIFIED:20231030T174507Z
UID:23051-1700652600-1700656200@lewisborolibrary.org
SUMMARY:MakerSpace Wednesdays: Cardboard Tube Turkeys
DESCRIPTION:For ages 2 – 6. \nCome work on crafts\, technology and more in the MakerSpace Corner of the Children’s Room. This month we are making crafts with a seasonal theme. \nSpace is limited.  Please register your child below. \nNote: photographs are often taken at our events to post on social media and our website. Please let the event leader know if you would prefer your child not be photographed.
URL:https://lewisborolibrary.org/event/mskerspace-wednesdays-cardboard-tube-turkeys/
CATEGORIES:Child
ATTACH;FMTTYPE=image/jpeg:https://lewisborolibrary.org/wp-content/uploads/2023/10/231122-Paper-Tube-Turkeys-compressed.jpg
END:VEVENT
BEGIN:VEVENT
DTSTART;TZID=America/New_York:20231124T133000
DTEND;TZID=America/New_York:20231124T140000
DTSTAMP:20260420T115638
CREATED:20231022T223525Z
LAST-MODIFIED:20231022T224038Z
UID:23091-1700832600-1700834400@lewisborolibrary.org
SUMMARY:Family Storytime
DESCRIPTION:All ages. \nJoin Miss Marie in the children’s room for stories\, music and more. \nPlease register below\, so we have your info in case we need to cancel.
URL:https://lewisborolibrary.org/event/family-storytime-30-2023-11-24/
CATEGORIES:Child
ATTACH;FMTTYPE=image/jpeg:https://lewisborolibrary.org/wp-content/uploads/2022/04/220503-Outdoor-Family-Storytime-compressed.jpg
END:VEVENT
BEGIN:VEVENT
DTSTART;TZID=America/New_York:20231124T160000
DTEND;TZID=America/New_York:20231124T170000
DTSTAMP:20260420T115638
CREATED:20231106T211829Z
LAST-MODIFIED:20231106T211829Z
UID:23327-1700841600-1700845200@lewisborolibrary.org
SUMMARY:Straw Hat Robots: Meet the JJHS Robotics Team
DESCRIPTION:Grades K – 5 \nCome meet the members of the John Jay High School Robotics Team\, who will demonstrate the robot they are building for the CENTERSTAGE FIRST tech challenge. The team will talk about the process of building a robot and the engineering process in general\, and then let the audience take turns “driving” the robot. \nSpace is limited\, please register below. \nNote: photographs are often taken at our events to post on social media and our website. Please let the event leader know if you would prefer your child not be photographed. \n 
URL:https://lewisborolibrary.org/event/straw-hat-robots-meet-the-jjhs-robotics-team/
CATEGORIES:Child
ATTACH;FMTTYPE=image/jpeg:https://lewisborolibrary.org/wp-content/uploads/2023/11/231124-JJHS-Robotics-compressed.jpg
END:VEVENT
BEGIN:VEVENT
DTSTART;TZID=America/New_York:20231128T103000
DTEND;TZID=America/New_York:20231128T110000
DTSTAMP:20260420T115638
CREATED:20231022T222856Z
LAST-MODIFIED:20231022T223132Z
UID:23076-1701167400-1701169200@lewisborolibrary.org
SUMMARY:Family Storytime
DESCRIPTION:All ages. \nJoin Miss Marie in the children’s room for stories\, music and more. \nPlease register below\, so we have your info in case we need to cancel.
URL:https://lewisborolibrary.org/event/family-storytime-29-2023-11-28/
CATEGORIES:Child
ATTACH;FMTTYPE=image/jpeg:https://lewisborolibrary.org/wp-content/uploads/2022/04/220503-Outdoor-Family-Storytime-compressed.jpg
END:VEVENT
BEGIN:VEVENT
DTSTART;TZID=America/New_York:20231130T103000
DTEND;TZID=America/New_York:20231130T110000
DTSTAMP:20260420T115638
CREATED:20231022T223525Z
LAST-MODIFIED:20231026T115347Z
UID:23092-1701340200-1701342000@lewisborolibrary.org
SUMMARY:Family Storytime
DESCRIPTION:All ages. \nJoin Miss Marie in the children’s room for stories\, music and more. \nPlease register below\, so we have your info in case we need to cancel.
URL:https://lewisborolibrary.org/event/family-storytime-30-2023-11-30/
CATEGORIES:Child
ATTACH;FMTTYPE=image/jpeg:https://lewisborolibrary.org/wp-content/uploads/2022/04/220503-Outdoor-Family-Storytime-compressed.jpg
END:VEVENT
BEGIN:VEVENT
DTSTART;TZID=America/New_York:20231201T133000
DTEND;TZID=America/New_York:20231201T143000
DTSTAMP:20260420T115638
CREATED:20231127T165122Z
LAST-MODIFIED:20231127T165222Z
UID:23607-1701437400-1701441000@lewisborolibrary.org
SUMMARY:Family Storytime & Craft
DESCRIPTION:For Preschoolers. \nJoin Miss Marie in the children’s room for stories\, music and crafts\, for those in preschool. \nPlease register below\, so we have your info in case we need to cancel.
URL:https://lewisborolibrary.org/event/family-storytime-craft/
CATEGORIES:Child
ATTACH;FMTTYPE=image/jpeg:https://lewisborolibrary.org/wp-content/uploads/2022/04/220503-Outdoor-Family-Storytime-compressed.jpg
END:VEVENT
BEGIN:VEVENT
DTSTART;TZID=America/New_York:20231205T103000
DTEND;TZID=America/New_York:20231205T110000
DTSTAMP:20260420T115638
CREATED:20231127T171002Z
LAST-MODIFIED:20231127T171241Z
UID:23626-1701772200-1701774000@lewisborolibrary.org
SUMMARY:Family Storytime
DESCRIPTION:For Infants & Toddlers \nJoin Miss Marie in the children’s room for stories\, music and more fun for infants and toddlers. \nPlease register below\, so we have your info in case we need to cancel.
URL:https://lewisborolibrary.org/event/family-storytime-31-2023-12-05/
CATEGORIES:Child
ATTACH;FMTTYPE=image/jpeg:https://lewisborolibrary.org/wp-content/uploads/2022/04/220503-Outdoor-Family-Storytime-compressed.jpg
END:VEVENT
BEGIN:VEVENT
DTSTART;TZID=America/New_York:20231206T163000
DTEND;TZID=America/New_York:20231206T173000
DTSTAMP:20260420T115638
CREATED:20231003T170542Z
LAST-MODIFIED:20231115T224418Z
UID:22664-1701880200-1701883800@lewisborolibrary.org
SUMMARY:Girls Who Code Holiday Party
DESCRIPTION:For Students in Grades 3 through 5. \nGirls Who Code is a non-profit organization dedicated to closing the gender gap in technology. The Club is a FREE after-school computer science program\, facilitated by Children’s Librarian\, Marie Nania. This party is to introduce old club members to our new members. We will be participating in the Hour of Code activities. \nStudents are encouraged to bring their own laptops or Chromebooks; some will be provided. \nSpace is limited\, please register below. \nNote: photographs are often taken at our events to post on social media and our website. Please let the event leader know if you would prefer your child not be photographed.
URL:https://lewisborolibrary.org/event/girls-who-code-new-members-2/
CATEGORIES:Child
ATTACH;FMTTYPE=image/jpeg:https://lewisborolibrary.org/wp-content/uploads/2021/10/211108-girls-who-code-kickoff-compressed.jpg
END:VEVENT
BEGIN:VEVENT
DTSTART;TZID=America/New_York:20231207T103000
DTEND;TZID=America/New_York:20231207T110000
DTSTAMP:20260420T115638
CREATED:20231127T171002Z
LAST-MODIFIED:20231127T171826Z
UID:23624-1701945000-1701946800@lewisborolibrary.org
SUMMARY:Family Storytime
DESCRIPTION:For Infants & Toddlers \nJoin Miss Marie in the children’s room for stories\, music and more fun for infants and toddlers. \nPlease register below\, so we have your info in case we need to cancel.
URL:https://lewisborolibrary.org/event/family-storytime-31/
CATEGORIES:Child
ATTACH;FMTTYPE=image/jpeg:https://lewisborolibrary.org/wp-content/uploads/2022/04/220503-Outdoor-Family-Storytime-compressed.jpg
END:VEVENT
BEGIN:VEVENT
DTSTART;TZID=America/New_York:20231208T133000
DTEND;TZID=America/New_York:20231208T143000
DTSTAMP:20260420T115638
CREATED:20231127T165122Z
LAST-MODIFIED:20231127T165319Z
UID:23609-1702042200-1702045800@lewisborolibrary.org
SUMMARY:Family Storytime & Craft
DESCRIPTION:For Preschoolers. \nJoin Miss Marie in the children’s room for stories\, music and crafts\, for those in preschool. \nPlease register below\, so we have your info in case we need to cancel.
URL:https://lewisborolibrary.org/event/family-storytime-craft-2023-12-08/
CATEGORIES:Child
ATTACH;FMTTYPE=image/jpeg:https://lewisborolibrary.org/wp-content/uploads/2022/04/220503-Outdoor-Family-Storytime-compressed.jpg
END:VEVENT
BEGIN:VEVENT
DTSTART;TZID=America/New_York:20231209T160000
DTEND;TZID=America/New_York:20231209T180000
DTSTAMP:20260420T115638
CREATED:20230830T000136Z
LAST-MODIFIED:20231219T155750Z
UID:22183-1702137600-1702144800@lewisborolibrary.org
SUMMARY:Dungeons & Dragons
DESCRIPTION:For Players in Grades 4 – High School. Group will be split according to age.\n \nDungeons and Dragons is a fantasy role playing game. Players work collaboratively through a series of adventures\, gathering treasure and experience points along the way. \nThis co-ed group meets 1-2 times each month. New and experienced players are welcome. \nThanks so much to the Pezone family for running our D & D programs!
URL:https://lewisborolibrary.org/event/dungeons-dragons-8/
CATEGORIES:Child,Teen
ATTACH;FMTTYPE=image/jpeg:https://lewisborolibrary.org/wp-content/uploads/2023/08/230923-Dungeons-and-Dragons-compressed.jpg
END:VEVENT
BEGIN:VEVENT
DTSTART;TZID=America/New_York:20231212T103000
DTEND;TZID=America/New_York:20231212T110000
DTSTAMP:20260420T115638
CREATED:20231127T171002Z
LAST-MODIFIED:20231127T171353Z
UID:23628-1702377000-1702378800@lewisborolibrary.org
SUMMARY:Family Storytime
DESCRIPTION:For Infants & Toddlers \nJoin Miss Marie in the children’s room for stories\, music and more fun for infants and toddlers. \nPlease register below\, so we have your info in case we need to cancel.
URL:https://lewisborolibrary.org/event/family-storytime-31-2023-12-12/
CATEGORIES:Child
ATTACH;FMTTYPE=image/jpeg:https://lewisborolibrary.org/wp-content/uploads/2022/04/220503-Outdoor-Family-Storytime-compressed.jpg
END:VEVENT
BEGIN:VEVENT
DTSTART;TZID=America/New_York:20231214T103000
DTEND;TZID=America/New_York:20231214T110000
DTSTAMP:20260420T115638
CREATED:20231127T171002Z
LAST-MODIFIED:20231127T171907Z
UID:23627-1702549800-1702551600@lewisborolibrary.org
SUMMARY:Family Storytime
DESCRIPTION:For Infants & Toddlers \nJoin Miss Marie in the children’s room for stories\, music and more fun for infants and toddlers. \nPlease register below\, so we have your info in case we need to cancel.
URL:https://lewisborolibrary.org/event/family-storytime-31-2023-12-11/
CATEGORIES:Child
ATTACH;FMTTYPE=image/jpeg:https://lewisborolibrary.org/wp-content/uploads/2022/04/220503-Outdoor-Family-Storytime-compressed.jpg
END:VEVENT
BEGIN:VEVENT
DTSTART;TZID=America/New_York:20231215T133000
DTEND;TZID=America/New_York:20231215T143000
DTSTAMP:20260420T115638
CREATED:20231127T165122Z
LAST-MODIFIED:20231127T165357Z
UID:23610-1702647000-1702650600@lewisborolibrary.org
SUMMARY:Family Storytime & Craft
DESCRIPTION:For Preschoolers. \nJoin Miss Marie in the children’s room for stories\, music and crafts\, for those in preschool. \nPlease register below\, so we have your info in case we need to cancel.
URL:https://lewisborolibrary.org/event/family-storytime-craft-2023-12-15/
CATEGORIES:Child
ATTACH;FMTTYPE=image/jpeg:https://lewisborolibrary.org/wp-content/uploads/2022/04/220503-Outdoor-Family-Storytime-compressed.jpg
END:VEVENT
BEGIN:VEVENT
DTSTART;TZID=America/New_York:20231219T103000
DTEND;TZID=America/New_York:20231219T110000
DTSTAMP:20260420T115638
CREATED:20231127T171002Z
LAST-MODIFIED:20231127T171512Z
UID:23630-1702981800-1702983600@lewisborolibrary.org
SUMMARY:Family Storytime
DESCRIPTION:For Infants & Toddlers \nJoin Miss Marie in the children’s room for stories\, music and more fun for infants and toddlers. \nPlease register below\, so we have your info in case we need to cancel.
URL:https://lewisborolibrary.org/event/family-storytime-31-2023-12-19/
CATEGORIES:Child
ATTACH;FMTTYPE=image/jpeg:https://lewisborolibrary.org/wp-content/uploads/2022/04/220503-Outdoor-Family-Storytime-compressed.jpg
END:VEVENT
BEGIN:VEVENT
DTSTART;TZID=America/New_York:20231221T103000
DTEND;TZID=America/New_York:20231221T110000
DTSTAMP:20260420T115638
CREATED:20231127T171002Z
LAST-MODIFIED:20231127T171948Z
UID:23629-1703154600-1703156400@lewisborolibrary.org
SUMMARY:Family Storytime
DESCRIPTION:For Infants & Toddlers \nJoin Miss Marie in the children’s room for stories\, music and more fun for infants and toddlers. \nPlease register below\, so we have your info in case we need to cancel.
URL:https://lewisborolibrary.org/event/family-storytime-31-2023-12-18/
CATEGORIES:Child
ATTACH;FMTTYPE=image/jpeg:https://lewisborolibrary.org/wp-content/uploads/2022/04/220503-Outdoor-Family-Storytime-compressed.jpg
END:VEVENT
BEGIN:VEVENT
DTSTART;TZID=America/New_York:20231222T133000
DTEND;TZID=America/New_York:20231222T143000
DTSTAMP:20260420T115638
CREATED:20231127T165122Z
LAST-MODIFIED:20231127T165522Z
UID:23611-1703251800-1703255400@lewisborolibrary.org
SUMMARY:Family Storytime & Craft
DESCRIPTION:For Preschoolers. \nJoin Miss Marie in the children’s room for stories\, music and crafts\, for those in preschool. \nPlease register below\, so we have your info in case we need to cancel.
URL:https://lewisborolibrary.org/event/family-storytime-craft-2023-12-22/
CATEGORIES:Child
ATTACH;FMTTYPE=image/jpeg:https://lewisborolibrary.org/wp-content/uploads/2022/04/220503-Outdoor-Family-Storytime-compressed.jpg
END:VEVENT
BEGIN:VEVENT
DTSTART;TZID=America/New_York:20231226T103000
DTEND;TZID=America/New_York:20231226T110000
DTSTAMP:20260420T115638
CREATED:20231127T171002Z
LAST-MODIFIED:20231127T171722Z
UID:23631-1703586600-1703588400@lewisborolibrary.org
SUMMARY:Holiday Family Storytime
DESCRIPTION:All Ages \nJoin Miss Marie in the children’s room for stories\, music and more fun for all. \nPlease register below\, so we have your info in case we need to cancel.
URL:https://lewisborolibrary.org/event/family-storytime-31-2023-12-26/
CATEGORIES:Child
ATTACH;FMTTYPE=image/jpeg:https://lewisborolibrary.org/wp-content/uploads/2022/04/220503-Outdoor-Family-Storytime-compressed.jpg
END:VEVENT
BEGIN:VEVENT
DTSTART;TZID=America/New_York:20231227T103000
DTEND;TZID=America/New_York:20231227T113000
DTSTAMP:20260420T115638
CREATED:20231128T184926Z
LAST-MODIFIED:20231128T184926Z
UID:23702-1703673000-1703676600@lewisborolibrary.org
SUMMARY:Snowflake Crafts: Morning Session
DESCRIPTION:All ages \nCelebrate winter with a bevy of snowflake crafts! We’ll set up various stations with all the materials needed to make simple snowflake decorations\, or to craft a beaded snowflake bracelet – there’s an age-appropriate craft for all! \nSpace is limited\, please register below. \nNote: photographs are often taken at our events to post on social media and our website. Please let the event leader know if you would prefer your child not be photographed.
URL:https://lewisborolibrary.org/event/snowflake-crafts-morning-session/
CATEGORIES:Child
ATTACH;FMTTYPE=image/jpeg:https://lewisborolibrary.org/wp-content/uploads/2023/11/231227-Snowflake-Crafts-compressed.jpg
END:VEVENT
BEGIN:VEVENT
DTSTART;TZID=America/New_York:20231227T153000
DTEND;TZID=America/New_York:20231227T163000
DTSTAMP:20260420T115638
CREATED:20231128T185137Z
LAST-MODIFIED:20231128T185137Z
UID:23705-1703691000-1703694600@lewisborolibrary.org
SUMMARY:Snowflake Crafts: Afternoon Session
DESCRIPTION:All ages \nCelebrate winter with a bevy of snowflake crafts! We’ll set up various stations with all the materials needed to make simple snowflake decorations\, or to craft a beaded snowflake bracelet – there’s an age-appropriate craft for all! \nSpace is limited\, please register below. \nNote: photographs are often taken at our events to post on social media and our website. Please let the event leader know if you would prefer your child not be photographed.
URL:https://lewisborolibrary.org/event/snowflake-crafts-afternoon-session/
CATEGORIES:Child
ATTACH;FMTTYPE=image/jpeg:https://lewisborolibrary.org/wp-content/uploads/2023/11/231227-Snowflake-Crafts-compressed.jpg
END:VEVENT
BEGIN:VEVENT
DTSTART;TZID=America/New_York:20231228T103000
DTEND;TZID=America/New_York:20231228T110000
DTSTAMP:20260420T115638
CREATED:20231127T172204Z
LAST-MODIFIED:20231127T172204Z
UID:23647-1703759400-1703761200@lewisborolibrary.org
SUMMARY:Holiday Family Storytime
DESCRIPTION:All Ages \nJoin Miss Marie in the children’s room for stories\, music and more fun for all. \nPlease register below\, so we have your info in case we need to cancel.
URL:https://lewisborolibrary.org/event/holiday-family-storytime/
CATEGORIES:Child
ATTACH;FMTTYPE=image/jpeg:https://lewisborolibrary.org/wp-content/uploads/2022/04/220503-Outdoor-Family-Storytime-compressed.jpg
END:VEVENT
BEGIN:VEVENT
DTSTART;TZID=America/New_York:20231229T103000
DTEND;TZID=America/New_York:20231229T113000
DTSTAMP:20260420T115638
CREATED:20231127T173453Z
LAST-MODIFIED:20231127T173453Z
UID:23650-1703845800-1703849400@lewisborolibrary.org
SUMMARY:Ozobots Robotics
DESCRIPTION:Grades K-5  \nLearn how to program the Library’s Ozobot Evos – the little robots with personality. \nSpace is limited; please register below. \n\nNote: photographs are often taken at our events to post on social media and our website. Please let the event leader know if you would prefer your child not be photographed.
URL:https://lewisborolibrary.org/event/ozobots-robotics-4/
CATEGORIES:Child
ATTACH;FMTTYPE=image/jpeg:https://lewisborolibrary.org/wp-content/uploads/2023/05/230620-Coding-with-Ozobots-compressed.jpg
END:VEVENT
BEGIN:VEVENT
DTSTART;TZID=America/New_York:20231229T133000
DTEND;TZID=America/New_York:20231229T143000
DTSTAMP:20260420T115638
CREATED:20231127T165122Z
LAST-MODIFIED:20231127T170511Z
UID:23612-1703856600-1703860200@lewisborolibrary.org
SUMMARY:Holiday Family Storytime & Craft
DESCRIPTION:For All Ages. \nJoin Miss Marie in the children’s room for stories\, music and crafts. \nPlease register below\, so we have your info in case we need to cancel.
URL:https://lewisborolibrary.org/event/family-storytime-craft-2023-12-29/
CATEGORIES:Child
ATTACH;FMTTYPE=image/jpeg:https://lewisborolibrary.org/wp-content/uploads/2022/04/220503-Outdoor-Family-Storytime-compressed.jpg
END:VEVENT
END:VCALENDAR