BEGIN:VCALENDAR
VERSION:2.0
PRODID:-//Lewisboro Library - ECPv6.15.20//NONSGML v1.0//EN
CALSCALE:GREGORIAN
METHOD:PUBLISH
X-ORIGINAL-URL:https://lewisborolibrary.org
X-WR-CALDESC:Events for Lewisboro Library
REFRESH-INTERVAL;VALUE=DURATION:PT1H
X-Robots-Tag:noindex
X-PUBLISHED-TTL:PT1H
BEGIN:VTIMEZONE
TZID:America/New_York
BEGIN:DAYLIGHT
TZOFFSETFROM:-0500
TZOFFSETTO:-0400
TZNAME:EDT
DTSTART:20230312T070000
END:DAYLIGHT
BEGIN:STANDARD
TZOFFSETFROM:-0400
TZOFFSETTO:-0500
TZNAME:EST
DTSTART:20231105T060000
END:STANDARD
BEGIN:DAYLIGHT
TZOFFSETFROM:-0500
TZOFFSETTO:-0400
TZNAME:EDT
DTSTART:20240310T070000
END:DAYLIGHT
BEGIN:STANDARD
TZOFFSETFROM:-0400
TZOFFSETTO:-0500
TZNAME:EST
DTSTART:20241103T060000
END:STANDARD
BEGIN:DAYLIGHT
TZOFFSETFROM:-0500
TZOFFSETTO:-0400
TZNAME:EDT
DTSTART:20250309T070000
END:DAYLIGHT
BEGIN:STANDARD
TZOFFSETFROM:-0400
TZOFFSETTO:-0500
TZNAME:EST
DTSTART:20251102T060000
END:STANDARD
END:VTIMEZONE
BEGIN:VEVENT
DTSTART;TZID=America/New_York:20240727T103000
DTEND;TZID=America/New_York:20240727T113000
DTSTAMP:20260424T081412
CREATED:20240715T175724Z
LAST-MODIFIED:20240715T175929Z
UID:28089-1722076200-1722079800@lewisborolibrary.org
SUMMARY:Family Fun Saturday: Author Visit - Sparky/Dexter Adventures!
DESCRIPTION:All ages.  On the Library lawn\, weather permitting. \nCome meet author Rick Arruzza and his adopt-a-dog Dexter. Rick is the author of multiple picture books about his rescue dogs Sparky and Dexter. \nRick will read aloud from his books\, and talk about adopting rescue dogs. He will also autograph books that can be purchased that day. A portion of book sale proceeds goes to Adopt-A-Dog\, the agency that rescued Sparky and Dexter from dog pounds in New York City and West Virginia. \nPlease register below.
URL:https://lewisborolibrary.org/event/author-visit-sparky-dexter-adventures/
CATEGORIES:Child
ATTACH;FMTTYPE=image/jpeg:https://lewisborolibrary.org/wp-content/uploads/2021/06/210625-Rick-Arruzza-Dexter-compressed.jpg
END:VEVENT
END:VCALENDAR