BEGIN:VCALENDAR
VERSION:2.0
PRODID:-//Lewisboro Library - ECPv6.15.20//NONSGML v1.0//EN
CALSCALE:GREGORIAN
METHOD:PUBLISH
X-ORIGINAL-URL:https://lewisborolibrary.org
X-WR-CALDESC:Events for Lewisboro Library
REFRESH-INTERVAL;VALUE=DURATION:PT1H
X-Robots-Tag:noindex
X-PUBLISHED-TTL:PT1H
BEGIN:VTIMEZONE
TZID:America/New_York
BEGIN:DAYLIGHT
TZOFFSETFROM:-0500
TZOFFSETTO:-0400
TZNAME:EDT
DTSTART:20220313T070000
END:DAYLIGHT
BEGIN:STANDARD
TZOFFSETFROM:-0400
TZOFFSETTO:-0500
TZNAME:EST
DTSTART:20221106T060000
END:STANDARD
BEGIN:DAYLIGHT
TZOFFSETFROM:-0500
TZOFFSETTO:-0400
TZNAME:EDT
DTSTART:20230312T070000
END:DAYLIGHT
BEGIN:STANDARD
TZOFFSETFROM:-0400
TZOFFSETTO:-0500
TZNAME:EST
DTSTART:20231105T060000
END:STANDARD
BEGIN:DAYLIGHT
TZOFFSETFROM:-0500
TZOFFSETTO:-0400
TZNAME:EDT
DTSTART:20240310T070000
END:DAYLIGHT
BEGIN:STANDARD
TZOFFSETFROM:-0400
TZOFFSETTO:-0500
TZNAME:EST
DTSTART:20241103T060000
END:STANDARD
END:VTIMEZONE
BEGIN:VEVENT
DTSTART;TZID=America/New_York:20230531T103000
DTEND;TZID=America/New_York:20230531T110000
DTSTAMP:20260421T174340
CREATED:20230424T151950Z
LAST-MODIFIED:20230424T151950Z
UID:19849-1685529000-1685530800@lewisborolibrary.org
SUMMARY:MakerSpace Mornings: Beaded Animal Bracelets
DESCRIPTION:For toddlers – age 5. \nCome work on crafts\, technology and more in the MakerSpace Corner of the Children’s Room. This month we are making crafts that celebrate May like pinatas for Cinco de Mayo and a special Mother’s Day craft. \nSpace is limited.  Please register your child below.
URL:https://lewisborolibrary.org/event/makerspace-mornings-beaded-animal-bracelets/
CATEGORIES:Child
ATTACH;FMTTYPE=image/jpeg:https://lewisborolibrary.org/wp-content/uploads/2023/04/230531-Mksp-Beaded-Animal-Bracelets-compressed.jpg
END:VEVENT
BEGIN:VEVENT
DTSTART;TZID=America/New_York:20230531T133000
DTEND;TZID=America/New_York:20230531T140000
DTSTAMP:20260421T174340
CREATED:20230424T152128Z
LAST-MODIFIED:20230424T152128Z
UID:19853-1685539800-1685541600@lewisborolibrary.org
SUMMARY:MakerSpace Afternoons: Beaded Animal Bracelets
DESCRIPTION:For toddlers – age 5. \nCome work on crafts\, technology and more in the MakerSpace Corner of the Children’s Room. This month we are making crafts that celebrate May like pinatas for Cinco de Mayo and a special Mother’s Day craft. \nSpace is limited.  Please register your child below.
URL:https://lewisborolibrary.org/event/makerspace-afternoons-beaded-animal-bracelets/
CATEGORIES:Child
ATTACH;FMTTYPE=image/jpeg:https://lewisborolibrary.org/wp-content/uploads/2023/04/230531-Mksp-Beaded-Animal-Bracelets-compressed.jpg
END:VEVENT
END:VCALENDAR