BEGIN:VCALENDAR
VERSION:2.0
PRODID:-//Lewisboro Library - ECPv6.15.20//NONSGML v1.0//EN
CALSCALE:GREGORIAN
METHOD:PUBLISH
X-WR-CALNAME:Lewisboro Library
X-ORIGINAL-URL:https://lewisborolibrary.org
X-WR-CALDESC:Events for Lewisboro Library
REFRESH-INTERVAL;VALUE=DURATION:PT1H
X-Robots-Tag:noindex
X-PUBLISHED-TTL:PT1H
BEGIN:VTIMEZONE
TZID:America/New_York
BEGIN:DAYLIGHT
TZOFFSETFROM:-0500
TZOFFSETTO:-0400
TZNAME:EDT
DTSTART:20220313T070000
END:DAYLIGHT
BEGIN:STANDARD
TZOFFSETFROM:-0400
TZOFFSETTO:-0500
TZNAME:EST
DTSTART:20221106T060000
END:STANDARD
BEGIN:DAYLIGHT
TZOFFSETFROM:-0500
TZOFFSETTO:-0400
TZNAME:EDT
DTSTART:20230312T070000
END:DAYLIGHT
BEGIN:STANDARD
TZOFFSETFROM:-0400
TZOFFSETTO:-0500
TZNAME:EST
DTSTART:20231105T060000
END:STANDARD
BEGIN:DAYLIGHT
TZOFFSETFROM:-0500
TZOFFSETTO:-0400
TZNAME:EDT
DTSTART:20240310T070000
END:DAYLIGHT
BEGIN:STANDARD
TZOFFSETFROM:-0400
TZOFFSETTO:-0500
TZNAME:EST
DTSTART:20241103T060000
END:STANDARD
END:VTIMEZONE
BEGIN:VEVENT
DTSTART;TZID=America/New_York:20230426T103000
DTEND;TZID=America/New_York:20230426T110000
DTSTAMP:20260424T194106
CREATED:20230314T182431Z
LAST-MODIFIED:20230314T182917Z
UID:19203-1682505000-1682506800@lewisborolibrary.org
SUMMARY:MakerSpace Mornings: Acrostic Name Collage
DESCRIPTION:For toddlers – age 5. \nCome work on crafts\, technology and more in the MakerSpace Corner of the Children’s Room. This month we are making crafts that celebrate April and National Poetry Month. Today’s craft is an acrostic name collage. \nSpace is limited.  Please register your child below.
URL:https://lewisborolibrary.org/event/makerspace-mornings-acrostic-name-collage/
CATEGORIES:Child
ATTACH;FMTTYPE=image/jpeg:https://lewisborolibrary.org/wp-content/uploads/2023/03/230426-Acrostic-Name-Collage-compressed.jpg
END:VEVENT
BEGIN:VEVENT
DTSTART;TZID=America/New_York:20230426T133000
DTEND;TZID=America/New_York:20230426T140000
DTSTAMP:20260424T194106
CREATED:20230314T182301Z
LAST-MODIFIED:20230314T182939Z
UID:19206-1682515800-1682517600@lewisborolibrary.org
SUMMARY:MakerSpace Afternoons: Acrostic Name Collage
DESCRIPTION:For toddlers – age 5. \nCome work on crafts\, technology and more in the MakerSpace Corner of the Children’s Room. This month we are making crafts that celebrate April and National Poetry Month. Today’s craft is an acrostic name collage. \nSpace is limited.  Please register your child below.
URL:https://lewisborolibrary.org/event/makerspace-afternoons-acrostic-name-collage/
CATEGORIES:Child
ATTACH;FMTTYPE=image/jpeg:https://lewisborolibrary.org/wp-content/uploads/2023/03/230426-Acrostic-Name-Collage-compressed.jpg
END:VEVENT
END:VCALENDAR