BEGIN:VCALENDAR
VERSION:2.0
PRODID:-//Lewisboro Library - ECPv6.15.20//NONSGML v1.0//EN
CALSCALE:GREGORIAN
METHOD:PUBLISH
X-ORIGINAL-URL:https://lewisborolibrary.org
X-WR-CALDESC:Events for Lewisboro Library
REFRESH-INTERVAL;VALUE=DURATION:PT1H
X-Robots-Tag:noindex
X-PUBLISHED-TTL:PT1H
BEGIN:VTIMEZONE
TZID:America/New_York
BEGIN:DAYLIGHT
TZOFFSETFROM:-0500
TZOFFSETTO:-0400
TZNAME:EDT
DTSTART:20240310T070000
END:DAYLIGHT
BEGIN:STANDARD
TZOFFSETFROM:-0400
TZOFFSETTO:-0500
TZNAME:EST
DTSTART:20241103T060000
END:STANDARD
BEGIN:DAYLIGHT
TZOFFSETFROM:-0500
TZOFFSETTO:-0400
TZNAME:EDT
DTSTART:20250309T070000
END:DAYLIGHT
BEGIN:STANDARD
TZOFFSETFROM:-0400
TZOFFSETTO:-0500
TZNAME:EST
DTSTART:20251102T060000
END:STANDARD
BEGIN:DAYLIGHT
TZOFFSETFROM:-0500
TZOFFSETTO:-0400
TZNAME:EDT
DTSTART:20260308T070000
END:DAYLIGHT
BEGIN:STANDARD
TZOFFSETFROM:-0400
TZOFFSETTO:-0500
TZNAME:EST
DTSTART:20261101T060000
END:STANDARD
END:VTIMEZONE
BEGIN:VEVENT
DTSTART;TZID=America/New_York:20250304T113000
DTEND;TZID=America/New_York:20250304T120000
DTSTAMP:20260421T102002
CREATED:20250206T182942Z
LAST-MODIFIED:20250206T201347Z
UID:31453-1741087800-1741089600@lewisborolibrary.org
SUMMARY:Music Time with Robert the Guitar Guy
DESCRIPTION:Ages birth to 3 years\, with a caregiver. \nWe’ve added a weekly music program! Come and experience the musical talent of Robert the Guitar Guy while you clap\, march and dance along to the beat! An engaging musical experience for children to do with their caregiver. \nPlease register below. \n 
URL:https://lewisborolibrary.org/event/music-time-with-robert-the-guitar-guy-2025-03-04/2025-03-04/
CATEGORIES:Child
END:VEVENT
BEGIN:VEVENT
DTSTART;TZID=America/New_York:20250308T103000
DTEND;TZID=America/New_York:20250308T113000
DTSTAMP:20260421T102002
CREATED:20250215T224310Z
LAST-MODIFIED:20250215T224310Z
UID:31706-1741429800-1741433400@lewisborolibrary.org
SUMMARY:Sing-Me-A-Story Bilingual Storytime
DESCRIPTION:All ages. \nIntroduce your child to Spanish by learning new songs\, old favorites and playing instruments with Nancy Hershatter\, M.Ed.\, in this fun music program! \nPlease register below. \nNote: photographs are often taken at our events to post on social media and our website. Please let the event leader know if you would prefer your child not be photographed.
URL:https://lewisborolibrary.org/event/sing-me-a-story-bilingual-storytime-2/
CATEGORIES:Child
ATTACH;FMTTYPE=image/jpeg:https://lewisborolibrary.org/wp-content/uploads/2024/10/241116-Bilingual-Storytime.jpg
END:VEVENT
BEGIN:VEVENT
DTSTART;TZID=America/New_York:20250311T113000
DTEND;TZID=America/New_York:20250311T120000
DTSTAMP:20260421T102002
CREATED:20250206T182942Z
LAST-MODIFIED:20250305T194930Z
UID:31454-1741692600-1741694400@lewisborolibrary.org
SUMMARY:Music Time with Robert the Guitar Guy
DESCRIPTION:Ages birth to 3 years\, with a caregiver. \nWe’ve added a weekly music program! Come and experience the musical talent of Robert the Guitar Guy while you clap\, march and dance along to the beat! An engaging musical experience for children to do with their caregiver. \nPlease register below. \n 
URL:https://lewisborolibrary.org/event/music-time-with-robert-the-guitar-guy-2025-03-04-2025-03-11/
CATEGORIES:Child
END:VEVENT
BEGIN:VEVENT
DTSTART;TZID=America/New_York:20250318T113000
DTEND;TZID=America/New_York:20250318T120000
DTSTAMP:20260421T102002
CREATED:20250206T182942Z
LAST-MODIFIED:20250305T195152Z
UID:31455-1742297400-1742299200@lewisborolibrary.org
SUMMARY:Music Time with Robert the Guitar Guy
DESCRIPTION:Ages birth to 3 years\, with a caregiver. \nWe’ve added a weekly music program! Come and experience the musical talent of Robert the Guitar Guy while you clap\, march and dance along to the beat! An engaging musical experience for children to do with their caregiver. \nPlease register below. \n 
URL:https://lewisborolibrary.org/event/music-time-with-robert-the-guitar-guy-2025-03-04-2025-03-18/
CATEGORIES:Child
END:VEVENT
BEGIN:VEVENT
DTSTART;TZID=America/New_York:20250325T113000
DTEND;TZID=America/New_York:20250325T120000
DTSTAMP:20260421T102002
CREATED:20250206T182942Z
LAST-MODIFIED:20250305T195303Z
UID:31456-1742902200-1742904000@lewisborolibrary.org
SUMMARY:Music Time with Robert the Guitar Guy
DESCRIPTION:Ages birth to 3 years\, with a caregiver. \nWe’ve added a weekly music program! Come and experience the musical talent of Robert the Guitar Guy while you clap\, march and dance along to the beat! An engaging musical experience for children to do with their caregiver. \nPlease register below. \n 
URL:https://lewisborolibrary.org/event/music-time-with-robert-the-guitar-guy-2025-03-04-2025-03-25/
CATEGORIES:Child
END:VEVENT
BEGIN:VEVENT
DTSTART;TZID=America/New_York:20250329T130000
DTEND;TZID=America/New_York:20250329T140000
DTSTAMP:20260421T102002
CREATED:20250215T223543Z
LAST-MODIFIED:20250325T133809Z
UID:31701-1743253200-1743256800@lewisborolibrary.org
SUMMARY:"Learn Chess in 1 Day" for Families
DESCRIPTION:This session is full\, please email the library to be put on the wait list. \nThis class is for beginner chess players\, grades K-12 \, and their adult caregivers if they want to learn as well. Chessin1day.com rated* chess instructors will get you started!\n \nThe teen instructors will introduce the game’s rules and help you think strategically.  \nThis program is ideal for youth and adult guardians who are brand new to chess. \nIf your child is under 12 years old\, an adult caregiver must be on site for the duration of the program. \n*Jack and Laurel Aronian\, NY State 2021 Mixed Doubles Champions \n*Jack Aronian\, CT State 9th Grade Champion | *Laurel Aronian\, CT State 2022 Girls Champion \nNote: photographs are often taken at our events to post on social media and our website. Please let the event leader know if you would prefer your child not be photographed.
URL:https://lewisborolibrary.org/event/learn-chess-in-1-day-for-families/
CATEGORIES:Child
ATTACH;FMTTYPE=image/jpeg:https://lewisborolibrary.org/wp-content/uploads/2025/02/250329-Learn-Chess.jpg
END:VEVENT
END:VCALENDAR