BEGIN:VCALENDAR
VERSION:2.0
PRODID:-//Lewisboro Library - ECPv6.15.20//NONSGML v1.0//EN
CALSCALE:GREGORIAN
METHOD:PUBLISH
X-WR-CALNAME:Lewisboro Library
X-ORIGINAL-URL:https://lewisborolibrary.org
X-WR-CALDESC:Events for Lewisboro Library
REFRESH-INTERVAL;VALUE=DURATION:PT1H
X-Robots-Tag:noindex
X-PUBLISHED-TTL:PT1H
BEGIN:VTIMEZONE
TZID:America/New_York
BEGIN:DAYLIGHT
TZOFFSETFROM:-0500
TZOFFSETTO:-0400
TZNAME:EDT
DTSTART:20240310T070000
END:DAYLIGHT
BEGIN:STANDARD
TZOFFSETFROM:-0400
TZOFFSETTO:-0500
TZNAME:EST
DTSTART:20241103T060000
END:STANDARD
BEGIN:DAYLIGHT
TZOFFSETFROM:-0500
TZOFFSETTO:-0400
TZNAME:EDT
DTSTART:20250309T070000
END:DAYLIGHT
BEGIN:STANDARD
TZOFFSETFROM:-0400
TZOFFSETTO:-0500
TZNAME:EST
DTSTART:20251102T060000
END:STANDARD
BEGIN:DAYLIGHT
TZOFFSETFROM:-0500
TZOFFSETTO:-0400
TZNAME:EDT
DTSTART:20260308T070000
END:DAYLIGHT
BEGIN:STANDARD
TZOFFSETFROM:-0400
TZOFFSETTO:-0500
TZNAME:EST
DTSTART:20261101T060000
END:STANDARD
END:VTIMEZONE
BEGIN:VEVENT
DTSTART;TZID=America/New_York:20250204T103000
DTEND;TZID=America/New_York:20250204T113000
DTSTAMP:20260421T235136
CREATED:20241219T190740Z
LAST-MODIFIED:20250206T035505Z
UID:31074-1738665000-1738668600@lewisborolibrary.org
SUMMARY:Family Storytime
DESCRIPTION:Ages Birth to Five with Caregiver\n \nJoin Miss Marie in the children’s room for seasonal stories\, music and more fun for infants and toddlers. \nNo registration required.
URL:https://lewisborolibrary.org/event/family-storytime-38-2025-01-31-2025-02-04/
CATEGORIES:Child
ATTACH;FMTTYPE=image/jpeg:https://lewisborolibrary.org/wp-content/uploads/2022/12/230103-Family-Storytime.jpg
END:VEVENT
BEGIN:VEVENT
DTSTART;TZID=America/New_York:20250205T163000
DTEND;TZID=America/New_York:20250205T173000
DTSTAMP:20260421T235136
CREATED:20250123T171853Z
LAST-MODIFIED:20250123T171853Z
UID:31144-1738773000-1738776600@lewisborolibrary.org
SUMMARY:Girls Who Code
DESCRIPTION:For Students in Grades 3 through 6. \nGirls Who Code is a non-profit organization dedicated to closing the gender gap in technology. The club is a FREE after-school computer science program\, facilitated by Children’s Librarian Marie Nania. Boys are welcome. \nThe group will meet monthly on the first Wednesday. \nStudents are encouraged to bring their own laptops or Chromebooks; some will be provided. \nSpace is limited\, please register below. \nNote: photographs are often taken at our events to post on social media and our website. Please let the event leader know if you would prefer your child not be photographed.
URL:https://lewisborolibrary.org/event/girls-who-code-33/
CATEGORIES:Child
ATTACH;FMTTYPE=image/jpeg:https://lewisborolibrary.org/wp-content/uploads/2024/10/231011-Girls-Who-Code-compressed.jpg
END:VEVENT
BEGIN:VEVENT
DTSTART;TZID=America/New_York:20250206T103000
DTEND;TZID=America/New_York:20250206T113000
DTSTAMP:20260421T235136
CREATED:20241219T190740Z
LAST-MODIFIED:20250206T035623Z
UID:31242-1738837800-1738841400@lewisborolibrary.org
SUMMARY:Family Storytime
DESCRIPTION:Ages Birth to Five with Caregiver\n \nJoin Miss Marie in the children’s room for seasonal stories\, music and more fun for infants and toddlers. \nNo registration required.
URL:https://lewisborolibrary.org/event/family-storytime-38-2025-01-31-2025-02-04-2025-02-06/
CATEGORIES:Cancelled,Child
ATTACH;FMTTYPE=image/jpeg:https://lewisborolibrary.org/wp-content/uploads/2022/12/230103-Family-Storytime.jpg
END:VEVENT
BEGIN:VEVENT
DTSTART;TZID=America/New_York:20250211T113000
DTEND;TZID=America/New_York:20250211T120000
DTSTAMP:20260421T235136
CREATED:20250206T182942Z
LAST-MODIFIED:20250206T200139Z
UID:31448-1739273400-1739275200@lewisborolibrary.org
SUMMARY:Music Time with Robert the Guitar Guy
DESCRIPTION:Ages birth to 3 years\, with a caregiver. \nWe’ve added a weekly music program! Come and experience the musical talent of Robert the Guitar Guy while you clap\, march and dance along to the beat! An engaging musical experience for children to do with their caregiver. \nPlease register below. \n 
URL:https://lewisborolibrary.org/event/music-time-with-robert-the-guitar-guy/
CATEGORIES:Child
END:VEVENT
BEGIN:VEVENT
DTSTART;TZID=America/New_York:20250213T103000
DTEND;TZID=America/New_York:20250213T113000
DTSTAMP:20260421T235136
CREATED:20241219T190740Z
LAST-MODIFIED:20250206T220420Z
UID:31244-1739442600-1739446200@lewisborolibrary.org
SUMMARY:Family Storytime
DESCRIPTION:Ages Birth to Five with Caregiver\n \nCome to the children’s room for seasonal stories\, music and more fun for infants and toddlers. \nNo registration required.
URL:https://lewisborolibrary.org/event/family-storytime-38-2025-01-31-2025-02-04-2025-02-11-2025-02-13/2025-02-13/
CATEGORIES:Child
ATTACH;FMTTYPE=image/jpeg:https://lewisborolibrary.org/wp-content/uploads/2025/02/Family-Storytime.jpg
END:VEVENT
BEGIN:VEVENT
DTSTART;TZID=America/New_York:20250214T160000
DTEND;TZID=America/New_York:20250214T170000
DTSTAMP:20260421T235136
CREATED:20241219T190740Z
LAST-MODIFIED:20250203T180308Z
UID:31093-1739548800-1739552400@lewisborolibrary.org
SUMMARY:Valentine Storytime with Author Leokadia George
DESCRIPTION:All Ages. \nCelebrate Valentine’s Day with a visit by author Leokadia George\, who will share the latest installment in her series of books about Trumpet the Miracle Wolf Pup – Trumpet Finds Love. Based on true events surrounding the miraculous birth of one wolf pup at the Wolf Conservation Center in South Salem\, this heartwarming story will engage the whole family\, while starting a conversation with your kids about the importance of saving endangered species. This book also highlights the amazing work pilots do to help endangered species. \nThe author started volunteering at the Wolf Conservation Center in 2016 where she was introduced to the world of wolf conservation. 50% of the author’s profits from the Trumpet the Miracle Wolf Pup series will be donated to wolf conservation efforts to save this species from extinction. \nPlease register below.
URL:https://lewisborolibrary.org/event/family-storytime-38-2025-01-24-2025-02-14/
CATEGORIES:Child
ATTACH;FMTTYPE=image/jpeg:https://lewisborolibrary.org/wp-content/uploads/2025/02/250214-Valentine-Storytime.jpg
END:VEVENT
BEGIN:VEVENT
DTSTART;TZID=America/New_York:20250215T110000
DTEND;TZID=America/New_York:20250215T130000
DTSTAMP:20260421T235136
CREATED:20250128T185911Z
LAST-MODIFIED:20250128T185911Z
UID:31208-1739617200-1739624400@lewisborolibrary.org
SUMMARY:Valentine's Day Crafts
DESCRIPTION:For Grades K – 5. \nDrop in to the Library between 11 am and 1 pm today to make Valentine’s Day Crafts. \nMembers of Girl Scout Troop 2027 are running this fun arts & crafts session to raise awareness for their annual memorial fundraiser\, “Bring it for Brooke\,” which is scheduled for May 2\, 2025\, at the Lewisboro Town Park. \nNo registration required.
URL:https://lewisborolibrary.org/event/valentines-day-crafts/
CATEGORIES:Child
ATTACH;FMTTYPE=image/jpeg:https://lewisborolibrary.org/wp-content/uploads/2025/01/250215-Valentine-Crafts.jpg
END:VEVENT
BEGIN:VEVENT
DTSTART;TZID=America/New_York:20250218T113000
DTEND;TZID=America/New_York:20250218T120000
DTSTAMP:20260421T235136
CREATED:20250206T182942Z
LAST-MODIFIED:20250206T201056Z
UID:31452-1739878200-1739880000@lewisborolibrary.org
SUMMARY:Music Time with Robert the Guitar Guy
DESCRIPTION:Ages birth to 3 years\, with a caregiver. \nWe’ve added a weekly music program! Come and experience the musical talent of Robert the Guitar Guy while you clap\, march and dance along to the beat! An engaging musical experience for children to do with their caregiver. \nPlease register below. \n 
URL:https://lewisborolibrary.org/event/music-time-with-robert-the-guitar-guy-2025-02-18/
CATEGORIES:Child
END:VEVENT
BEGIN:VEVENT
DTSTART;TZID=America/New_York:20250221T160000
DTEND;TZID=America/New_York:20250221T170000
DTSTAMP:20260421T235136
CREATED:20241219T190740Z
LAST-MODIFIED:20250209T185749Z
UID:31094-1740153600-1740157200@lewisborolibrary.org
SUMMARY:Family Storytime
DESCRIPTION:Ages Birth to Five with Caregiver\n \nCome to the children’s room for seasonal stories\, music and more fun for infants and toddlers. \nNo registration required.
URL:https://lewisborolibrary.org/event/family-storytime-38-2025-01-24-2025-02-21/
CATEGORIES:Child
ATTACH;FMTTYPE=image/jpeg:https://lewisborolibrary.org/wp-content/uploads/2025/02/Family-Storytime.jpg
END:VEVENT
END:VCALENDAR