BEGIN:VCALENDAR
VERSION:2.0
PRODID:-//Lewisboro Library - ECPv6.15.20//NONSGML v1.0//EN
CALSCALE:GREGORIAN
METHOD:PUBLISH
X-WR-CALNAME:Lewisboro Library
X-ORIGINAL-URL:https://lewisborolibrary.org
X-WR-CALDESC:Events for Lewisboro Library
REFRESH-INTERVAL;VALUE=DURATION:PT1H
X-Robots-Tag:noindex
X-PUBLISHED-TTL:PT1H
BEGIN:VTIMEZONE
TZID:America/New_York
BEGIN:DAYLIGHT
TZOFFSETFROM:-0500
TZOFFSETTO:-0400
TZNAME:EDT
DTSTART:20230312T070000
END:DAYLIGHT
BEGIN:STANDARD
TZOFFSETFROM:-0400
TZOFFSETTO:-0500
TZNAME:EST
DTSTART:20231105T060000
END:STANDARD
BEGIN:DAYLIGHT
TZOFFSETFROM:-0500
TZOFFSETTO:-0400
TZNAME:EDT
DTSTART:20240310T070000
END:DAYLIGHT
BEGIN:STANDARD
TZOFFSETFROM:-0400
TZOFFSETTO:-0500
TZNAME:EST
DTSTART:20241103T060000
END:STANDARD
BEGIN:DAYLIGHT
TZOFFSETFROM:-0500
TZOFFSETTO:-0400
TZNAME:EDT
DTSTART:20250309T070000
END:DAYLIGHT
BEGIN:STANDARD
TZOFFSETFROM:-0400
TZOFFSETTO:-0500
TZNAME:EST
DTSTART:20251102T060000
END:STANDARD
END:VTIMEZONE
BEGIN:VEVENT
DTSTART;TZID=America/New_York:20241202T100000
DTEND;TZID=America/New_York:20241202T170000
DTSTAMP:20260420T045048
CREATED:20240821T211502Z
LAST-MODIFIED:20241120T213919Z
UID:30153-1733133600-1733158800@lewisborolibrary.org
SUMMARY:Children's MakerSpace Corner
DESCRIPTION:All Ages. Drop in from 10 am to 5 pm. \nA different seasonal craft each week\, while supplies last. No registration required.
URL:https://lewisborolibrary.org/event/childrens-makerspace-corner-5-2024-09-16-2024-12-02/2024-12-02/
CATEGORIES:Child
ATTACH;FMTTYPE=image/jpeg:https://lewisborolibrary.org/wp-content/uploads/2022/04/MakerSpace-Crafts-compressed.jpg
END:VEVENT
BEGIN:VEVENT
DTSTART;TZID=America/New_York:20241206T133000
DTEND;TZID=America/New_York:20241206T143000
DTSTAMP:20260420T045048
CREATED:20240822T023341Z
LAST-MODIFIED:20241125T213200Z
UID:30253-1733491800-1733495400@lewisborolibrary.org
SUMMARY:PK Storytime with Miss Melanie
DESCRIPTION:Ages 2 to 5 with caregiver. \nMiss Melanie is celebrating the season with special stories. \nNo registration required.
URL:https://lewisborolibrary.org/event/pk-storytime-craft-2024-12-06/
CATEGORIES:Child
ATTACH;FMTTYPE=image/jpeg:https://lewisborolibrary.org/wp-content/uploads/2022/04/MakerSpace-Crafts-compressed.jpg
END:VEVENT
BEGIN:VEVENT
DTSTART;TZID=America/New_York:20241207T103000
DTEND;TZID=America/New_York:20241207T113000
DTSTAMP:20260420T045048
CREATED:20241113T194611Z
LAST-MODIFIED:20241121T195515Z
UID:29881-1733567400-1733571000@lewisborolibrary.org
SUMMARY:Puppet Show: "The Little Red Hen"
DESCRIPTION:Recommended for ages 3 – 7. \nBring the family to the Lionheart Puppet Company’s holiday production of The Little Red Hen! The puppet stage sets the backdrop for this engaging performance based on the classic children’s story\, a lesson in learning to help others. Following the performance there will be a demonstration and question and answer session. \nPlease register below. \nNote: photographs are often taken at our events to post on social media and our website. Please let the event leader know if you would prefer your child not be photographed.
URL:https://lewisborolibrary.org/event/puppet-show-the-little-red-hen/
CATEGORIES:Child
ATTACH;FMTTYPE=image/jpeg:https://lewisborolibrary.org/wp-content/uploads/2024/11/241207-Litle-Red-Hen-Puppet-Show.jpg
END:VEVENT
BEGIN:VEVENT
DTSTART;TZID=America/New_York:20241209T163000
DTEND;TZID=America/New_York:20241209T173000
DTSTAMP:20260420T045048
CREATED:20241120T224451Z
LAST-MODIFIED:20241203T161120Z
UID:30173-1733761800-1733765400@lewisborolibrary.org
SUMMARY:Read to Kitty - This program is full.
DESCRIPTION:All ages\n \nOur friends at Rock n’ Rescue are coming back with their feline friends to let children practice their reading aloud skills by reading to the kittens – and cuddling them too! \nThis program helps children develop their reading skills and their sense of compassion. They will learn about animal-savvy behavior and volunteerism. It also provides enrichment for the cats and helps them learn to trust children and adults through calm\, positive interactions. \nThe eight\, 15-minute time slots are now filled.
URL:https://lewisborolibrary.org/event/read-to-kitty-3/
CATEGORIES:Child
ATTACH;FMTTYPE=image/jpeg:https://lewisborolibrary.org/wp-content/uploads/2024/11/241209-Read-to-Kitty.jpg
END:VEVENT
BEGIN:VEVENT
DTSTART;TZID=America/New_York:20241223T160000
DTEND;TZID=America/New_York:20241223T170000
DTSTAMP:20260420T045048
CREATED:20241125T220333Z
LAST-MODIFIED:20241125T220428Z
UID:30264-1734969600-1734973200@lewisborolibrary.org
SUMMARY:Comic Book Workshop
DESCRIPTION:Children in Grades 1 – 5. \nDraw your own action packed adventure! May come on one or both days. \nSpace is limited\, please register below.
URL:https://lewisborolibrary.org/event/comic-book-wporkshop/
CATEGORIES:Child
ATTACH;FMTTYPE=image/jpeg:https://lewisborolibrary.org/wp-content/uploads/2024/06/240701-Comic-Book-Workshop.jpg
END:VEVENT
BEGIN:VEVENT
DTSTART;TZID=America/New_York:20241226T160000
DTEND;TZID=America/New_York:20241226T170000
DTSTAMP:20260420T045048
CREATED:20241125T220954Z
LAST-MODIFIED:20241125T220954Z
UID:30271-1735228800-1735232400@lewisborolibrary.org
SUMMARY:Ozobot Robots
DESCRIPTION:Grades 1 to 5. \nCome and  learn how to code Ozobots\, the color activated robots. \nSpace is limited\, please register below. \nNote: photographs are often taken at our events to post on social media and our website. Please let the event leader know if you would prefer your child not be photographed.
URL:https://lewisborolibrary.org/event/ozobot-robots/
CATEGORIES:Child
ATTACH;FMTTYPE=image/jpeg:https://lewisborolibrary.org/wp-content/uploads/2023/05/230620-Coding-with-Ozobots-compressed.jpg
END:VEVENT
BEGIN:VEVENT
DTSTART;TZID=America/New_York:20241227T160000
DTEND;TZID=America/New_York:20241227T170000
DTSTAMP:20260420T045048
CREATED:20241125T221353Z
LAST-MODIFIED:20241125T221353Z
UID:30274-1735315200-1735318800@lewisborolibrary.org
SUMMARY:Lego Stop Motion Animation
DESCRIPTION:Grades 1 – 5 \nA special school holiday STEAM program. Work on simple stop motion animation using iPads\, Legos and an animation app. \nSpace is limited\, please register below. \nNote: photographs are often taken at our events to post on social media and our website. Please let the event leader know if you would prefer your child not be photographed.
URL:https://lewisborolibrary.org/event/lego-stop-motion-animation/
CATEGORIES:Child
ATTACH;FMTTYPE=image/jpeg:https://lewisborolibrary.org/wp-content/uploads/2022/08/220926-Stop-Motion-Animation-compressed2.jpeg
END:VEVENT
BEGIN:VEVENT
DTSTART;TZID=America/New_York:20241230T160000
DTEND;TZID=America/New_York:20241230T170000
DTSTAMP:20260420T045048
CREATED:20241125T220552Z
LAST-MODIFIED:20241230T142214Z
UID:30267-1735574400-1735578000@lewisborolibrary.org
SUMMARY:Comic Book Workshop
DESCRIPTION:Children in Grades 1 – 5. \nDraw your own action packed adventure! May come on one or both days. \nSpace is limited\, please register below.
URL:https://lewisborolibrary.org/event/comic-book-workshop-3/
CATEGORIES:Cancelled,Child
ATTACH;FMTTYPE=image/jpeg:https://lewisborolibrary.org/wp-content/uploads/2024/06/240701-Comic-Book-Workshop.jpg
END:VEVENT
END:VCALENDAR