BEGIN:VCALENDAR
VERSION:2.0
PRODID:-//Lewisboro Library - ECPv6.15.20//NONSGML v1.0//EN
CALSCALE:GREGORIAN
METHOD:PUBLISH
X-ORIGINAL-URL:https://lewisborolibrary.org
X-WR-CALDESC:Events for Lewisboro Library
REFRESH-INTERVAL;VALUE=DURATION:PT1H
X-Robots-Tag:noindex
X-PUBLISHED-TTL:PT1H
BEGIN:VTIMEZONE
TZID:America/New_York
BEGIN:DAYLIGHT
TZOFFSETFROM:-0500
TZOFFSETTO:-0400
TZNAME:EDT
DTSTART:20190310T070000
END:DAYLIGHT
BEGIN:STANDARD
TZOFFSETFROM:-0400
TZOFFSETTO:-0500
TZNAME:EST
DTSTART:20191103T060000
END:STANDARD
BEGIN:DAYLIGHT
TZOFFSETFROM:-0500
TZOFFSETTO:-0400
TZNAME:EDT
DTSTART:20200308T070000
END:DAYLIGHT
BEGIN:STANDARD
TZOFFSETFROM:-0400
TZOFFSETTO:-0500
TZNAME:EST
DTSTART:20201101T060000
END:STANDARD
BEGIN:DAYLIGHT
TZOFFSETFROM:-0500
TZOFFSETTO:-0400
TZNAME:EDT
DTSTART:20210314T070000
END:DAYLIGHT
BEGIN:STANDARD
TZOFFSETFROM:-0400
TZOFFSETTO:-0500
TZNAME:EST
DTSTART:20211107T060000
END:STANDARD
BEGIN:DAYLIGHT
TZOFFSETFROM:-0500
TZOFFSETTO:-0400
TZNAME:EDT
DTSTART:20220313T070000
END:DAYLIGHT
BEGIN:STANDARD
TZOFFSETFROM:-0400
TZOFFSETTO:-0500
TZNAME:EST
DTSTART:20221106T060000
END:STANDARD
END:VTIMEZONE
BEGIN:VEVENT
DTSTART;TZID=America/New_York:20210512T103000
DTEND;TZID=America/New_York:20210512T110000
DTSTAMP:20260421T034929
CREATED:20200501T161947Z
LAST-MODIFIED:20210512T004411Z
UID:7765-1620815400-1620817200@lewisborolibrary.org
SUMMARY:Outdoor Family Storytime!
DESCRIPTION:Mondays & Wednesdays at 10:30 a.m. All ages.\n \n\nCome join Miss Marie outdoors for stories\, songs\, movement\, puppets and more! This storytime has something for everyone! \n\nPlease bring a blanket to sit on. \nSpace is limited and masks are required. Please register family members below. \nOn the Library lawn\, weather permitting. Otherwise it will be held via Facebook Live. \n 
URL:https://lewisborolibrary.org/event/virtual-family-storytime-13-2020-08-31-2020-09-23-2020-09-30-2020-12-07-2020-12-07-2021-05-12/
CATEGORIES:Cancelled,Child
ATTACH;FMTTYPE=image/jpeg:https://lewisborolibrary.org/wp-content/uploads/2021/04/Outdoor-Family-Storytime-compressed.jpg
END:VEVENT
BEGIN:VEVENT
DTSTART;TZID=America/New_York:20210409T163000
DTEND;TZID=America/New_York:20210409T170000
DTSTAMP:20260421T034929
CREATED:20210401T193139Z
LAST-MODIFIED:20210409T132409Z
UID:8424-1617985800-1617987600@lewisborolibrary.org
SUMMARY:(Virtual) Boredom Buster: Beaded Bookmark Craft
DESCRIPTION:Via Facebook Live!  All Ages and Their Families. \nIt’s National Poetry Month and we’ll be doing a lot of reading\, so we need bookmarks!  Follow along with Miss Marie and make these easy beaded bookmarks. \nMake sure you have the materials listed below. \nMaterials List: (Materials can be found at any Dollar Tree or Michaels) \n1 Small pack of Elastic string \n1-2 Small Packs of Beads \n1 Small Assorted Pendants \nScissors \nRuler
URL:https://lewisborolibrary.org/event/virtual-boredom-buster-beaded-bookmark-craft/
CATEGORIES:Cancelled,Child
ATTACH;FMTTYPE=image/jpeg:https://lewisborolibrary.org/wp-content/uploads/2021/04/210409-Beaded-Bookmarks-compressed.jpg
END:VEVENT
BEGIN:VEVENT
DTSTART;TZID=America/New_York:20200923T170000
DTEND;TZID=America/New_York:20200923T180000
DTSTAMP:20260421T034929
CREATED:20200901T210433Z
LAST-MODIFIED:20200923T185456Z
UID:4751-1600880400-1600884000@lewisborolibrary.org
SUMMARY:Teen Yoga on the Lawn
DESCRIPTION:For Teens in Middle & High School.\n\nJoin fellow teens for Yoga on the Lawn with an instructor from Firefly Yoga. She will provide teens with techniques to help them de-stress and relax throughout the new school year. Please bring your own yoga mat and water bottle.\n\n\n\n\nSpace is limited because of social distancing. Please register below.
URL:https://lewisborolibrary.org/event/teen-yoga-on-the-lawn-2/
CATEGORIES:Cancelled,Teen
ATTACH;FMTTYPE=image/jpeg:https://lewisborolibrary.org/wp-content/uploads/2020/09/200923-Yoga-on-the-Lawn-socially-distanced-compressed.jpg
END:VEVENT
BEGIN:VEVENT
DTSTART;TZID=America/New_York:20200818T190000
DTEND;TZID=America/New_York:20200818T200000
DTSTAMP:20260421T034929
CREATED:20200524T201035Z
LAST-MODIFIED:20200804T165643Z
UID:3156-1597777200-1597780800@lewisborolibrary.org
SUMMARY:(Live AND Virtual) Summer Book Bites
DESCRIPTION:Live AND via Zoom. For High School Ages. \nWe will meet (weather permitting) on the front lawn of the Library with assigned spots six feet apart. But we also have the option to tune in via Zoom for those who can’t make it to the Library. \nNo matter how you participate\, we ask that you register below.  If the weather is bad\, we’ll all meet via Zoom\, so everyone will get a Zoom link just in case. \nIf you have questions\, please email doloreslewisboro@yahoo.com. \nBook to be discussed is American Gods by Neil Gaiman. \nBook is available as an eBook on Overdrive or Libby and as an audiobook on hoopla.
URL:https://lewisborolibrary.org/event/virtual-summer-book-bites-2/
CATEGORIES:Cancelled,Teen
ATTACH;FMTTYPE=image/jpeg:https://lewisborolibrary.org/wp-content/uploads/2020/05/200821-Summer-Book-Bites.jpg
END:VEVENT
BEGIN:VEVENT
DTSTART;TZID=America/New_York:20200807T150000
DTEND;TZID=America/New_York:20200807T160000
DTSTAMP:20260421T034929
CREATED:20200803T174948Z
LAST-MODIFIED:20200806T180335Z
UID:4326-1596812400-1596816000@lewisborolibrary.org
SUMMARY:(Virtual) Advanced Origami Workshop
DESCRIPTION:Via Zoom. For Adults & Teens\n \nOrigami is the ancient art of paper folding. Teen Vihan J. has been leading a series of beginning origami classes as a community service to engage teens and adults in a fun and interactive activity. Some participants are more advanced\, so we have added Advanced Origami Workshops on Friday afternoons for those who are interested in working with Vihan on more intricate models. Participants in the class can use their own paper\, or arrange to pick up origami paper from the Library. Classes are small\, registration is required. PLEASE REGISTER FOR EACH CLASS.\n \nRegistrants will receive the Zoom invite with link the day before. \nA note from Vihan: “In order to help our neighbors dealing with food insecurity and working on the front lines during this very challenging time\, I have set up a GoFundMe Page for anyone who would like to donate – 100% of proceeds will benefit the Daily Bread Food Pantry (a 501(c)3 non-profit that serves 700-800 families monthly in Danbury and surrounding areas) and to provide origami supplies to children of essential workers.” If you have any questions\, please email vj.eclasses@gmail.com. \n\n\n\n\n 
URL:https://lewisborolibrary.org/event/virtual-advanced-origami-workshop/
CATEGORIES:Adult,Cancelled
ATTACH;FMTTYPE=image/jpeg:https://lewisborolibrary.org/wp-content/uploads/2020/08/200807-advanced-origami-workshop-compressed.jpg
END:VEVENT
BEGIN:VEVENT
DTSTART;TZID=America/New_York:20200807T130000
DTEND;TZID=America/New_York:20200807T140000
DTSTAMP:20260421T034929
CREATED:20200713T195916Z
LAST-MODIFIED:20200806T180736Z
UID:3882-1596805200-1596808800@lewisborolibrary.org
SUMMARY:(Live/Virtual) Stitch Together
DESCRIPTION:This casual\, weekly gathering of those who knit/crochet – and chat – will meet outside\, weather permitting but will move to Zoom if rainy or too hot.\n\n\nCatch up on people’s craft projects and what is going on in Town – and beyond. Bring a project\, chair and a mask!\n\nPlease register below to receive a Zoom link.  The link will be emailed the day before if needed.
URL:https://lewisborolibrary.org/event/virtual-stitch-together-2020-08-21/
CATEGORIES:Adult,Cancelled
ATTACH;FMTTYPE=image/jpeg:https://lewisborolibrary.org/wp-content/uploads/2019/10/191121-Stitch-2gether.jpg
END:VEVENT
BEGIN:VEVENT
DTSTART;TZID=America/New_York:20200806T163000
DTEND;TZID=America/New_York:20200806T173000
DTSTAMP:20260421T034929
CREATED:20200626T175740Z
LAST-MODIFIED:20200806T145101Z
UID:3601-1596731400-1596735000@lewisborolibrary.org
SUMMARY:(Live AND Virtual) Summer Slump Book Club: Gr. 4 & 5
DESCRIPTION:Live AND via Zoom. For Children Entering Grades 4 & 5. \nWhile summer vacation is a welcome and much-needed break\, sometimes kids can run the risk of falling into the Summer Slump; forgetting some of the information they learned in school the previous year. Well\, have no fear! The Lewisboro Library’s here to keep your kids’ brains from turning into complete mush! You may order your books from the Library or access digitally. \nWe will meet (weather permitting) on the front lawn of the Library with assigned spots six feet apart. But we also have the option to tune in via Zoom for those who can’t make it to the Library. \nNo matter how you participate\, we ask that you register below.  If the weather is bad\, we’ll all meet via Zoom\, so everyone will get a Zoom link just in case. \nIf you have questions\, please email Miss Anna at amoser@wlsmail.org. \nThe book selection for August 6 is Fablehaven\, by Brandon Mull.
URL:https://lewisborolibrary.org/event/virtual-summer-slump-book-club-grades-4-5-2/
CATEGORIES:Cancelled,Child
ATTACH;FMTTYPE=image/jpeg:https://lewisborolibrary.org/wp-content/uploads/2020/05/200709-200820-Summer-Slide-Book-Clubs-square.jpeg
END:VEVENT
BEGIN:VEVENT
DTSTART;TZID=America/New_York:20200806T163000
DTEND;TZID=America/New_York:20200806T173000
DTSTAMP:20260421T034929
CREATED:20200626T174910Z
LAST-MODIFIED:20200730T204357Z
UID:3594-1596731400-1596735000@lewisborolibrary.org
SUMMARY:(Live AND Virtual) Summer Slump Book Club: Gr. 2 & 3
DESCRIPTION:Live AND via Zoom. For Children Entering Grades 2 & 3. \nWhile summer vacation is a welcome and much-needed break\, sometimes kids can run the risk of falling into the Summer Slump; forgetting some of the information they learned in school the previous year. Well\, have no fear! The Lewisboro Library’s here to keep your kids’ brains from turning into complete mush! You may order your books from the Library or access digitally. \nWe will meet (weather permitting) on the front lawn of the Library with assigned spots six feet apart. But we also have the option to tune in via Zoom for those who can’t make it to the Library. \nNo matter how you participate\, we ask that you register below.  If the weather is bad\, we’ll all meet via Zoom\, so everyone will get a Zoom link just in case. \nIf you have questions\, please email Miss Anna at amoser@wlsmail.org. \nThe book selection for August 6 is Dragons & Marshmallows\, by Asia Citro.
URL:https://lewisborolibrary.org/event/virtual-summer-slump-book-club-grades-2-3-3/
CATEGORIES:Cancelled,Child
ATTACH;FMTTYPE=image/jpeg:https://lewisborolibrary.org/wp-content/uploads/2020/05/200709-200820-Summer-Slide-Book-Clubs-square.jpeg
END:VEVENT
BEGIN:VEVENT
DTSTART;TZID=America/New_York:20200728T193000
DTEND;TZID=America/New_York:20200728T203000
DTSTAMP:20260421T034929
CREATED:20200524T193630Z
LAST-MODIFIED:20200713T204137Z
UID:3149-1595964600-1595968200@lewisborolibrary.org
SUMMARY:(Virtual) Teen Advisory Group
DESCRIPTION:Teens in Middle and High School \nThe Lewisboro Library Teen Advisory Group helps plan special events for teens and younger children. The group also helps select book titles for thee teen collection. To join TAG\, please contact Dolores Antonetz at (914) 875-9004. \n 
URL:https://lewisborolibrary.org/event/virtual-teen-advisory-group-2/
CATEGORIES:Cancelled,Teen
ATTACH;FMTTYPE=image/jpeg:https://lewisborolibrary.org/wp-content/uploads/2019/10/TAG-2.jpg
END:VEVENT
BEGIN:VEVENT
DTSTART;TZID=America/New_York:20200728T190000
DTEND;TZID=America/New_York:20200728T200000
DTSTAMP:20260421T034929
CREATED:20200524T200015Z
LAST-MODIFIED:20200728T153854Z
UID:3151-1595962800-1595966400@lewisborolibrary.org
SUMMARY:(Live AND Virtual) Summer Book Bites
DESCRIPTION:Live AND via Zoom. For High School Ages. \nWe will meet (weather permitting) on the front lawn of the Library with assigned spots six feet apart. But we also have the option to tune in via Zoom for those who can’t make it to the Library. \nNo matter how you participate\, we ask that you register below.  If the weather is bad\, we’ll all meet via Zoom\, so everyone will get a Zoom link just in case. \nIf you have questions\, please email doloreslewisboro@yahoo.com. \nBook is available at the Library to pick up\, as an eBook on Overdrive or Libby and as an audiobook on hoopla. \nBook to be discussed July 28 is Ballad of the Songbirds and Snakes by Suzanne Collins. (The books were slow to arrive\, so we’re giving everyone an extra week.)
URL:https://lewisborolibrary.org/event/virtual-summer-book-bites/
CATEGORIES:Cancelled,Teen
ATTACH;FMTTYPE=image/jpeg:https://lewisborolibrary.org/wp-content/uploads/2020/05/200821-Summer-Book-Bites.jpg
END:VEVENT
BEGIN:VEVENT
DTSTART;TZID=America/New_York:20200723T163000
DTEND;TZID=America/New_York:20200723T173000
DTSTAMP:20260421T034929
CREATED:20200626T174429Z
LAST-MODIFIED:20200723T144015Z
UID:3590-1595521800-1595525400@lewisborolibrary.org
SUMMARY:(Live AND Virtual) Summer Slump Book Club: Gr. 2 & 3
DESCRIPTION:Meets Every Two Weeks Live AND Via Zoom. For Children Entering Grades 2 & 3. \nWhile summer vacation is a welcome and much-needed break\, sometimes kids can run the risk of falling into the Summer Slump; forgetting some of the information they learned in school the previous year. Well\, have no fear! The Lewisboro Library’s here to keep your kids’ brains from turning into complete mush! You may order your books from the Library or access digitally. \nWe will meet (weather permitting) on the front lawn of the Library with assigned spots six feet apart. But we also have the option to tune in via Zoom for those who can’t make it to the Library. No matter how you participate\, we ask that you register below.  If the weather is bad\, we’ll all meet via Zoom\, so everyone will get a Zoom link just in case. \nIf you have questions\, please email Miss Anna at amoser@wlsmail.org. \nThe book selection for July 23 is Zita the Spacegirl\, by Ben Hatke.
URL:https://lewisborolibrary.org/event/virtual-summer-slump-book-club-grades-2-3-2/
CATEGORIES:Cancelled,Child
ATTACH;FMTTYPE=image/jpeg:https://lewisborolibrary.org/wp-content/uploads/2020/05/200709-200820-Summer-Slide-Book-Clubs-square.jpeg
END:VEVENT
BEGIN:VEVENT
DTSTART;TZID=America/New_York:20200206T101500
DTEND;TZID=America/New_York:20200206T110000
DTSTAMP:20260421T034929
CREATED:20200116T033349Z
LAST-MODIFIED:20200326T215138Z
UID:1242-1580984100-1580986800@lewisborolibrary.org
SUMMARY:Fiesta Storytime
DESCRIPTION:Newborn – Age 5.\nInternationally acclaimed actress\, singer\, storyteller and puppeteer Flor Bromley teaches Spanish through music\, movement\, puppets and theater-based games.
URL:https://lewisborolibrary.org/event/fiesta-storytime-2/2020-02-06/
CATEGORIES:Cancelled,Child
ATTACH;FMTTYPE=image/png:https://lewisborolibrary.org/wp-content/uploads/2019/10/191205-Fiesta-with-Flor-cropped.png
END:VEVENT
END:VCALENDAR