BEGIN:VCALENDAR
VERSION:2.0
PRODID:-//Lewisboro Library - ECPv6.15.20//NONSGML v1.0//EN
CALSCALE:GREGORIAN
METHOD:PUBLISH
X-ORIGINAL-URL:https://lewisborolibrary.org
X-WR-CALDESC:Events for Lewisboro Library
REFRESH-INTERVAL;VALUE=DURATION:PT1H
X-Robots-Tag:noindex
X-PUBLISHED-TTL:PT1H
BEGIN:VTIMEZONE
TZID:America/New_York
BEGIN:DAYLIGHT
TZOFFSETFROM:-0500
TZOFFSETTO:-0400
TZNAME:EDT
DTSTART:20220313T070000
END:DAYLIGHT
BEGIN:STANDARD
TZOFFSETFROM:-0400
TZOFFSETTO:-0500
TZNAME:EST
DTSTART:20221106T060000
END:STANDARD
BEGIN:DAYLIGHT
TZOFFSETFROM:-0500
TZOFFSETTO:-0400
TZNAME:EDT
DTSTART:20230312T070000
END:DAYLIGHT
BEGIN:STANDARD
TZOFFSETFROM:-0400
TZOFFSETTO:-0500
TZNAME:EST
DTSTART:20231105T060000
END:STANDARD
BEGIN:DAYLIGHT
TZOFFSETFROM:-0500
TZOFFSETTO:-0400
TZNAME:EDT
DTSTART:20240310T070000
END:DAYLIGHT
BEGIN:STANDARD
TZOFFSETFROM:-0400
TZOFFSETTO:-0500
TZNAME:EST
DTSTART:20241103T060000
END:STANDARD
END:VTIMEZONE
BEGIN:VEVENT
DTSTART;TZID=America/New_York:20230601T133000
DTEND;TZID=America/New_York:20230601T143000
DTSTAMP:20260420T112046
CREATED:20230518T213930Z
LAST-MODIFIED:20230601T163343Z
UID:20312-1685626200-1685629800@lewisborolibrary.org
SUMMARY:Outdoor Family Storytime
DESCRIPTION:All ages. \nJoin Miss Marie outdoors on the lawn\, weather permitting\, for stories\, music and more. \nPlease register all family members below\, so we keep the group to 20 participants.
URL:https://lewisborolibrary.org/event/outdoor-family-storytime-84/
CATEGORIES:Cancelled,Child
ATTACH;FMTTYPE=image/jpeg:https://lewisborolibrary.org/wp-content/uploads/2022/04/220503-Outdoor-Family-Storytime-compressed.jpg
END:VEVENT
BEGIN:VEVENT
DTSTART;TZID=America/New_York:20230607T160000
DTEND;TZID=America/New_York:20230607T160000
DTSTAMP:20260420T112046
CREATED:20230228T220718Z
LAST-MODIFIED:20230420T145159Z
UID:19000-1686153600-1686153600@lewisborolibrary.org
SUMMARY:Girls Who Code
DESCRIPTION:For Students in Grades 3 through 8. \nGirls Who Code is a non-profit organization dedicated to closing the gender gap in technology. The Club is a FREE after-school computer science program\, facilitated by Children’s Librarian\, Marie Nania. \nIn 2023\, the Club will meet MONTHLY. \nStudents are welcome to bring their own laptops or Chromebooks\, if preferred. \nSpace is limited\, please register below.
URL:https://lewisborolibrary.org/event/girls-who-code-23/
CATEGORIES:Cancelled,Child
ATTACH;FMTTYPE=image/jpeg:https://lewisborolibrary.org/wp-content/uploads/2023/02/gils-who-code-with-jjhs-instructor-compressed-1.jpg
END:VEVENT
BEGIN:VEVENT
DTSTART;TZID=America/New_York:20230616T153000
DTEND;TZID=America/New_York:20230616T163000
DTSTAMP:20260420T112046
CREATED:20230523T191142Z
LAST-MODIFIED:20230616T112428Z
UID:20413-1686929400-1686933000@lewisborolibrary.org
SUMMARY:Lego Hour
DESCRIPTION:Grades 1 – 5 \nCome build Legos with your friends – new projects each session. \nSpace is limited\, please register below.
URL:https://lewisborolibrary.org/event/lego-hour/
CATEGORIES:Cancelled,Child
ATTACH;FMTTYPE=image/jpeg:https://lewisborolibrary.org/wp-content/uploads/2023/05/230623-Legos-compressed.jpg
END:VEVENT
BEGIN:VEVENT
DTSTART;TZID=America/New_York:20230622T183000
DTEND;TZID=America/New_York:20230622T183000
DTSTAMP:20260420T112046
CREATED:20230404T163938Z
LAST-MODIFIED:20230622T202851Z
UID:19585-1687458600-1687458600@lewisborolibrary.org
SUMMARY:Adult Scrabble
DESCRIPTION:Are you a scrabble player? The Library has formed a Scrabble club for those who want to meet at the Library and play. \nThe group meets on the second and fourth Thursday evenings of each month at 6:30 pm. \nThis is NOT a drop-in program. We need to know the number of players each week to set up the room. \nIf you are interested in joining the group\, please send an email to lewisborolibrary@gmail.com.
URL:https://lewisborolibrary.org/event/adult-scrabble-2023-06-22/
CATEGORIES:Adult,Cancelled
ATTACH;FMTTYPE=image/jpeg:https://lewisborolibrary.org/wp-content/uploads/2023/04/230413-Scrabble-compressed1.jpg
END:VEVENT
BEGIN:VEVENT
DTSTART;TZID=America/New_York:20230628T103000
DTEND;TZID=America/New_York:20230628T110000
DTSTAMP:20260420T112046
CREATED:20230523T183422Z
LAST-MODIFIED:20230627T221848Z
UID:20405-1687948200-1687950000@lewisborolibrary.org
SUMMARY:MakerSpace Mornings: Mini Fairy Beach Gardens
DESCRIPTION:For toddlers – age 5. \nCome work on crafts\, technology and more in the MakerSpace Corner of the Children’s Room. This month we are making crafts that celebrate diversity and the start of summer. \nSpace is limited.  Please register your child below.
URL:https://lewisborolibrary.org/event/makerspace-mornings-mini-fairy-beach-gardens/
CATEGORIES:Cancelled,Child
ATTACH;FMTTYPE=image/jpeg:https://lewisborolibrary.org/wp-content/uploads/2023/06/230626-mspace-mini-fairy-beach-gardens-2-compressed.jpg
END:VEVENT
BEGIN:VEVENT
DTSTART;TZID=America/New_York:20230628T133000
DTEND;TZID=America/New_York:20230628T140000
DTSTAMP:20260420T112046
CREATED:20230523T183600Z
LAST-MODIFIED:20230627T221825Z
UID:20410-1687959000-1687960800@lewisborolibrary.org
SUMMARY:MakerSpace Afternoons: Mini Fairy Beach Gardens
DESCRIPTION:For toddlers – age 5. \nCome work on crafts\, technology and more in the MakerSpace Corner of the Children’s Room. This month we are making crafts that celebrate diversity and the start of summer. \nSpace is limited.  Please register your child below.
URL:https://lewisborolibrary.org/event/makerspace-afternoons-mini-fairy-beach-gardens/
CATEGORIES:Cancelled,Child
ATTACH;FMTTYPE=image/jpeg:https://lewisborolibrary.org/wp-content/uploads/2023/05/230626-mspace-mini-fairy-beach-gardens-compressed.jpg
END:VEVENT
END:VCALENDAR