BEGIN:VCALENDAR
VERSION:2.0
PRODID:-//Lewisboro Library - ECPv6.15.20//NONSGML v1.0//EN
CALSCALE:GREGORIAN
METHOD:PUBLISH
X-WR-CALNAME:Lewisboro Library
X-ORIGINAL-URL:https://lewisborolibrary.org
X-WR-CALDESC:Events for Lewisboro Library
REFRESH-INTERVAL;VALUE=DURATION:PT1H
X-Robots-Tag:noindex
X-PUBLISHED-TTL:PT1H
BEGIN:VTIMEZONE
TZID:America/New_York
BEGIN:DAYLIGHT
TZOFFSETFROM:-0500
TZOFFSETTO:-0400
TZNAME:EDT
DTSTART:20210314T070000
END:DAYLIGHT
BEGIN:STANDARD
TZOFFSETFROM:-0400
TZOFFSETTO:-0500
TZNAME:EST
DTSTART:20211107T060000
END:STANDARD
BEGIN:DAYLIGHT
TZOFFSETFROM:-0500
TZOFFSETTO:-0400
TZNAME:EDT
DTSTART:20220313T070000
END:DAYLIGHT
BEGIN:STANDARD
TZOFFSETFROM:-0400
TZOFFSETTO:-0500
TZNAME:EST
DTSTART:20221106T060000
END:STANDARD
BEGIN:DAYLIGHT
TZOFFSETFROM:-0500
TZOFFSETTO:-0400
TZNAME:EDT
DTSTART:20230312T070000
END:DAYLIGHT
BEGIN:STANDARD
TZOFFSETFROM:-0400
TZOFFSETTO:-0500
TZNAME:EST
DTSTART:20231105T060000
END:STANDARD
END:VTIMEZONE
BEGIN:VEVENT
DTSTART;TZID=America/New_York:20221201T130000
DTEND;TZID=America/New_York:20221201T133000
DTSTAMP:20260422T180316
CREATED:20221122T224832Z
LAST-MODIFIED:20221128T201455Z
UID:17391-1669899600-1669901400@lewisborolibrary.org
SUMMARY:Family Storytime
DESCRIPTION:All ages.  \nJoin Miss Marie in the Children’s Room for stories\, music and more. \nPlease register all family members below\, so we can contact you if we need to cancel.
URL:https://lewisborolibrary.org/event/family-storytime-4/
CATEGORIES:Cancelled,Child
ATTACH;FMTTYPE=image/jpeg:https://lewisborolibrary.org/wp-content/uploads/2022/04/220503-Outdoor-Family-Storytime-compressed.jpg
END:VEVENT
BEGIN:VEVENT
DTSTART;TZID=America/New_York:20221206T103000
DTEND;TZID=America/New_York:20221206T110000
DTSTAMP:20260422T180316
CREATED:20221122T224112Z
LAST-MODIFIED:20221206T122727Z
UID:17379-1670322600-1670324400@lewisborolibrary.org
SUMMARY:Family Storytime
DESCRIPTION:All ages.  \nJoin Miss Marie in the Children’s Room for stories\, music and more. \nPlease register all family members below\, so we can contact you if we need to cancel.
URL:https://lewisborolibrary.org/event/family-storytime-3/
CATEGORIES:Cancelled,Child
ATTACH;FMTTYPE=image/jpeg:https://lewisborolibrary.org/wp-content/uploads/2022/04/220503-Outdoor-Family-Storytime-compressed.jpg
END:VEVENT
BEGIN:VEVENT
DTSTART;TZID=America/New_York:20221207T103000
DTEND;TZID=America/New_York:20221207T110000
DTSTAMP:20260422T180316
CREATED:20221128T212537Z
LAST-MODIFIED:20221206T214513Z
UID:17454-1670409000-1670410800@lewisborolibrary.org
SUMMARY:MakerSpace Mornings: Holiday Crafts
DESCRIPTION:For toddlers – age 5. \nCome work on crafts\, technology and more in the MakerSpace Corner of the Children’s Room. This month we are making crafts that celebrate the holidays. Today’s craft is Toilet Paper Roll Snowmen. \n 
URL:https://lewisborolibrary.org/event/makerspace-mornings-holiday-crafts/
CATEGORIES:Cancelled,Child
ATTACH;FMTTYPE=image/jpeg:https://lewisborolibrary.org/wp-content/uploads/2022/11/221207-Makerspace-TP-snowmen-compressed.jpg
END:VEVENT
BEGIN:VEVENT
DTSTART;TZID=America/New_York:20221207T130000
DTEND;TZID=America/New_York:20221207T133000
DTSTAMP:20260422T180316
CREATED:20221128T212724Z
LAST-MODIFIED:20221206T214333Z
UID:17457-1670418000-1670419800@lewisborolibrary.org
SUMMARY:MakerSpace Afternoons: Holiday Crafts
DESCRIPTION:For toddlers – age 5. \nCome work on crafts\, technology and more in the MakerSpace Corner of the Children’s Room. This month we are making crafts that celebrate the holidays. Today’s craft is Toilet Paper Roll Snowmen. \n 
URL:https://lewisborolibrary.org/event/makerspace-afternoons-holiday-crafts/
CATEGORIES:Cancelled,Child
ATTACH;FMTTYPE=image/jpeg:https://lewisborolibrary.org/wp-content/uploads/2022/11/221207-Makerspace-TP-snowmen-compressed.jpg
END:VEVENT
BEGIN:VEVENT
DTSTART;TZID=America/New_York:20221207T160000
DTEND;TZID=America/New_York:20221207T173000
DTSTAMP:20260422T180316
CREATED:20221128T164754Z
LAST-MODIFIED:20221205T194636Z
UID:17442-1670428800-1670434200@lewisborolibrary.org
SUMMARY:Girls Who Code
DESCRIPTION:For Students in Grades 3 through 6. \nGirls Who Code is a non-profit organization dedicated to closing the gender gap in technology. The Club is a FREE after-school computer science program\, facilitated by Children’s Librarian\, Marie Nania. The Club meets weekly on Wednesday afternoons. \nStudents are welcome to bring their own laptops or Chromebooks\, if preferred. \nRegistration is required for each date you plan to attend. Please register below.
URL:https://lewisborolibrary.org/event/girls-who-code-16/
CATEGORIES:Cancelled,Child
ATTACH;FMTTYPE=image/jpeg:https://lewisborolibrary.org/wp-content/uploads/2021/10/211108-girls-who-code-kickoff-compressed.jpg
END:VEVENT
BEGIN:VEVENT
DTSTART;TZID=America/New_York:20221208T130000
DTEND;TZID=America/New_York:20221208T133000
DTSTAMP:20260422T180316
CREATED:20221122T224832Z
LAST-MODIFIED:20221207T204851Z
UID:17393-1670504400-1670506200@lewisborolibrary.org
SUMMARY:Family Storytime
DESCRIPTION:Cancelled for Today
URL:https://lewisborolibrary.org/event/family-storytime-4-2022-12-08/
CATEGORIES:Cancelled,Child
ATTACH;FMTTYPE=image/jpeg:https://lewisborolibrary.org/wp-content/uploads/2022/04/220503-Outdoor-Family-Storytime-compressed.jpg
END:VEVENT
BEGIN:VEVENT
DTSTART;TZID=America/New_York:20221222T130000
DTEND;TZID=America/New_York:20221222T133000
DTSTAMP:20260422T180316
CREATED:20221122T224832Z
LAST-MODIFIED:20221222T150235Z
UID:17395-1671714000-1671715800@lewisborolibrary.org
SUMMARY:Family Storytime
DESCRIPTION:All ages.  \nJoin Miss Marie in the Children’s Room for stories\, music and more. \n 
URL:https://lewisborolibrary.org/event/family-storytime-4-2022-12-22/
CATEGORIES:Cancelled,Child
ATTACH;FMTTYPE=image/jpeg:https://lewisborolibrary.org/wp-content/uploads/2022/04/220503-Outdoor-Family-Storytime-compressed.jpg
END:VEVENT
BEGIN:VEVENT
DTSTART;TZID=America/New_York:20221222T180000
DTEND;TZID=America/New_York:20221222T200000
DTSTAMP:20260422T180316
CREATED:20220621T214236Z
LAST-MODIFIED:20221209T163522Z
UID:17213-1671732000-1671739200@lewisborolibrary.org
SUMMARY:Evening Mahjong: Mixed Level
DESCRIPTION:Are you a mahjong player? This is a group of mixed level players that meets weekly Thursday evenings at 6:00 pm. \nThis is NOT a drop-in program. We need to know the number of players to set up the room. \nInterested players should send an email to lewisborolibrary@gmail.com\, with your name and level of experience.
URL:https://lewisborolibrary.org/event/evening-mahjong-mixed-level-2022-12-22/
CATEGORIES:Adult,Cancelled
ATTACH;FMTTYPE=image/jpeg:https://lewisborolibrary.org/wp-content/uploads/2022/05/mahjong-compressed.jpg
END:VEVENT
END:VCALENDAR