BEGIN:VCALENDAR
VERSION:2.0
PRODID:-//Lewisboro Library - ECPv6.15.20//NONSGML v1.0//EN
CALSCALE:GREGORIAN
METHOD:PUBLISH
X-WR-CALNAME:Lewisboro Library
X-ORIGINAL-URL:https://lewisborolibrary.org
X-WR-CALDESC:Events for Lewisboro Library
REFRESH-INTERVAL;VALUE=DURATION:PT1H
X-Robots-Tag:noindex
X-PUBLISHED-TTL:PT1H
BEGIN:VTIMEZONE
TZID:America/New_York
BEGIN:DAYLIGHT
TZOFFSETFROM:-0500
TZOFFSETTO:-0400
TZNAME:EDT
DTSTART:20210314T070000
END:DAYLIGHT
BEGIN:STANDARD
TZOFFSETFROM:-0400
TZOFFSETTO:-0500
TZNAME:EST
DTSTART:20211107T060000
END:STANDARD
BEGIN:DAYLIGHT
TZOFFSETFROM:-0500
TZOFFSETTO:-0400
TZNAME:EDT
DTSTART:20220313T070000
END:DAYLIGHT
BEGIN:STANDARD
TZOFFSETFROM:-0400
TZOFFSETTO:-0500
TZNAME:EST
DTSTART:20221106T060000
END:STANDARD
BEGIN:DAYLIGHT
TZOFFSETFROM:-0500
TZOFFSETTO:-0400
TZNAME:EDT
DTSTART:20230312T070000
END:DAYLIGHT
BEGIN:STANDARD
TZOFFSETFROM:-0400
TZOFFSETTO:-0500
TZNAME:EST
DTSTART:20231105T060000
END:STANDARD
END:VTIMEZONE
BEGIN:VEVENT
DTSTART;TZID=America/New_York:20220803T160000
DTEND;TZID=America/New_York:20220803T170000
DTSTAMP:20260424T231404
CREATED:20220624T025645Z
LAST-MODIFIED:20220803T143601Z
UID:15019-1659542400-1659546000@lewisborolibrary.org
SUMMARY:Girls Who Code
DESCRIPTION:Grades 3 to 6. Meets in the Conference Room. \nGirls Who Code is a non-profit organization dedicated to closing the gender gap in technology. This is a FREE computer science program\, facilitated by Children’s Librarian\, Marie Nania. We will be doing hands-on coding work on portable devices. \nThere are two sessions this summer\, each session meets for three weeks. It is preferred that you attend all three classes\, but not mandatory. \nPlease register below.
URL:https://lewisborolibrary.org/event/girls-who-code-4/
CATEGORIES:Cancelled,Child
ATTACH;FMTTYPE=image/jpeg:https://lewisborolibrary.org/wp-content/uploads/2021/10/211108-girls-who-code-kickoff-compressed.jpg
END:VEVENT
BEGIN:VEVENT
DTSTART;TZID=America/New_York:20220809T103000
DTEND;TZID=America/New_York:20220809T110000
DTSTAMP:20260424T231404
CREATED:20220627T022131Z
LAST-MODIFIED:20220809T135301Z
UID:15118-1660041000-1660042800@lewisborolibrary.org
SUMMARY:Outdoor Family Storytime is Cancelled
DESCRIPTION:Sorry\, Miss Marie is out\, so our Outdoor Storytime is cancelled for today\, August 9.
URL:https://lewisborolibrary.org/event/outdoor-family-storytime-59/
CATEGORIES:Cancelled,Child
ATTACH;FMTTYPE=image/jpeg:https://lewisborolibrary.org/wp-content/uploads/2022/04/220503-Outdoor-Family-Storytime-compressed.jpg
END:VEVENT
BEGIN:VEVENT
DTSTART;TZID=America/New_York:20220810T160000
DTEND;TZID=America/New_York:20220810T170000
DTSTAMP:20260424T231404
CREATED:20220624T025837Z
LAST-MODIFIED:20220810T023035Z
UID:15022-1660147200-1660150800@lewisborolibrary.org
SUMMARY:Girls Who Code
DESCRIPTION:Grades 3 to 6. Meets in the Conference Room. \nGirls Who Code is a non-profit organization dedicated to closing the gender gap in technology. This is a FREE computer science program\, facilitated by Children’s Librarian\, Marie Nania. We will be doing hands-on coding work on portable devices. \nThere are two sessions this summer\, each session meets for three weeks. It is preferred that you attend all three classes\, but not mandatory. \n 
URL:https://lewisborolibrary.org/event/girls-who-code-5/
CATEGORIES:Cancelled,Child
ATTACH;FMTTYPE=image/jpeg:https://lewisborolibrary.org/wp-content/uploads/2021/10/211108-girls-who-code-kickoff-compressed.jpg
END:VEVENT
BEGIN:VEVENT
DTSTART;TZID=America/New_York:20220811T130000
DTEND;TZID=America/New_York:20220811T133000
DTSTAMP:20260424T231404
CREATED:20220627T022336Z
LAST-MODIFIED:20220810T220312Z
UID:15121-1660222800-1660224600@lewisborolibrary.org
SUMMARY:Outdoor Family Storytime
DESCRIPTION:All ages. On the Library lawn\, weather permitting.  \nJoin Miss Marie on the lawn for stories with a lake or ocean theme\, to celebrate our “Oceans of Possibilities” Summer Reading theme. Bring a blanket to sit on. \nPlease register below – all family members attending so we keep the total at 20 people\, and so we can contact you if we need to cancel.
URL:https://lewisborolibrary.org/event/outdoor-family-storytime-60/
CATEGORIES:Cancelled,Child
ATTACH;FMTTYPE=image/jpeg:https://lewisborolibrary.org/wp-content/uploads/2022/04/220503-Outdoor-Family-Storytime-compressed.jpg
END:VEVENT
BEGIN:VEVENT
DTSTART;TZID=America/New_York:20220815T190000
DTEND;TZID=America/New_York:20220815T200000
DTSTAMP:20260424T231404
CREATED:20220614T220412Z
LAST-MODIFIED:20220813T013655Z
UID:14854-1660590000-1660593600@lewisborolibrary.org
SUMMARY:Teen Yoga
DESCRIPTION:For Teens in Middle & High School (includes those entering Middle School in the fall). \nStretch\, breathe and relax. Please bring your own yoga mat and water bottle. Arrive by 6:45 as class starts promptly at 7. \nSpace is limited.  Please register below.
URL:https://lewisborolibrary.org/event/teen-yoga-3/
CATEGORIES:Cancelled,Teen
ATTACH;FMTTYPE=image/jpeg:https://lewisborolibrary.org/wp-content/uploads/2020/06/2020-summer-Teen-Yoga-on-Lawn-compressed.jpg
END:VEVENT
BEGIN:VEVENT
DTSTART;TZID=America/New_York:20220826T190000
DTEND;TZID=America/New_York:20220826T210000
DTSTAMP:20260424T231404
CREATED:20220622T200225Z
LAST-MODIFIED:20220822T151154Z
UID:14957-1661540400-1661547600@lewisborolibrary.org
SUMMARY:Interactive Movie Night: Jaws
DESCRIPTION:For Adults and Teens age 13+  \n  \n“You’re Gonna Need a Bigger Boat.”\n\n\n\nThat is a classic line from the film Jaws – and you can shout it along with Chief Brody at our Interactive Movie Night!\n\nCome experience our first interactive movie screening with a showing of Jaws\, complete with a kit for each audience member that contains props\, snacks and instructions for interacting with the movie.\n\nWhat is an interactive movie? We’ll watch the movie as normal\, but when certain things happen or someone/someshark comes on screen\, the audience will react.\n \nRegistration is required (so we know how many kits to put together).  \nWe are also looking for teen or young adult volunteers to prompt the audience from the stage as the film is running. If you are interested in being a volunteer\, email lewisborolibrary@gmail.com.
URL:https://lewisborolibrary.org/event/interactive-movie-night-jaws/
CATEGORIES:Adult,Cancelled
ATTACH;FMTTYPE=image/jpeg:https://lewisborolibrary.org/wp-content/uploads/2022/06/220826-Interactive-Movie-Jaws-compressed.jpg
END:VEVENT
END:VCALENDAR