BEGIN:VCALENDAR
VERSION:2.0
PRODID:-//Lewisboro Library - ECPv6.15.20//NONSGML v1.0//EN
CALSCALE:GREGORIAN
METHOD:PUBLISH
X-WR-CALNAME:Lewisboro Library
X-ORIGINAL-URL:https://lewisborolibrary.org
X-WR-CALDESC:Events for Lewisboro Library
REFRESH-INTERVAL;VALUE=DURATION:PT1H
X-Robots-Tag:noindex
X-PUBLISHED-TTL:PT1H
BEGIN:VTIMEZONE
TZID:America/New_York
BEGIN:DAYLIGHT
TZOFFSETFROM:-0500
TZOFFSETTO:-0400
TZNAME:EDT
DTSTART:20210314T070000
END:DAYLIGHT
BEGIN:STANDARD
TZOFFSETFROM:-0400
TZOFFSETTO:-0500
TZNAME:EST
DTSTART:20211107T060000
END:STANDARD
BEGIN:DAYLIGHT
TZOFFSETFROM:-0500
TZOFFSETTO:-0400
TZNAME:EDT
DTSTART:20220313T070000
END:DAYLIGHT
BEGIN:STANDARD
TZOFFSETFROM:-0400
TZOFFSETTO:-0500
TZNAME:EST
DTSTART:20221106T060000
END:STANDARD
BEGIN:DAYLIGHT
TZOFFSETFROM:-0500
TZOFFSETTO:-0400
TZNAME:EDT
DTSTART:20230312T070000
END:DAYLIGHT
BEGIN:STANDARD
TZOFFSETFROM:-0400
TZOFFSETTO:-0500
TZNAME:EST
DTSTART:20231105T060000
END:STANDARD
END:VTIMEZONE
BEGIN:VEVENT
DTSTART;TZID=America/New_York:20220103T110000
DTEND;TZID=America/New_York:20220103T170000
DTSTAMP:20260425T123222
CREATED:20211215T215419Z
LAST-MODIFIED:20220112T173916Z
UID:12490-1641207600-1641229200@lewisborolibrary.org
SUMMARY:Small Group Storytime
DESCRIPTION:All ages. Meets in-person in the Children’s Room. \nMiss Marie misses seeing your faces in person\, so for the month of January she is going to try small group storytimes (2 – 4 children) by appointment! \nSessions are available on Mondays\, Wednesdays and Fridays from 11 am to 5 pm. \nAppointments are required. To schedule an appointment\, contact Marie at mnania@wlsmail.org  or (914) 875-9004.
URL:https://lewisborolibrary.org/event/small-group-storytime/2022-01-03/
CATEGORIES:Cancelled,Child
ATTACH;FMTTYPE=image/jpeg:https://lewisborolibrary.org/wp-content/uploads/2020/05/Miss-Marie-Family-Storytime-compressed.jpg
END:VEVENT
BEGIN:VEVENT
DTSTART;TZID=America/New_York:20220104T110000
DTEND;TZID=America/New_York:20220104T170000
DTSTAMP:20260425T123222
CREATED:20211216T174242Z
LAST-MODIFIED:20220112T173636Z
UID:12514-1641294000-1641315600@lewisborolibrary.org
SUMMARY:Small Group MakerSpace Workshops
DESCRIPTION:All ages. Meets in-person in the Children’s Room. \nCome work on crafts\, technology and more in the MakerSpace Corner of the Children’s Room. Miss Marie will be holding small group MakerSpace workshops by appointment. She will accept 2-4 children per workshop. \nSessions are available on Tuesday and Thursdays from 11 am to 5 pm. \nAppointments are required. To schedule an appointment\, contact Marie at mnania@wlsmail.org  or (914) 875-9004.
URL:https://lewisborolibrary.org/event/small-group-makerspace-workshops/2022-01-04/
CATEGORIES:Cancelled,Child
ATTACH;FMTTYPE=image/jpeg:https://lewisborolibrary.org/wp-content/uploads/2021/11/MakerSpace-2-compressed.jpg
END:VEVENT
BEGIN:VEVENT
DTSTART;TZID=America/New_York:20220107T130000
DTEND;TZID=America/New_York:20220107T143000
DTSTAMP:20260425T123222
CREATED:20211111T210023Z
LAST-MODIFIED:20220107T141452Z
UID:12410-1641560400-1641565800@lewisborolibrary.org
SUMMARY:Stitch Together
DESCRIPTION:This casual\, weekly gathering of those who knit/crochet and chat likes to meet outside when weather permits\, but will move indoors in the case of cold/rainy weather.  \nCatch up on people’s craft projects and what is going on in Town – and beyond. Bring a project and a chair if outside!  \n 
URL:https://lewisborolibrary.org/event/stitch-together-30-2022-01-07/
CATEGORIES:Adult,Cancelled
ATTACH;FMTTYPE=image/jpeg:https://lewisborolibrary.org/wp-content/uploads/2019/10/191121-Stitch-2gether.jpg
END:VEVENT
BEGIN:VEVENT
DTSTART;TZID=America/New_York:20220119T110000
DTEND;TZID=America/New_York:20220119T170000
DTSTAMP:20260425T123222
CREATED:20211215T220427Z
LAST-MODIFIED:20220112T173731Z
UID:12506-1642590000-1642611600@lewisborolibrary.org
SUMMARY:Small Group Storytime
DESCRIPTION:All ages. Meets in-person in the Children’s Room. \nMiss Marie misses seeing your faces in person\, so for the month of January she is going to try small group storytimes (2 – 4 children) by appointment! \nSessions are available on Mondays\, Wednesdays and Fridays from 11 am to 5 pm. \nAppointments are required. To schedule an appointment\, contact Marie at mnania@wlsmail.org  or (914) 875-9004.
URL:https://lewisborolibrary.org/event/small-group-storytime-2-2022-01-19/2022-01-19/
CATEGORIES:Cancelled,Child
ATTACH;FMTTYPE=image/jpeg:https://lewisborolibrary.org/wp-content/uploads/2020/05/Miss-Marie-Family-Storytime-compressed.jpg
END:VEVENT
BEGIN:VEVENT
DTSTART;TZID=America/New_York:20220120T110000
DTEND;TZID=America/New_York:20220120T170000
DTSTAMP:20260425T123222
CREATED:20211216T174748Z
LAST-MODIFIED:20220112T173824Z
UID:12522-1642676400-1642698000@lewisborolibrary.org
SUMMARY:Small Group MakerSpace Workshops
DESCRIPTION:All ages. Meets in-person in the Children’s Room. \nCome work on crafts\, technology and more in the MakerSpace Corner of the Children’s Room. Miss Marie will be holding small group MakerSpace workshops by appointment. She will accept 2-4 children per workshop. \nSessions are available on Tuesday and Thursday from 11 am to 5 pm. \nAppointments are required. To schedule an appointment\, contact Marie at mnania@wlsmail.org  or (914) 875-9004.
URL:https://lewisborolibrary.org/event/small-group-makerspace-workshops-2-2022-01-13-2022-01-20/2022-01-20/
CATEGORIES:Cancelled,Child
ATTACH;FMTTYPE=image/jpeg:https://lewisborolibrary.org/wp-content/uploads/2021/11/MakerSpace-2-compressed.jpg
END:VEVENT
BEGIN:VEVENT
DTSTART;TZID=America/New_York:20220121T110000
DTEND;TZID=America/New_York:20220121T170000
DTSTAMP:20260425T123222
CREATED:20211215T220630Z
LAST-MODIFIED:20220112T174041Z
UID:12511-1642762800-1642784400@lewisborolibrary.org
SUMMARY:Small Group Storytime
DESCRIPTION:All ages. Meets in-person in the Children’s Room. \nMiss Marie misses seeing your faces in person\, so for the month of January she is going to try small group storytimes (2 – 4 children) by appointment! \nSessions are available on Mondays\, Wednesdays and Fridays from 11 am to 5 pm. \nAppointments are required. To schedule an appointment\, contact Marie at mnania@wlsmail.org  or (914) 875-9004.
URL:https://lewisborolibrary.org/event/small-group-storytime-3-2022-01-21/2022-01-21/
CATEGORIES:Cancelled,Child
ATTACH;FMTTYPE=image/jpeg:https://lewisborolibrary.org/wp-content/uploads/2020/05/Miss-Marie-Family-Storytime-compressed.jpg
END:VEVENT
END:VCALENDAR