BEGIN:VCALENDAR
VERSION:2.0
PRODID:-//Lewisboro Library - ECPv6.15.20//NONSGML v1.0//EN
CALSCALE:GREGORIAN
METHOD:PUBLISH
X-WR-CALNAME:Lewisboro Library
X-ORIGINAL-URL:https://lewisborolibrary.org
X-WR-CALDESC:Events for Lewisboro Library
REFRESH-INTERVAL;VALUE=DURATION:PT1H
X-Robots-Tag:noindex
X-PUBLISHED-TTL:PT1H
BEGIN:VTIMEZONE
TZID:America/New_York
BEGIN:DAYLIGHT
TZOFFSETFROM:-0500
TZOFFSETTO:-0400
TZNAME:EDT
DTSTART:20200308T070000
END:DAYLIGHT
BEGIN:STANDARD
TZOFFSETFROM:-0400
TZOFFSETTO:-0500
TZNAME:EST
DTSTART:20201101T060000
END:STANDARD
BEGIN:DAYLIGHT
TZOFFSETFROM:-0500
TZOFFSETTO:-0400
TZNAME:EDT
DTSTART:20210314T070000
END:DAYLIGHT
BEGIN:STANDARD
TZOFFSETFROM:-0400
TZOFFSETTO:-0500
TZNAME:EST
DTSTART:20211107T060000
END:STANDARD
BEGIN:DAYLIGHT
TZOFFSETFROM:-0500
TZOFFSETTO:-0400
TZNAME:EDT
DTSTART:20220313T070000
END:DAYLIGHT
BEGIN:STANDARD
TZOFFSETFROM:-0400
TZOFFSETTO:-0500
TZNAME:EST
DTSTART:20221106T060000
END:STANDARD
END:VTIMEZONE
BEGIN:VEVENT
DTSTART;TZID=America/New_York:20210602T183000
DTEND;TZID=America/New_York:20210602T193000
DTSTAMP:20260424T112516
CREATED:20210420T160919Z
LAST-MODIFIED:20210602T144308Z
UID:8732-1622658600-1622662200@lewisborolibrary.org
SUMMARY:Teen Yoga on the Lawn - Cancelled
DESCRIPTION:For Teens in Middle & High School. \nThis class has been cancelled due to low registration. Please contact the Library is you think your teen would be interested in a summer session.
URL:https://lewisborolibrary.org/event/teen-yoga-on-the-lawn-4/
CATEGORIES:Cancelled,Teen
ATTACH;FMTTYPE=image/jpeg:https://lewisborolibrary.org/wp-content/uploads/2021/04/210519-Yoga-on-the-Lawn-socially-distanced-compressed.jpg
END:VEVENT
BEGIN:VEVENT
DTSTART;TZID=America/New_York:20210629T163000
DTEND;TZID=America/New_York:20210629T170000
DTSTAMP:20260424T112516
CREATED:20210607T210601Z
LAST-MODIFIED:20210629T190041Z
UID:9391-1624984200-1624986000@lewisborolibrary.org
SUMMARY:(Virtual) Boredom Buster: Pop-Up Animal Cards
DESCRIPTION:Via Facebook Live!  All Ages and Their Families. \nWe’re celebrating our Summer Reading “Tails & Tales” theme with a special animal craft. \nMake sure you have the materials listed below and follow along with Miss Marie. \nMaterials List: \n6 Pieces of Card Stock Paper or Construction Paper\, Assorted Colors \nScissors \nGlue \nPencils\, Markers or Crayons
URL:https://lewisborolibrary.org/event/virtual-boredom-buster-pop-up-animal-cards/
CATEGORIES:Cancelled,Child
ATTACH;FMTTYPE=image/jpeg:https://lewisborolibrary.org/wp-content/uploads/2021/06/210629-Pop-Up-Animal-Cards-compressed.jpg
END:VEVENT
BEGIN:VEVENT
DTSTART;TZID=America/New_York:20210630T103000
DTEND;TZID=America/New_York:20210630T110000
DTSTAMP:20260424T112516
CREATED:20210607T211029Z
LAST-MODIFIED:20210629T195843Z
UID:9393-1625049000-1625050800@lewisborolibrary.org
SUMMARY:Outdoor Family Storytime!
DESCRIPTION:All ages. \nJoin Miss Marie on the lawn for stories\, puppets and bubbles. Bring a blanket to sit on. \nMasks are required.  Please register family members below so we can contact you if we need to cancel. \nOn the Library lawn\, weather permitting. Otherwise it will be held via Facebook Live.
URL:https://lewisborolibrary.org/event/outdoor-family-storytime-5/
CATEGORIES:Cancelled,Child
ATTACH;FMTTYPE=image/jpeg:https://lewisborolibrary.org/wp-content/uploads/2020/05/Outdoor-Storytime-marie-and-kids-2-resize.jpg
END:VEVENT
END:VCALENDAR