BEGIN:VCALENDAR
VERSION:2.0
PRODID:-//Lewisboro Library - ECPv6.15.20//NONSGML v1.0//EN
CALSCALE:GREGORIAN
METHOD:PUBLISH
X-WR-CALNAME:Lewisboro Library
X-ORIGINAL-URL:https://lewisborolibrary.org
X-WR-CALDESC:Events for Lewisboro Library
REFRESH-INTERVAL;VALUE=DURATION:PT1H
X-Robots-Tag:noindex
X-PUBLISHED-TTL:PT1H
BEGIN:VTIMEZONE
TZID:America/New_York
BEGIN:DAYLIGHT
TZOFFSETFROM:-0500
TZOFFSETTO:-0400
TZNAME:EDT
DTSTART:20250309T070000
END:DAYLIGHT
BEGIN:STANDARD
TZOFFSETFROM:-0400
TZOFFSETTO:-0500
TZNAME:EST
DTSTART:20251102T060000
END:STANDARD
BEGIN:DAYLIGHT
TZOFFSETFROM:-0500
TZOFFSETTO:-0400
TZNAME:EDT
DTSTART:20260308T070000
END:DAYLIGHT
BEGIN:STANDARD
TZOFFSETFROM:-0400
TZOFFSETTO:-0500
TZNAME:EST
DTSTART:20261101T060000
END:STANDARD
BEGIN:DAYLIGHT
TZOFFSETFROM:-0500
TZOFFSETTO:-0400
TZNAME:EDT
DTSTART:20270314T070000
END:DAYLIGHT
BEGIN:STANDARD
TZOFFSETFROM:-0400
TZOFFSETTO:-0500
TZNAME:EST
DTSTART:20271107T060000
END:STANDARD
END:VTIMEZONE
BEGIN:VEVENT
DTSTART;TZID=America/New_York:20260820T140000
DTEND;TZID=America/New_York:20260820T160000
DTSTAMP:20260425T061754
CREATED:20251219T003925Z
LAST-MODIFIED:20260306T192155Z
UID:37206-1787234400-1787241600@lewisborolibrary.org
SUMMARY:Afternoon Writers Group
DESCRIPTION:Are you an aspiring writer who would like to get feedback on your work?  \nThe Afternoon Writers Group meets every Thursday\, from 2 to 4 pm\, to discuss their work and share feedback with others.There is no formal instruction\, just a gathering of writers sharing their work. \nIf you are interested in joining\, please email the Library at info@lewisborolibrary.org.
URL:https://lewisborolibrary.org/event/afternoon-writers-group/2026-08-20/
CATEGORIES:Adult
ATTACH;FMTTYPE=image/jpeg:https://lewisborolibrary.org/wp-content/uploads/2023/08/231004-Life-Sketches-compressed.jpg
END:VEVENT
BEGIN:VEVENT
DTSTART;TZID=America/New_York:20260820T180000
DTEND;TZID=America/New_York:20260820T203000
DTSTAMP:20260425T061754
CREATED:20251219T010828Z
LAST-MODIFIED:20251219T010828Z
UID:37357-1787248800-1787257800@lewisborolibrary.org
SUMMARY:Evening Mahjong: Mixed Level
DESCRIPTION:Are you a mahjong player? This is a group of mixed level players that meets weekly Thursday evenings at 6:00 pm. \nThis is NOT a drop-in program. We need to know the number of players to set up the room. \nInterested players should send an email to info@lewisborolibrary.org\, with your name and level of experience.
URL:https://lewisborolibrary.org/event/evening-mahjong-mixed-level-3/2026-08-20/
CATEGORIES:Adult
ATTACH;FMTTYPE=image/jpeg:https://lewisborolibrary.org/wp-content/uploads/2022/05/mahjong-compressed.jpg
END:VEVENT
END:VCALENDAR