BEGIN:VCALENDAR
VERSION:2.0
PRODID:-//Lewisboro Library - ECPv6.15.20//NONSGML v1.0//EN
CALSCALE:GREGORIAN
METHOD:PUBLISH
X-WR-CALNAME:Lewisboro Library
X-ORIGINAL-URL:https://lewisborolibrary.org
X-WR-CALDESC:Events for Lewisboro Library
REFRESH-INTERVAL;VALUE=DURATION:PT1H
X-Robots-Tag:noindex
X-PUBLISHED-TTL:PT1H
BEGIN:VTIMEZONE
TZID:America/New_York
BEGIN:DAYLIGHT
TZOFFSETFROM:-0500
TZOFFSETTO:-0400
TZNAME:EDT
DTSTART:20250309T070000
END:DAYLIGHT
BEGIN:STANDARD
TZOFFSETFROM:-0400
TZOFFSETTO:-0500
TZNAME:EST
DTSTART:20251102T060000
END:STANDARD
BEGIN:DAYLIGHT
TZOFFSETFROM:-0500
TZOFFSETTO:-0400
TZNAME:EDT
DTSTART:20260308T070000
END:DAYLIGHT
BEGIN:STANDARD
TZOFFSETFROM:-0400
TZOFFSETTO:-0500
TZNAME:EST
DTSTART:20261101T060000
END:STANDARD
BEGIN:DAYLIGHT
TZOFFSETFROM:-0500
TZOFFSETTO:-0400
TZNAME:EDT
DTSTART:20270314T070000
END:DAYLIGHT
BEGIN:STANDARD
TZOFFSETFROM:-0400
TZOFFSETTO:-0500
TZNAME:EST
DTSTART:20271107T060000
END:STANDARD
END:VTIMEZONE
BEGIN:VEVENT
DTSTART;TZID=America/New_York:20260605T130000
DTEND;TZID=America/New_York:20260605T150000
DTSTAMP:20260425T092526
CREATED:20251219T004634Z
LAST-MODIFIED:20251219T010123Z
UID:37247-1780664400-1780671600@lewisborolibrary.org
SUMMARY:Stitch Together
DESCRIPTION:This casual\, weekly gathering of those who knit/crochet and chat meets in the conference room during the winter\, and outside on the Library patio when weather permits.\n \nCatch up on people’s craft projects and what is going on in Town – and beyond. Bring a project\, and a chair when outside! \nIf interested in being on the contact list\, email info@lewisborolibrary.org.
URL:https://lewisborolibrary.org/event/stitch-together-32/2026-06-05/
CATEGORIES:Adult
ATTACH;FMTTYPE=image/jpeg:https://lewisborolibrary.org/wp-content/uploads/2021/01/210514-Stitch2Gether-compressed.jpg
END:VEVENT
BEGIN:VEVENT
DTSTART;TZID=America/New_York:20260605T180000
DTEND;TZID=America/New_York:20260605T210000
DTSTAMP:20260425T092526
CREATED:20260422T221039Z
LAST-MODIFIED:20260423T184126Z
UID:40396-1780682400-1780693200@lewisborolibrary.org
SUMMARY:Mahjong Madness Tournament!
DESCRIPTION:Join us for the Lewisboro Library’s inaugural Mahjong Tournament to benefit the Library! \nEnjoy the play\, prizes\, party-like atmosphere – and yummy refreshments. \nBring your 2026 Mahjong card\, and a Mahjong set if you have one. Arrival time is 6 pm for check-in\, the games begin at 6:30. \nSpace is limited\, players must register in advance \nReserved seats are $45 per player. The best way to reserve seating is to gather four players\, and then have one person purchase seats for the group. (This guarantees you being seated together\, and helps us in setting up the rooms before everyone arrives). Of course\, smaller groups and individual players are also welcome\, and we’ll pair you with other players. \nReserve your seats HERE\, or in person at the Library. \nA special thank you to Donna Pirro\, for organizing this fundraiser for the Library!
URL:https://lewisborolibrary.org/event/mahjong-madness-tournament/
CATEGORIES:Adult
ATTACH;FMTTYPE=image/jpeg:https://lewisborolibrary.org/wp-content/uploads/2026/04/260605-Mahjong-Madness-Event-Header.jpg
END:VEVENT
END:VCALENDAR