BEGIN:VCALENDAR
VERSION:2.0
PRODID:-//Lewisboro Library - ECPv6.15.20//NONSGML v1.0//EN
CALSCALE:GREGORIAN
METHOD:PUBLISH
X-WR-CALNAME:Lewisboro Library
X-ORIGINAL-URL:https://lewisborolibrary.org
X-WR-CALDESC:Events for Lewisboro Library
REFRESH-INTERVAL;VALUE=DURATION:PT1H
X-Robots-Tag:noindex
X-PUBLISHED-TTL:PT1H
BEGIN:VTIMEZONE
TZID:America/New_York
BEGIN:DAYLIGHT
TZOFFSETFROM:-0500
TZOFFSETTO:-0400
TZNAME:EDT
DTSTART:20250309T070000
END:DAYLIGHT
BEGIN:STANDARD
TZOFFSETFROM:-0400
TZOFFSETTO:-0500
TZNAME:EST
DTSTART:20251102T060000
END:STANDARD
BEGIN:DAYLIGHT
TZOFFSETFROM:-0500
TZOFFSETTO:-0400
TZNAME:EDT
DTSTART:20260308T070000
END:DAYLIGHT
BEGIN:STANDARD
TZOFFSETFROM:-0400
TZOFFSETTO:-0500
TZNAME:EST
DTSTART:20261101T060000
END:STANDARD
BEGIN:DAYLIGHT
TZOFFSETFROM:-0500
TZOFFSETTO:-0400
TZNAME:EDT
DTSTART:20270314T070000
END:DAYLIGHT
BEGIN:STANDARD
TZOFFSETFROM:-0400
TZOFFSETTO:-0500
TZNAME:EST
DTSTART:20271107T060000
END:STANDARD
END:VTIMEZONE
BEGIN:VEVENT
DTSTART;TZID=America/New_York:20260520T193000
DTEND;TZID=America/New_York:20260520T203000
DTSTAMP:20260424T194539
CREATED:20260419T215703Z
LAST-MODIFIED:20260419T215703Z
UID:40334-1779305400-1779309000@lewisborolibrary.org
SUMMARY:Lewisboro Library Book Group: "Harvest"
DESCRIPTION:The Lewisboro Library Book Group now meets at the Library on the third Wednesday of each month at 7:30 p.m. \nThis month the group will be discussing Harvest\, by Jim Crace. This 2013 historical novel set in a remote English village\, explores the disruption of a traditional way of life by outsiders representing economic progress\, enclosure\, and change \nBooks are available through the Westchester Library System and copies are often ordered in advance for members to pick up at the Library. New members are always welcome in this adult\, co-ed book group. For more information contact Myrna or Steve Shomstein at (914) 533-2550.
URL:https://lewisborolibrary.org/event/lewisboro-library-book-group-harvest/
CATEGORIES:Adult
ATTACH;FMTTYPE=image/jpeg:https://lewisborolibrary.org/wp-content/uploads/2026/04/260520-LL-Book-Group-Harvest.jpeg
END:VEVENT
END:VCALENDAR