BEGIN:VCALENDAR
VERSION:2.0
PRODID:-//Lewisboro Library - ECPv6.15.20//NONSGML v1.0//EN
CALSCALE:GREGORIAN
METHOD:PUBLISH
X-ORIGINAL-URL:https://lewisborolibrary.org
X-WR-CALDESC:Events for Lewisboro Library
REFRESH-INTERVAL;VALUE=DURATION:PT1H
X-Robots-Tag:noindex
X-PUBLISHED-TTL:PT1H
BEGIN:VTIMEZONE
TZID:America/New_York
BEGIN:DAYLIGHT
TZOFFSETFROM:-0500
TZOFFSETTO:-0400
TZNAME:EDT
DTSTART:20250309T070000
END:DAYLIGHT
BEGIN:STANDARD
TZOFFSETFROM:-0400
TZOFFSETTO:-0500
TZNAME:EST
DTSTART:20251102T060000
END:STANDARD
BEGIN:DAYLIGHT
TZOFFSETFROM:-0500
TZOFFSETTO:-0400
TZNAME:EDT
DTSTART:20260308T070000
END:DAYLIGHT
BEGIN:STANDARD
TZOFFSETFROM:-0400
TZOFFSETTO:-0500
TZNAME:EST
DTSTART:20261101T060000
END:STANDARD
BEGIN:DAYLIGHT
TZOFFSETFROM:-0500
TZOFFSETTO:-0400
TZNAME:EDT
DTSTART:20270314T070000
END:DAYLIGHT
BEGIN:STANDARD
TZOFFSETFROM:-0400
TZOFFSETTO:-0500
TZNAME:EST
DTSTART:20271107T060000
END:STANDARD
END:VTIMEZONE
BEGIN:VEVENT
DTSTART;TZID=America/New_York:20260519T110000
DTEND;TZID=America/New_York:20260519T120000
DTSTAMP:20260424T120217
CREATED:20260319T211640Z
LAST-MODIFIED:20260319T212147Z
UID:39754-1779188400-1779192000@lewisborolibrary.org
SUMMARY:"Write to Heal" for Caretakers
DESCRIPTION:This monthly\, one hour prompt-led workshop is for those who are caring for and supporting a loved one alongside an illness\, diagnosis or aging. This is a time just for you\, to be in community and connection with others who understand. \nThe workshop is led by Grief Coach and Educator\, Barri Leiner Grant\, Founder of The Memory Circle (www.thememorycircle.com) for grief and loss. Barri supports grievers in her work and spent ten years as a caregiver for her father Neil who lived with Alzheimer’s. \nThis prompt and process workshop allows you to be your own story witness\, and helps to process and tend to your experience through writing and discussion. No writing experience necessary. Just bring yourself and your curiosity. \nPlease register below.
URL:https://lewisborolibrary.org/event/write-to-heal-for-caretakers-2026-05-19/
CATEGORIES:Adult
ATTACH;FMTTYPE=image/jpeg:https://lewisborolibrary.org/wp-content/uploads/2026/03/260421-Write-to-Heal.jpg
END:VEVENT
BEGIN:VEVENT
DTSTART;TZID=America/New_York:20260519T130000
DTEND;TZID=America/New_York:20260519T150000
DTSTAMP:20260424T120217
CREATED:20220516T215316Z
LAST-MODIFIED:20260225T163447Z
UID:33228-1779195600-1779202800@lewisborolibrary.org
SUMMARY:Intermediate Mahjong
DESCRIPTION:Are you a mahjong player? A group of experienced players meets weekly Tuesdays at 1 pm at the Library. \nTheir roster is currently full\, but the number can vary with the season. Interested players should send an email to info@lewisborolibrary.org to be placed on the wait list. \nThere is always room in the Thursday evening session\, which meets at 6 pm. That is a mixed-level gathering\, with many newer players who have taken “Mahjong for Beginners” at the Library. If interested in joining the Thursday session\, or the next “Mahjong for Beginners”\, please contact the Library at the email above.
URL:https://lewisborolibrary.org/event/intermediate-mahjong-2026-03-03/2026-05-19/
CATEGORIES:Adult
ATTACH;FMTTYPE=image/jpeg:https://lewisborolibrary.org/wp-content/uploads/2022/05/mahjong-compressed.jpg
END:VEVENT
BEGIN:VEVENT
DTSTART;TZID=America/New_York:20260519T183000
DTEND;TZID=America/New_York:20260519T200000
DTSTAMP:20260424T120217
CREATED:20260415T161608Z
LAST-MODIFIED:20260423T204104Z
UID:40243-1779215400-1779220800@lewisborolibrary.org
SUMMARY:Mahjong for Beginners - Session is full
DESCRIPTION:Have you always wanted to learn Mahjong? This 4-week session\, led by Robin Bader\, will meet on Tuesday evenings from May 5 – May 26. It will give you the basic skills to start playing. \nThis is NOT a drop-in program\, registration is required. There are a limited number of spaces available\, since we already had names on our waitlist from the last session.\nTo register for the whole session\, please register for the first class on May 5. You MUST be able to attend the first two classes! \nYou will need a 2026 Mahjong card\, which can be ordered at https://www.nationalmahjonggleague.org/store.aspx#
URL:https://lewisborolibrary.org/event/mahjong-for-beginners-14-2026-05-19/
CATEGORIES:Adult
ATTACH;FMTTYPE=image/jpeg:https://lewisborolibrary.org/wp-content/uploads/2022/05/mahjong-compressed.jpg
END:VEVENT
END:VCALENDAR