BEGIN:VCALENDAR
VERSION:2.0
PRODID:-//Lewisboro Library - ECPv6.15.20//NONSGML v1.0//EN
CALSCALE:GREGORIAN
METHOD:PUBLISH
X-ORIGINAL-URL:https://lewisborolibrary.org
X-WR-CALDESC:Events for Lewisboro Library
REFRESH-INTERVAL;VALUE=DURATION:PT1H
X-Robots-Tag:noindex
X-PUBLISHED-TTL:PT1H
BEGIN:VTIMEZONE
TZID:America/New_York
BEGIN:DAYLIGHT
TZOFFSETFROM:-0500
TZOFFSETTO:-0400
TZNAME:EDT
DTSTART:20250309T070000
END:DAYLIGHT
BEGIN:STANDARD
TZOFFSETFROM:-0400
TZOFFSETTO:-0500
TZNAME:EST
DTSTART:20251102T060000
END:STANDARD
BEGIN:DAYLIGHT
TZOFFSETFROM:-0500
TZOFFSETTO:-0400
TZNAME:EDT
DTSTART:20260308T070000
END:DAYLIGHT
BEGIN:STANDARD
TZOFFSETFROM:-0400
TZOFFSETTO:-0500
TZNAME:EST
DTSTART:20261101T060000
END:STANDARD
BEGIN:DAYLIGHT
TZOFFSETFROM:-0500
TZOFFSETTO:-0400
TZNAME:EDT
DTSTART:20270314T070000
END:DAYLIGHT
BEGIN:STANDARD
TZOFFSETFROM:-0400
TZOFFSETTO:-0500
TZNAME:EST
DTSTART:20271107T060000
END:STANDARD
END:VTIMEZONE
BEGIN:VEVENT
DTSTART;TZID=America/New_York:20260312T140000
DTEND;TZID=America/New_York:20260312T160000
DTSTAMP:20260424T171921
CREATED:20251219T003925Z
LAST-MODIFIED:20260306T192136Z
UID:37182-1773324000-1773331200@lewisborolibrary.org
SUMMARY:Afternoon Writers Group
DESCRIPTION:Are you an aspiring writer who would like to get feedback on your work?  \nThe Afternoon Writers Group meets every Thursday\, from 2 to 4 pm\, to discuss their work and share feedback with others.There is no formal instruction\, just a gathering of writers sharing their work. \nIf you are interested in joining\, please email the Library at info@lewisborolibrary.org.
URL:https://lewisborolibrary.org/event/afternoon-writers-group/2026-03-12/
CATEGORIES:Adult
ATTACH;FMTTYPE=image/jpeg:https://lewisborolibrary.org/wp-content/uploads/2023/08/231004-Life-Sketches-compressed.jpg
END:VEVENT
BEGIN:VEVENT
DTSTART;TZID=America/New_York:20260312T160000
DTEND;TZID=America/New_York:20260312T170000
DTSTAMP:20260424T171921
CREATED:20260223T004759Z
LAST-MODIFIED:20260223T004759Z
UID:39127-1773331200-1773334800@lewisborolibrary.org
SUMMARY:How YOUR Pet Can Become a Therapy Dog
DESCRIPTION:For All Ages – Families\, Teens and Adults \nDo you want to learn how to train your family pet to be a Therapy Dog? \nCome meet Renee and Stanley\, a Pet Therapy team from ROAR (Ridgefield Operation Animal Rescue). Renee will discuss how to get your dog licensed as a therapy dog and the training involved. \nPet Therapy teams go into schools\, libraries and senior facilities to let people interact with the animals. A team comes to our Library on the first Thursday of the month at 4 pm for “Tales for Tails\,” a reading enrichment program for children. \nPlease register all family members who will be attending.
URL:https://lewisborolibrary.org/event/how-your-pet-can-become-a-therapy-dog/
CATEGORIES:Adult,Child,Teen
ATTACH;FMTTYPE=image/jpeg:https://lewisborolibrary.org/wp-content/uploads/2026/02/260312-How-to-Train-Therapy-Dog.jpg
END:VEVENT
BEGIN:VEVENT
DTSTART;TZID=America/New_York:20260312T180000
DTEND;TZID=America/New_York:20260312T203000
DTSTAMP:20260424T171921
CREATED:20251219T010828Z
LAST-MODIFIED:20251219T010828Z
UID:37333-1773338400-1773347400@lewisborolibrary.org
SUMMARY:Evening Mahjong: Mixed Level
DESCRIPTION:Are you a mahjong player? This is a group of mixed level players that meets weekly Thursday evenings at 6:00 pm. \nThis is NOT a drop-in program. We need to know the number of players to set up the room. \nInterested players should send an email to info@lewisborolibrary.org\, with your name and level of experience.
URL:https://lewisborolibrary.org/event/evening-mahjong-mixed-level-3/2026-03-12/
CATEGORIES:Adult
ATTACH;FMTTYPE=image/jpeg:https://lewisborolibrary.org/wp-content/uploads/2022/05/mahjong-compressed.jpg
END:VEVENT
END:VCALENDAR