BEGIN:VCALENDAR
VERSION:2.0
PRODID:-//Lewisboro Library - ECPv6.15.20//NONSGML v1.0//EN
CALSCALE:GREGORIAN
METHOD:PUBLISH
X-ORIGINAL-URL:https://lewisborolibrary.org
X-WR-CALDESC:Events for Lewisboro Library
REFRESH-INTERVAL;VALUE=DURATION:PT1H
X-Robots-Tag:noindex
X-PUBLISHED-TTL:PT1H
BEGIN:VTIMEZONE
TZID:America/New_York
BEGIN:DAYLIGHT
TZOFFSETFROM:-0500
TZOFFSETTO:-0400
TZNAME:EDT
DTSTART:20240310T070000
END:DAYLIGHT
BEGIN:STANDARD
TZOFFSETFROM:-0400
TZOFFSETTO:-0500
TZNAME:EST
DTSTART:20241103T060000
END:STANDARD
BEGIN:DAYLIGHT
TZOFFSETFROM:-0500
TZOFFSETTO:-0400
TZNAME:EDT
DTSTART:20250309T070000
END:DAYLIGHT
BEGIN:STANDARD
TZOFFSETFROM:-0400
TZOFFSETTO:-0500
TZNAME:EST
DTSTART:20251102T060000
END:STANDARD
BEGIN:DAYLIGHT
TZOFFSETFROM:-0500
TZOFFSETTO:-0400
TZNAME:EDT
DTSTART:20260308T070000
END:DAYLIGHT
BEGIN:STANDARD
TZOFFSETFROM:-0400
TZOFFSETTO:-0500
TZNAME:EST
DTSTART:20261101T060000
END:STANDARD
END:VTIMEZONE
BEGIN:VEVENT
DTSTART;TZID=America/New_York:20251216T190000
DTEND;TZID=America/New_York:20251216T200000
DTSTAMP:20260424T103427
CREATED:20251128T205610Z
LAST-MODIFIED:20251128T205610Z
UID:36833-1765911600-1765915200@lewisborolibrary.org
SUMMARY:(Virtual) An Evening with Jane Austen
DESCRIPTION:Via Zoom \nDecember 16 is Jane Austen’s 250th birthday! \nJoin us for an online discussion with author\, Janet Lewis Saidi Jane Austen: the Original Romance Novelist\, and Tabrizia Jones\, author of the blog “cup of tea with that book\, please.”\n\n\nDon’t miss this event\, which promises to be a fun\, accessible overview of Austen’s life and the importance of her writing.\n\n\nPlease register for your Zoom link HERE.\n\n\n\n\nZOOM Info:\n\nhttps://northcastleny.zoom.us/j/81039218982?pwd=uInjRJ1OJhcQmHZo3h7kugN1YxDRAg.1\nMeeting ID: 810 3921 8982\nPasscode: 976773
URL:https://lewisborolibrary.org/event/virtual-an-evening-with-jane-austen/
CATEGORIES:Adult
ATTACH;FMTTYPE=image/jpeg:https://lewisborolibrary.org/wp-content/uploads/2025/11/251216-Jane-Austen.jpg
END:VEVENT
END:VCALENDAR