BEGIN:VCALENDAR
VERSION:2.0
PRODID:-//Lewisboro Library - ECPv6.15.20//NONSGML v1.0//EN
CALSCALE:GREGORIAN
METHOD:PUBLISH
X-ORIGINAL-URL:https://lewisborolibrary.org
X-WR-CALDESC:Events for Lewisboro Library
REFRESH-INTERVAL;VALUE=DURATION:PT1H
X-Robots-Tag:noindex
X-PUBLISHED-TTL:PT1H
BEGIN:VTIMEZONE
TZID:America/New_York
BEGIN:DAYLIGHT
TZOFFSETFROM:-0500
TZOFFSETTO:-0400
TZNAME:EDT
DTSTART:20240310T070000
END:DAYLIGHT
BEGIN:STANDARD
TZOFFSETFROM:-0400
TZOFFSETTO:-0500
TZNAME:EST
DTSTART:20241103T060000
END:STANDARD
BEGIN:DAYLIGHT
TZOFFSETFROM:-0500
TZOFFSETTO:-0400
TZNAME:EDT
DTSTART:20250309T070000
END:DAYLIGHT
BEGIN:STANDARD
TZOFFSETFROM:-0400
TZOFFSETTO:-0500
TZNAME:EST
DTSTART:20251102T060000
END:STANDARD
BEGIN:DAYLIGHT
TZOFFSETFROM:-0500
TZOFFSETTO:-0400
TZNAME:EDT
DTSTART:20260308T070000
END:DAYLIGHT
BEGIN:STANDARD
TZOFFSETFROM:-0400
TZOFFSETTO:-0500
TZNAME:EST
DTSTART:20261101T060000
END:STANDARD
END:VTIMEZONE
BEGIN:VEVENT
DTSTART;TZID=America/New_York:20250924T110000
DTEND;TZID=America/New_York:20250924T120000
DTSTAMP:20260423T093523
CREATED:20250818T205401Z
LAST-MODIFIED:20250911T152616Z
UID:34896-1758711600-1758715200@lewisborolibrary.org
SUMMARY:Lewisboro Seniors Book Group: "The Frozen River"
DESCRIPTION:Our group meets in person on (usually) the third Wednesday of the month during the Lewisboro Senior Adults meeting at the Stevens Memorial United Methodist Church. The church is located at 9 Shady Lane\, South Salem All seniors are welcome! \nThis month the group will be discussing The Frozen River\, by Ariel Lawhon. This gripping historical mystery is inspired by the life and diary of Martha Ballard\, a renowned 18th-century midwife who investigates a shocking murder that unhinges her small community. \nThe Library will provide copies of the book to all participants. Large print copies are also available upon request. Please contact the Library if you need a copy of the book – (914) 875-9004 or info@lewisborolibrary.org. The book is also available as an eBook and audiobook via Overdrive/Libby.
URL:https://lewisborolibrary.org/event/lewisboro-seniors-book-group-the-frozen-river/
CATEGORIES:Adult
ATTACH;FMTTYPE=image/jpeg:https://lewisborolibrary.org/wp-content/uploads/2025/08/250917-Senior-Book-Frozen-River.jpg
END:VEVENT
BEGIN:VEVENT
DTSTART;TZID=America/New_York:20250924T193000
DTEND;TZID=America/New_York:20250924T203000
DTSTAMP:20260423T093523
CREATED:20250818T205944Z
LAST-MODIFIED:20250818T205944Z
UID:34898-1758742200-1758745800@lewisborolibrary.org
SUMMARY:Lewisboro Library Book Group: "Small Mercies"
DESCRIPTION:The Lewisboro Library Book Group meets at the Library on the last Wednesday of each month at 7:30 p.m. \nThis month the group will be discussing the Small Mercies by Dennis Lehane. The novel is set in Boston in summer 1974\, during the tense days approaching the start of the school year at the height of the Boston busing crisis\, when the city’s desegregation of its public schools exploded in violence. \nBooks are available through the Westchester Library System and copies are often ordered in advance for members to pick up at the Library. New members are always welcome in this adult\, co-ed book group. For more information contact Myrna or Steve Shomstein at (914) 533-2550.
URL:https://lewisborolibrary.org/event/lewisboro-library-book-group-small-mercies/
CATEGORIES:Adult
ATTACH;FMTTYPE=image/jpeg:https://lewisborolibrary.org/wp-content/uploads/2025/08/250924-LL-Book-Group-SMall-Mercies.jpg
END:VEVENT
END:VCALENDAR