BEGIN:VCALENDAR
VERSION:2.0
PRODID:-//Lewisboro Library - ECPv6.15.20//NONSGML v1.0//EN
CALSCALE:GREGORIAN
METHOD:PUBLISH
X-ORIGINAL-URL:https://lewisborolibrary.org
X-WR-CALDESC:Events for Lewisboro Library
REFRESH-INTERVAL;VALUE=DURATION:PT1H
X-Robots-Tag:noindex
X-PUBLISHED-TTL:PT1H
BEGIN:VTIMEZONE
TZID:America/New_York
BEGIN:DAYLIGHT
TZOFFSETFROM:-0500
TZOFFSETTO:-0400
TZNAME:EDT
DTSTART:20240310T070000
END:DAYLIGHT
BEGIN:STANDARD
TZOFFSETFROM:-0400
TZOFFSETTO:-0500
TZNAME:EST
DTSTART:20241103T060000
END:STANDARD
BEGIN:DAYLIGHT
TZOFFSETFROM:-0500
TZOFFSETTO:-0400
TZNAME:EDT
DTSTART:20250309T070000
END:DAYLIGHT
BEGIN:STANDARD
TZOFFSETFROM:-0400
TZOFFSETTO:-0500
TZNAME:EST
DTSTART:20251102T060000
END:STANDARD
BEGIN:DAYLIGHT
TZOFFSETFROM:-0500
TZOFFSETTO:-0400
TZNAME:EDT
DTSTART:20260308T070000
END:DAYLIGHT
BEGIN:STANDARD
TZOFFSETFROM:-0400
TZOFFSETTO:-0500
TZNAME:EST
DTSTART:20261101T060000
END:STANDARD
END:VTIMEZONE
BEGIN:VEVENT
DTSTART;TZID=America/New_York:20250920T100000
DTEND;TZID=America/New_York:20250920T160000
DTSTAMP:20260422T163458
CREATED:20250730T204124Z
LAST-MODIFIED:20250730T204124Z
UID:34555-1758362400-1758384000@lewisborolibrary.org
SUMMARY:Lewisboro Library Fair at Onatru Farm
DESCRIPTION:The annual Lewisboro Library Fair is back! The Fair will be held rain or shine\, on Saturday\, September 20 from 10 am to 4 pm at Onatru Farm Park (99 Elmwood Road in South Salem). \nThe Library Fair is one of the largest community events in Lewisboro and truly has something for everyone – a car show\, great music\, a fun filled kids’ zone\, silent auction\, food trucks\, dunk tank\, a beer and wine garden and tons of shopping at the Book Sales\, Attic Treasures and vendor booths! \nFor complete details\, please click HERE. \n  \n \n 
URL:https://lewisborolibrary.org/event/lewisboro-library-fair-at-onatru-farm-3/
CATEGORIES:Adult
ATTACH;FMTTYPE=image/jpeg:https://lewisborolibrary.org/wp-content/uploads/2025/07/fair-collage-2-.jpg
END:VEVENT
END:VCALENDAR