BEGIN:VCALENDAR
VERSION:2.0
PRODID:-//Lewisboro Library - ECPv6.15.18//NONSGML v1.0//EN
CALSCALE:GREGORIAN
METHOD:PUBLISH
X-ORIGINAL-URL:https://lewisborolibrary.org
X-WR-CALDESC:Events for Lewisboro Library
REFRESH-INTERVAL;VALUE=DURATION:PT1H
X-Robots-Tag:noindex
X-PUBLISHED-TTL:PT1H
BEGIN:VTIMEZONE
TZID:America/New_York
BEGIN:DAYLIGHT
TZOFFSETFROM:-0500
TZOFFSETTO:-0400
TZNAME:EDT
DTSTART:20240310T070000
END:DAYLIGHT
BEGIN:STANDARD
TZOFFSETFROM:-0400
TZOFFSETTO:-0500
TZNAME:EST
DTSTART:20241103T060000
END:STANDARD
BEGIN:DAYLIGHT
TZOFFSETFROM:-0500
TZOFFSETTO:-0400
TZNAME:EDT
DTSTART:20250309T070000
END:DAYLIGHT
BEGIN:STANDARD
TZOFFSETFROM:-0400
TZOFFSETTO:-0500
TZNAME:EST
DTSTART:20251102T060000
END:STANDARD
BEGIN:DAYLIGHT
TZOFFSETFROM:-0500
TZOFFSETTO:-0400
TZNAME:EDT
DTSTART:20260308T070000
END:DAYLIGHT
BEGIN:STANDARD
TZOFFSETFROM:-0400
TZOFFSETTO:-0500
TZNAME:EST
DTSTART:20261101T060000
END:STANDARD
END:VTIMEZONE
BEGIN:VEVENT
DTSTART;TZID=America/New_York:20250919T100000
DTEND;TZID=America/New_York:20250919T140000
DTSTAMP:20260419T181630
CREATED:20250820T174440Z
LAST-MODIFIED:20250820T174440Z
UID:35004-1758276000-1758290400@lewisborolibrary.org
SUMMARY:Library Fair Attic Treasures Pre-Sale*
DESCRIPTION:The Lewisboro Library Fair Pre-Sales take place at Onatru Farm (99 Elmwood Road in South Salem). \nShoppers who can’t wait for Fair Day can pay $25 to get early access to shopping at Attic Treasures today from 10 am to 2 pm. \nVIP Ticket Holders are admitted free of charge. \nClick HERE for Fair details and info on purchasing VIP Tickets.
URL:https://lewisborolibrary.org/event/library-fair-attic-treasures-pre-sale-2/
CATEGORIES:Adult
ATTACH;FMTTYPE=image/jpeg:https://lewisborolibrary.org/wp-content/uploads/2024/09/attic-treasures-checkout.jpg
END:VEVENT
BEGIN:VEVENT
DTSTART;TZID=America/New_York:20250919T100000
DTEND;TZID=America/New_York:20250919T140000
DTSTAMP:20260419T181630
CREATED:20250820T174929Z
LAST-MODIFIED:20250820T174929Z
UID:35010-1758276000-1758290400@lewisborolibrary.org
SUMMARY:Library Fair Books Pre-Sale
DESCRIPTION:The Lewisboro Library Fair Book Pre-Sale continues today at Onatru Farm (99 Elmwood Road in South Salem). Stop by to browse our adult\, children and young adult sections.\n \nAdmission is free for everyone.
URL:https://lewisborolibrary.org/event/library-fair-books-pre-sale-2/
CATEGORIES:Adult
ATTACH;FMTTYPE=image/jpeg:https://lewisborolibrary.org/wp-content/uploads/2024/08/books-presale.jpg
END:VEVENT
BEGIN:VEVENT
DTSTART;TZID=America/New_York:20250919T130000
DTEND;TZID=America/New_York:20250919T143000
DTSTAMP:20260419T181630
CREATED:20220926T221659Z
LAST-MODIFIED:20220926T221659Z
UID:30144-1758286800-1758292200@lewisborolibrary.org
SUMMARY:Stitch Together
DESCRIPTION:This casual\, weekly gathering of those who knit/crochet and chat meets in the conference room during the winter\, and outside on the Library patio when weather permits.\n \nCatch up on people’s craft projects and what is going on in Town – and beyond. Bring a project\, and a chair when outside! \nIf interested in being on the contact list\, email info@lewisborolibrary.org.
URL:https://lewisborolibrary.org/event/stitch-together-31-2024-07-05/2025-09-19/
CATEGORIES:Adult
ATTACH;FMTTYPE=image/jpeg:https://lewisborolibrary.org/wp-content/uploads/2021/01/210514-Stitch2Gether-compressed.jpg
END:VEVENT
END:VCALENDAR