BEGIN:VCALENDAR
VERSION:2.0
PRODID:-//Lewisboro Library - ECPv6.15.20//NONSGML v1.0//EN
CALSCALE:GREGORIAN
METHOD:PUBLISH
X-WR-CALNAME:Lewisboro Library
X-ORIGINAL-URL:https://lewisborolibrary.org
X-WR-CALDESC:Events for Lewisboro Library
REFRESH-INTERVAL;VALUE=DURATION:PT1H
X-Robots-Tag:noindex
X-PUBLISHED-TTL:PT1H
BEGIN:VTIMEZONE
TZID:America/New_York
BEGIN:DAYLIGHT
TZOFFSETFROM:-0500
TZOFFSETTO:-0400
TZNAME:EDT
DTSTART:20240310T070000
END:DAYLIGHT
BEGIN:STANDARD
TZOFFSETFROM:-0400
TZOFFSETTO:-0500
TZNAME:EST
DTSTART:20241103T060000
END:STANDARD
BEGIN:DAYLIGHT
TZOFFSETFROM:-0500
TZOFFSETTO:-0400
TZNAME:EDT
DTSTART:20250309T070000
END:DAYLIGHT
BEGIN:STANDARD
TZOFFSETFROM:-0400
TZOFFSETTO:-0500
TZNAME:EST
DTSTART:20251102T060000
END:STANDARD
BEGIN:DAYLIGHT
TZOFFSETFROM:-0500
TZOFFSETTO:-0400
TZNAME:EDT
DTSTART:20260308T070000
END:DAYLIGHT
BEGIN:STANDARD
TZOFFSETFROM:-0400
TZOFFSETTO:-0500
TZNAME:EST
DTSTART:20261101T060000
END:STANDARD
END:VTIMEZONE
BEGIN:VEVENT
DTSTART;TZID=America/New_York:20250820T190000
DTEND;TZID=America/New_York:20250820T200000
DTSTAMP:20260421T174344
CREATED:20250710T174446Z
LAST-MODIFIED:20250814T154340Z
UID:34233-1755716400-1755720000@lewisborolibrary.org
SUMMARY:Unlocking the Secrets of Social Security: What you Need to Know Before you Claim
DESCRIPTION:This class is for anyone who hasn’t yet started collecting Social Security and wants to make a smart\, informed choice about when and how to claim benefits. \n\nSocial Security is not one-size-fits-all. Everyone’s situation is different—and if you understand the rules\, you can decide what’s truly best for you.\n\n\n\nSocial Security is complicated—and the new Social Security Fairness Act of 2025 could change the rules even more. We’ll explain everything in plain\, easy-to-understand language and walk through real-life case studies so you can see how different decisions play out. You’ll learn how key factors like your age\, marital status\, work history\, and long-term goals affect your benefits—and how to avoid common and costly mistakes.\n\n\n\nWe’ll cover: How spousal and survivor benefits really work\, what the new law could mean for your Social Security\, and the pros and cons of different claiming strategies. Whether you’re single\, married\, divorced\, or widowed\, this session will give you the confidence and clarity you need to make the best Social Security decision for you.\n\n\n\nThe seminar will be led by Lucretia Ryan\, of FinancialFreedomforWomen.org. She is a financial writer\, educator\, and philanthropist\, dedicated to helping women make financial decisions that are in their best interest.\n\n\n  \nPlease register below. We often get last-minute cancellations\, so please email the Library to get on the waitlist – info@lewisborolibrary.org.
URL:https://lewisborolibrary.org/event/unlocking-the-secrets-of-social-security-what-you-need-to-know-before-you-claim/
CATEGORIES:Adult
ATTACH;FMTTYPE=image/jpeg:https://lewisborolibrary.org/wp-content/uploads/2025/07/250820-SOcial-Security.jpg
END:VEVENT
END:VCALENDAR