BEGIN:VCALENDAR
VERSION:2.0
PRODID:-//Lewisboro Library - ECPv6.15.20//NONSGML v1.0//EN
CALSCALE:GREGORIAN
METHOD:PUBLISH
X-WR-CALNAME:Lewisboro Library
X-ORIGINAL-URL:https://lewisborolibrary.org
X-WR-CALDESC:Events for Lewisboro Library
REFRESH-INTERVAL;VALUE=DURATION:PT1H
X-Robots-Tag:noindex
X-PUBLISHED-TTL:PT1H
BEGIN:VTIMEZONE
TZID:America/New_York
BEGIN:DAYLIGHT
TZOFFSETFROM:-0500
TZOFFSETTO:-0400
TZNAME:EDT
DTSTART:20240310T070000
END:DAYLIGHT
BEGIN:STANDARD
TZOFFSETFROM:-0400
TZOFFSETTO:-0500
TZNAME:EST
DTSTART:20241103T060000
END:STANDARD
BEGIN:DAYLIGHT
TZOFFSETFROM:-0500
TZOFFSETTO:-0400
TZNAME:EDT
DTSTART:20250309T070000
END:DAYLIGHT
BEGIN:STANDARD
TZOFFSETFROM:-0400
TZOFFSETTO:-0500
TZNAME:EST
DTSTART:20251102T060000
END:STANDARD
BEGIN:DAYLIGHT
TZOFFSETFROM:-0500
TZOFFSETTO:-0400
TZNAME:EDT
DTSTART:20260308T070000
END:DAYLIGHT
BEGIN:STANDARD
TZOFFSETFROM:-0400
TZOFFSETTO:-0500
TZNAME:EST
DTSTART:20261101T060000
END:STANDARD
END:VTIMEZONE
BEGIN:VEVENT
DTSTART;TZID=America/New_York:20250819T183000
DTEND;TZID=America/New_York:20250819T200000
DTSTAMP:20260425T102309
CREATED:20250625T201911Z
LAST-MODIFIED:20250625T202740Z
UID:33973-1755628200-1755633600@lewisborolibrary.org
SUMMARY:Mahjong for Beginners
DESCRIPTION:Have you always wanted to learn Mahjong? This 4-week session\, led by Donna Pirro\, will meet on Tuesday evenings from July 29 – August 19. It will give you the basic skills to start playing. \nThe Library owns Mahjong tiles\, which will be used for the class.  You will need your own Mahjong card to play.\n\n\n\nPlease order a 2025 Mahjong card as soon as possible\, so it arrives before the first class.  It can be ordered at https://www.nationalmahjonggleague.org/store.aspx#\n  \nThis is NOT a drop-in program\, registration is required. There are a limited number of spaces since we already had names on our waitlist from the last session. \nPlease register on the webpage for the first class on July 29. If registration is full\, you can email the Library to be placed on the waitlist for the next session – info@lewisborolibrary.org.
URL:https://lewisborolibrary.org/event/mahjong-for-beginners-12-2025-08-05/2025-08-19/
CATEGORIES:Adult
ATTACH;FMTTYPE=image/jpeg:https://lewisborolibrary.org/wp-content/uploads/2022/05/mahjong-compressed.jpg
END:VEVENT
END:VCALENDAR