BEGIN:VCALENDAR
VERSION:2.0
PRODID:-//Lewisboro Library - ECPv6.15.20//NONSGML v1.0//EN
CALSCALE:GREGORIAN
METHOD:PUBLISH
X-WR-CALNAME:Lewisboro Library
X-ORIGINAL-URL:https://lewisborolibrary.org
X-WR-CALDESC:Events for Lewisboro Library
REFRESH-INTERVAL;VALUE=DURATION:PT1H
X-Robots-Tag:noindex
X-PUBLISHED-TTL:PT1H
BEGIN:VTIMEZONE
TZID:America/New_York
BEGIN:DAYLIGHT
TZOFFSETFROM:-0500
TZOFFSETTO:-0400
TZNAME:EDT
DTSTART:20240310T070000
END:DAYLIGHT
BEGIN:STANDARD
TZOFFSETFROM:-0400
TZOFFSETTO:-0500
TZNAME:EST
DTSTART:20241103T060000
END:STANDARD
BEGIN:DAYLIGHT
TZOFFSETFROM:-0500
TZOFFSETTO:-0400
TZNAME:EDT
DTSTART:20250309T070000
END:DAYLIGHT
BEGIN:STANDARD
TZOFFSETFROM:-0400
TZOFFSETTO:-0500
TZNAME:EST
DTSTART:20251102T060000
END:STANDARD
BEGIN:DAYLIGHT
TZOFFSETFROM:-0500
TZOFFSETTO:-0400
TZNAME:EDT
DTSTART:20260308T070000
END:DAYLIGHT
BEGIN:STANDARD
TZOFFSETFROM:-0400
TZOFFSETTO:-0500
TZNAME:EST
DTSTART:20261101T060000
END:STANDARD
END:VTIMEZONE
BEGIN:VEVENT
DTSTART;TZID=America/New_York:20250728T130000
DTEND;TZID=America/New_York:20250728T150000
DTSTAMP:20260424T232022
CREATED:20250617T215022Z
LAST-MODIFIED:20250617T215022Z
UID:33672-1753707600-1753714800@lewisborolibrary.org
SUMMARY:Afternoon Film Series: The Ballad of Wallis Island
DESCRIPTION:An estranged folk band duo (and former couple) are unexpectedly thrown back together for a gig. Unbeknownst to them\, the audience consists of just one man –  a wealthy\, eccentric\, and delightfully quirky recluse who has used his considerable resources to orchestrate a private reunion of his favorite musicians on a remote British island. \nPlease register below.
URL:https://lewisborolibrary.org/event/afternoon-film-series-the-ballad-of-wallis-island/
CATEGORIES:Adult
ATTACH;FMTTYPE=image/jpeg:https://lewisborolibrary.org/wp-content/uploads/2025/06/250727-Film-the-ballad-of-wallis-island.jpg
END:VEVENT
END:VCALENDAR