BEGIN:VCALENDAR
VERSION:2.0
PRODID:-//Lewisboro Library - ECPv6.15.20//NONSGML v1.0//EN
CALSCALE:GREGORIAN
METHOD:PUBLISH
X-ORIGINAL-URL:https://lewisborolibrary.org
X-WR-CALDESC:Events for Lewisboro Library
REFRESH-INTERVAL;VALUE=DURATION:PT1H
X-Robots-Tag:noindex
X-PUBLISHED-TTL:PT1H
BEGIN:VTIMEZONE
TZID:America/New_York
BEGIN:DAYLIGHT
TZOFFSETFROM:-0500
TZOFFSETTO:-0400
TZNAME:EDT
DTSTART:20240310T070000
END:DAYLIGHT
BEGIN:STANDARD
TZOFFSETFROM:-0400
TZOFFSETTO:-0500
TZNAME:EST
DTSTART:20241103T060000
END:STANDARD
BEGIN:DAYLIGHT
TZOFFSETFROM:-0500
TZOFFSETTO:-0400
TZNAME:EDT
DTSTART:20250309T070000
END:DAYLIGHT
BEGIN:STANDARD
TZOFFSETFROM:-0400
TZOFFSETTO:-0500
TZNAME:EST
DTSTART:20251102T060000
END:STANDARD
BEGIN:DAYLIGHT
TZOFFSETFROM:-0500
TZOFFSETTO:-0400
TZNAME:EDT
DTSTART:20260308T070000
END:DAYLIGHT
BEGIN:STANDARD
TZOFFSETFROM:-0400
TZOFFSETTO:-0500
TZNAME:EST
DTSTART:20261101T060000
END:STANDARD
END:VTIMEZONE
BEGIN:VEVENT
DTSTART;TZID=America/New_York:20250503T193000
DTEND;TZID=America/New_York:20250503T213000
DTSTAMP:20260425T133206
CREATED:20250402T191538Z
LAST-MODIFIED:20250430T174830Z
UID:32447-1746300600-1746307800@lewisborolibrary.org
SUMMARY:Pluck & Rail in Concert!
DESCRIPTION:The Nightclub@Lewisboro Library is thrilled to welcome back “Pluck & Rail” for another ‘Music in the Stacks’ concert on Saturday\, May 3 at 7:30 pm! \n“Pluck & Rail” members George Gierer and Andrew Sussman blend together gritty songwriting\, tight vocal melodies and soaring cello runs to craft their unique sound. Their live performances blister with a passion and energy not often seen in acoustic music\, as they back their vocals with everything from guitar to banjo to cello to violin. For an extra-special evening\, they’ll be bringing along guests Zach Swanson on bass\, Steve Uh on violin\, Nick Lieto on Trumpet and Caitlin Pfisterer on piano. These outstanding musicians guarantee a musical event not to be missed! \nSince forming\, Pluck & Rail have been featured performers at the The Long Island Bluegrass Festival\, the Rock n’ Roots Music Festival\, The Great Eastern Music Festival\, The Ridgefield Playhouse\, Daryl’s House\, The Towne Crier\, The Hurdy Gurdy Folk Music Club\, and opened for the Steep Canyon Rangers\, Sarah Shook and Red Molly. \nReserved seating is $45 per person. Price includes refreshments\, light bites courtesy of Bakehouse on Village\, the Horse & Hound and Lily’s Deli & Market\, beer courtesy of the Captain Lawrence Barrel House  and wine courtesy of Folkways Wines. The evening also includes a special bourbon tasting by Tracey Eden of Flew the Coupe Cocktails\, who will be sampling an array of bourbons\, courtesy of Bardstown Bourbon Company. Doors will open at 7:00 pm. \nThis event is a benefit for the Lewisboro Library. Thank you to our generous sponsors! \nMake your reservations now for this exhilarating concert – before it sells out! Paid reservations can be made in person at the Library\, or by clicking on this LINK.
URL:https://lewisborolibrary.org/event/pluck-rail-in-concert/
CATEGORIES:Adult
ATTACH;FMTTYPE=image/jpeg:https://lewisborolibrary.org/wp-content/uploads/2025/04/250503-Pluck-Rail-cropped-website.jpg
END:VEVENT
END:VCALENDAR