BEGIN:VCALENDAR
VERSION:2.0
PRODID:-//Lewisboro Library - ECPv6.15.20//NONSGML v1.0//EN
CALSCALE:GREGORIAN
METHOD:PUBLISH
X-WR-CALNAME:Lewisboro Library
X-ORIGINAL-URL:https://lewisborolibrary.org
X-WR-CALDESC:Events for Lewisboro Library
REFRESH-INTERVAL;VALUE=DURATION:PT1H
X-Robots-Tag:noindex
X-PUBLISHED-TTL:PT1H
BEGIN:VTIMEZONE
TZID:America/New_York
BEGIN:DAYLIGHT
TZOFFSETFROM:-0500
TZOFFSETTO:-0400
TZNAME:EDT
DTSTART:20240310T070000
END:DAYLIGHT
BEGIN:STANDARD
TZOFFSETFROM:-0400
TZOFFSETTO:-0500
TZNAME:EST
DTSTART:20241103T060000
END:STANDARD
BEGIN:DAYLIGHT
TZOFFSETFROM:-0500
TZOFFSETTO:-0400
TZNAME:EDT
DTSTART:20250309T070000
END:DAYLIGHT
BEGIN:STANDARD
TZOFFSETFROM:-0400
TZOFFSETTO:-0500
TZNAME:EST
DTSTART:20251102T060000
END:STANDARD
BEGIN:DAYLIGHT
TZOFFSETFROM:-0500
TZOFFSETTO:-0400
TZNAME:EDT
DTSTART:20260308T070000
END:DAYLIGHT
BEGIN:STANDARD
TZOFFSETFROM:-0400
TZOFFSETTO:-0500
TZNAME:EST
DTSTART:20261101T060000
END:STANDARD
END:VTIMEZONE
BEGIN:VEVENT
DTSTART;TZID=America/New_York:20250125T150000
DTEND;TZID=America/New_York:20250125T160000
DTSTAMP:20260424T191825
CREATED:20241220T204036Z
LAST-MODIFIED:20250120T174412Z
UID:30639-1737817200-1737820800@lewisborolibrary.org
SUMMARY:Poems of Winter: Reading & Discussion
DESCRIPTION:This is the make-up date for the program snowed-out on January 19.\n\n\nWhat is revealed when we see our lives through the lens of winter?  Selected poems exemplify some of the ways poets have reflected on this question.\n\n\n  \nThe session will be geared toward discussion\, and everyone is encouraged to take part. The Library will provide copies of the poems. \nOur poetry discussions are led by David Sanders\, a retired Professor of English and resident of South Salem. \nPlease register below. If the program is full you may email the Library to be placed on the wait list – info@lewisborolibrary.org.
URL:https://lewisborolibrary.org/event/poems-of-winter-reading-discussion-2/
CATEGORIES:Adult
ATTACH;FMTTYPE=image/jpeg:https://lewisborolibrary.org/wp-content/uploads/2024/01/240225-Poems-of-Winter-Robert-Frost-compressed.jpg
END:VEVENT
END:VCALENDAR