BEGIN:VCALENDAR
VERSION:2.0
PRODID:-//Lewisboro Library - ECPv6.15.20//NONSGML v1.0//EN
CALSCALE:GREGORIAN
METHOD:PUBLISH
X-WR-CALNAME:Lewisboro Library
X-ORIGINAL-URL:https://lewisborolibrary.org
X-WR-CALDESC:Events for Lewisboro Library
REFRESH-INTERVAL;VALUE=DURATION:PT1H
X-Robots-Tag:noindex
X-PUBLISHED-TTL:PT1H
BEGIN:VTIMEZONE
TZID:America/New_York
BEGIN:DAYLIGHT
TZOFFSETFROM:-0500
TZOFFSETTO:-0400
TZNAME:EDT
DTSTART:20240310T070000
END:DAYLIGHT
BEGIN:STANDARD
TZOFFSETFROM:-0400
TZOFFSETTO:-0500
TZNAME:EST
DTSTART:20241103T060000
END:STANDARD
BEGIN:DAYLIGHT
TZOFFSETFROM:-0500
TZOFFSETTO:-0400
TZNAME:EDT
DTSTART:20250309T070000
END:DAYLIGHT
BEGIN:STANDARD
TZOFFSETFROM:-0400
TZOFFSETTO:-0500
TZNAME:EST
DTSTART:20251102T060000
END:STANDARD
BEGIN:DAYLIGHT
TZOFFSETFROM:-0500
TZOFFSETTO:-0400
TZNAME:EDT
DTSTART:20260308T070000
END:DAYLIGHT
BEGIN:STANDARD
TZOFFSETFROM:-0400
TZOFFSETTO:-0500
TZNAME:EST
DTSTART:20261101T060000
END:STANDARD
END:VTIMEZONE
BEGIN:VEVENT
DTSTART;TZID=America/New_York:20250110T193000
DTEND;TZID=America/New_York:20250110T213000
DTSTAMP:20260424T191901
CREATED:20241203T225503Z
LAST-MODIFIED:20250104T225703Z
UID:30314-1736537400-1736544600@lewisborolibrary.org
SUMMARY:In Concert: Jay Prince & Friends
DESCRIPTION:We’re going to raise the roof in January – this time with a concert featuring popular favorite Jay Prince & Friends! \nA Hudson Valley legend\, guitarist and vocalist Jay Prince has been packing houses full of smiling music lovers for as long as anyone can remember. Known for his soulful style and impeccable taste in material\, you can expect an evening of rockin\, bluesy\, familiar good times. In addition to Jay on guitar & vocals\, the band features Bill Heller on keyboard & vocals\, Tyger MacNeal on drums\, Dave Anderson on bass and Chris Eminizer on sax and vocals – plus special guest vocalist Christine Tambakis! \nMembers of the band have performed with: Roberta Flack\, Luther Vandross\, Bruce Springsteen\, Ashford & Simpson\, Rippingtons\, Michael McDonald\, Bernie Williams\, Paul Simon\, Janet Jackson\, Keith Urban\, Average White Band\, Jose Feliciano\, Donna Summer & many more. With a killer band like this\, you know you’re in for a great night! \nReserved seating is $45 per person. Wine\, beer and light bites are included. Doors will open at 7:00 pm for the 7:30 show. \nMake your reservations now while there are still seats – they always sell out fast! Paid reservations can be made in person at the Library or online by using the “Buy Now” button below. When you click on the box above the “Buy Now” button\, you can elect to pay $45.00\, or $46.40 to cover the credit card processing fee and enhance your donation. \nThis event is a benefit for the Lewisboro Library. Thank you to our sponsors\, The Horse & Hound and Lily’s Deli & Market for providing light bites\, and Cross River Wine Merchant for a select wine tasting. We so appreciate their ongoing support of the Library! \nIn the case of inclement weather\, the concert will be postponed to January 24. \n  \n\n\n\n Jay Prince & Friends Payment Options\n\n\nTicket Plus Processing Fees $46.40 USDTicket Only $45.00 USD
URL:https://lewisborolibrary.org/event/in-concert-jay-prince-friends/
CATEGORIES:Adult
ATTACH;FMTTYPE=image/jpeg:https://lewisborolibrary.org/wp-content/uploads/2024/12/250110-Jay-Prince-solo.jpg
END:VEVENT
END:VCALENDAR